{"text_format":"2","workbook":"xlsx","n_sheets":3,"sheets":["원가계산서","공종별집계표","공종별내역서"],"not_rendered":{"charts":0,"images":0,"macros":0,"external_links":24,"defined_names":1450,"comments":0,"pivot_tables":0},"unopened":[],"bounds":{"document_bytes":16777216,"sheet_cells":100000,"run_cost":"one","rows_first":2000,"rows_last":500,"rows_between":2000,"halvings":0,"cell_chars":16384,"cell_head_chars":4096},"cells_cut":0,"cells_raw":0,"read":"whole","date_system":"1900"}

{"sheet":"원가계산서","index":0,"n_rows":32,"n_cols":17,"rows_kept":32,"cut":false,"hidden":false,"merged":[[25,0,25,2],[26,0,26,2],[27,0,27,2],[28,0,28,2],[0,0,0,12],[21,0,21,2],[22,0,22,2],[23,0,23,2],[2,0,2,2],[2,3,2,5],[2,6,2,10],[2,11,2,12],[1,0,1,4],[24,0,24,2]]}
["공    사    원    가    계    산    서"]
[{"$f":"공종별집계표!A2","v":" 공사명 : 부천대학교 소사캠퍼스 강의실 공간조정공사"}]
["비             목",null,null,"금                            액",null,null,"구         성        비",{"$nulls":4},"비        고"]
[null,"재","직   접    재   료   비",null,{"$f":"공종별집계표!F27","v":0}]
[null,"료","간   접    재   료   비",null,0]
["순","비","작업설 ,부산물등(△)",null,0]
[null,null,"[ 소                 계 ]",null,{"$f":"SUM(E4:E6)","v":0}]
[null,"노","직   접    노   무   비",null,{"$f":"공종별집계표!H27","v":0}]
[null,"무","간   접    노   무   비",null,{"$f":"E8*I9","v":0},null,"직접노무비","×",0.13]
["공","비","[ 소                 계 ]",null,{"$f":"SUM(E8:E9)","v":0}]
[null,null,"기     계     경     비",null,{"$f":"공종별집계표!J27","v":0}]
[null,null,"산   재   보   험   료",null,{"$f":"E10*I12","v":0},null,"노무비","×",3.6999999999999998E-2]
["사","경","고   용   보   험   료",null,{"$f":"E10*I13","v":0},null,"노무비","×",1.01E-2]
[null,null,"건   강   보   험   료",{"$nulls":12}," "]
[null,null,"연   금   보   험   료"]
[null,null,"퇴 직 공 제 부 금 비",null,0]
["원",null,"산 업 안 전  보 건 비",null,{"$f":"(E7+E8)*I17","v":0},null,"(재료비+직접노무비)","×",2.93E-2]
[null,null,"기     타     경     비",null,{"$f":"(E7+E10)*I18","v":0},null,"(재료비+노무비)","×",5.8000000000000003E-2]
[null,"비","공사이행 보증수수료",null,0]
["가",null,"하도급대금지급보증서발급수수료"]
[null,null,"[ 소                계 ]",null,{"$f":"SUM(E11:E20)","v":0}]
["계",null,null,null,{"$f":"E21+E10+E7","v":0}]
["일     반     관      리      비",null,null,null,{"$f":"(E7+E10+E21)*I23","v":0},null,"(재료+노무+경비)","×",0.06]
["이                               윤",null,null,null,{"$f":"(E10+E21+E23)*I24","v":0},null,"(노무+경비+일관)","×",0.15,{"$nulls":7}," "]
["페    기    물    처    리    비"]
["공        급         가        액",null,null,null,{"$f":"TRUNC(E25+E24+E23+E22-G26)","v":0},null,null,"원","절사"]
["부      가     가     치      세",null,null,null,{"$f":"E26*I27","v":0},null,"공급가액","×",0.1]
["[총         공         사           비]",null,null,null,{"$f":"E26+E27-0","v":0}]
[]
[]
[]
[{"$nulls":10}," "]

{"sheet":"공종별집계표","index":1,"n_rows":27,"n_cols":20,"rows_kept":27,"cut":false,"hidden":false,"merged":[[0,0,0,12],[1,0,1,12],[2,0,3,0],[2,1,3,1],[2,2,3,2],[2,3,3,3],[2,4,2,5],[2,6,2,7],[2,8,2,9],[2,10,2,11],[2,18,3,18],[2,19,3,19],[2,12,3,12],[2,13,3,13],[2,14,3,14],[2,15,3,15],[2,16,3,16],[2,17,3,17]]}
["공 종 별 집 계 표"]
[{"$f":"공종별내역서!A1","v":" 공사명 : 부천대학교 소사캠퍼스 강의실 공간조정공사"}]
["품      명","규      격","단위","수량","재  료  비",null,"노  무  비",null,"경      비",null,"합      계",null,"비  고","공종코드","변수","상위공종","공종구분","공종레벨","공종소계","원가계산서 연결금액"]
[{"$nulls":4},"단  가","금  액","단  가","금  액","단  가","금  액","단  가","금  액"]
["1, 학과 공간 조정공사","","",{"$nulls":9},"","01","","","",1,""]
[{"$f":"공종별내역서!A4","v":"01. 공통가설공사"},"","식",1,{"$f":"공종별내역서!F26","v":0},{"$f":"D6*E6","v":0},{"$f":"공종별내역서!H26","v":0},{"$f":"D6*G6","v":0},{"$f":"공종별내역서!J26","v":0},{"$f":"D6*I6","v":0},{"$f":"공종별내역서!L26","v":0},{"$f":"F6+H6+J6","v":0}]
[{"$f":"공종별내역서!A27","v":"02. 철거공사 "},null,"식",1,{"$f":"공종별내역서!F49","v":0},{"$f":"D7*E7","v":0},{"$f":"공종별내역서!H49","v":0},{"$f":"D7*G7","v":0},{"$f":"공종별내역서!J49","v":0},{"$f":"D7*I7","v":0},{"$f":"공종별내역서!L49","v":0},{"$f":"F7+H7+J7","v":0}]
[{"$f":"공종별내역서!A50","v":"03. 목공사 및 수장공사"},null,"식",1,{"$f":"공종별내역서!F72","v":0},0,{"$f":"공종별내역서!H72","v":0},0,{"$f":"공종별내역서!J72","v":0},0,{"$f":"공종별내역서!L72","v":0},0]
[{"$f":"공종별내역서!A73","v":"04. 금속 및 유리공사"},null,"식",1,{"$f":"공종별내역서!F95","v":0},0,{"$f":"공종별내역서!H95","v":0},0,{"$f":"공종별내역서!J95","v":0},0,{"$f":"공종별내역서!L95","v":0},0]
[{"$f":"공종별내역서!A96","v":"05. 도장공사"},null,"식",1,{"$f":"공종별내역서!F118","v":0},0,{"$f":"공종별내역서!H118","v":0},0,{"$f":"공종별내역서!J118","v":0},0,{"$f":"공종별내역서!L118","v":0},0]
[{"$f":"공종별내역서!A119","v":"06. 전자교탁 외 비품 철거 및 재설치"},null,"식",1,{"$f":"공종별내역서!F141","v":0},0,{"$f":"공종별내역서!H141","v":0},0,{"$f":"공종별내역서!J141","v":0},0,{"$f":"공종별내역서!L141","v":0},0]
[{"$f":"공종별내역서!A142","v":"07, 페기물 처리"},null,"식",1,{"$f":"공종별내역서!F164","v":0},0,{"$f":"공종별내역서!H164","v":0},0,{"$f":"공종별내역서!J164","v":0},0,{"$f":"공종별내역서!L164","v":0},0]
[{"$f":"공종별내역서!A165","v":"08. 휀코일 유니트공사"},null,"식",1,{"$f":"공종별내역서!F187","v":0},0,{"$f":"공종별내역서!H187","v":0},0,{"$f":"공종별내역서!J187","v":0},0,{"$f":"공종별내역서!L187","v":0},0]
{"$rows_empty":13}
["[ 합           계 ]",{"$nulls":4},{"$f":"SUM(F6:F26)","v":0},null,{"$f":"SUM(H6:H26)","v":0},null,{"$f":"SUM(J6:J26)","v":0},null,{"$f":"SUM(L6:L26)","v":0}]

{"sheet":"공종별내역서","index":2,"n_rows":187,"n_cols":48,"rows_kept":187,"cut":false,"hidden":false,"merged":[[118,0,118,1],[1,16,2,16],[1,17,2,17],[1,13,2,13],[1,14,2,14],[1,15,2,15],[0,0,0,12],[1,0,2,0],[1,1,2,1],[1,2,2,2],[1,3,2,3],[1,4,1,5],[1,6,1,7],[1,8,1,9],[1,10,1,11],[1,12,2,12],[1,37,2,37],[1,32,2,32],[1,35,2,35],[1,36,2,36],[1,47,2,47],[1,38,2,38],[1,39,2,39],[1,40,2,40],[1,41,2,41],[1,43,2,43],[1,44,2,44],[1,42,2,42],[1,45,2,45],[1,46,2,46],[1,18,2,18],[1,33,2,33],[1,34,2,34],[1,27,2,27],[1,22,2,22],[1,23,2,23],[1,24,2,24],[1,25,2,25],[1,26,2,26],[1,28,2,28],[1,29,2,29],[1,31,2,31],[1,30,2,30],[1,19,2,19],[1,20,2,20],[1,21,2,21]]}
[" 공사명 : 부천대학교 소사캠퍼스 강의실 공간조정공사"]
["품      명","규      격","단위","수량","재  료  비",null,"노  무  비",null,"경      비",null,"합      계",null,"비  고","품목코드","변수","설정","공종코드","일위","단산","자재","손료적용","손료저장","적용율","JUK1","JUK2","JUK3","JUK4","JUK5","JUK6","JUK7","JUK8","JUK9","JUK10","JUK11","JUK12","JUK13","JUK14","JUK15","JUK16","JUK17","JUK18","JUK19","JUK20","자재구분","공종구분","공종레벨","공종+자재","고유번호"]
[{"$nulls":4},"단  가","금  액","단  가","금  액","단  가","금  액","단  가","금  액"]
["01. 공통가설공사"]
["이동식 틀비계",null,"조",4]
["보양",null,"식",1]
["현장정리정돈","보수공사","식",1]
["준공청소",null,"식",1]
{"$rows_empty":17}
["소              계 "]
["02. 철거공사 "]
["벽체 철거",null,"M2",150]
["천정 텍스 철거",null,"M2",90,{"$nulls":9},"510662F0785487233D7371AE192FCF","","","01010201","T","F","F",{"$nulls":23},"","",null,"01010201510662F0785487233D7371AE192FCF",2696]
["출입문 철거",null,"EA",9]
{"$rows_empty":18}
["소              계 "]
["03. 목공사 및 수장공사"]
["칸막이 스터드 벽체","W:150","M2",95]
["출입문 스터드 벽체","W:150","M2",20]
["기둥감싸기 스터드 벽체","W:50","M2",25]
["칸막이 철거부분 텍스","마이톤텍스","M2",85]
["칸막이 신설부분 텍스","마이톤텍스","M2",50]
["MDF 붙이기",null,"M2",100]
["인테리어 필름",null,"M2",100]
["데코타일 보수",null,"식",1]
["데코타일 왁스",null,"식",1]
{"$rows_empty":12}
["소              계 "]
["04. 금속 및 유리공사"]
["지우개 받침대","SST","M",18]
["백페인트 그라스 후레임","SST","M",60]
["백페인트그라스","5MM","M2",25]
["출입문 설치",null,"조",6]
{"$rows_empty":17}
["소              계 "]
["05. 도장공사"]
["바탕처리",null,"M2",750]
["벽체 수성페인트","광텍스2회","M2",660]
["걸레받이 페인트","광텍스2회","M",250]
["출입문자리 도장",null,"식",90]
{"$rows_empty":17}
["소              계 "]
["06. 전자교탁 외 비품 철거 및 재설치"]
["스크린,빔프로젝트 외 기기 철거",null,"조",8]
["전자교탁, 스피커 이전설치",null,"조",3]
["스크린.빔프로젝트 이전설치",null,"조",3]
{"$rows_empty":18}
["소              계 "]
["07, 페기물 처리"]
["페기물 소운반",null,"식",1]
["페기물 운반",null,"식",1]
["페기물 처리",null,"식",1]
{"$rows_empty":18}
["소              계 "]
["08. 휀코일 유니트공사"]
["스텐레스관(K-TYPE)","20A","M",60]
["PVC관(수도용)","20A","M",30]
["배관보온재(아티론+비닐+매직테잎)","20A*25T","M",65]
["SR CM아답타","20A","EA",15]
["황동볼밸브","20A","EA",15]
["절연행가","20A","개소",60]
["일반행가","20A","개소",15]
["SR 엘보","20A","EA",45]
["PVC 엘보","20A","EA",20]
["SR 소켓","20A","EA",20]
["PVC 소켓","20A","EA",6]
["제어선 재설치",null,"식",1]
["배관공",null,"인",5]
["위생공",null,"인",5]
["보통인부",null,"인",4]
[]
[]
[]
[]
[]
[]
["소              계 "]