{"text_format":"2","workbook":"xlsx","n_sheets":3,"sheets":["원가","총괄표","내역서"],"not_rendered":{"charts":0,"images":0,"macros":0,"external_links":108,"defined_names":4080,"comments":0,"pivot_tables":0},"unopened":[],"bounds":{"document_bytes":16777216,"sheet_cells":100000,"run_cost":"one","rows_first":2000,"rows_last":500,"rows_between":2000,"halvings":0,"cell_chars":16384,"cell_head_chars":4096},"cells_cut":0,"cells_raw":0,"read":"whole","date_system":"1900"}

{"sheet":"원가","index":0,"n_rows":35,"n_cols":7,"rows_kept":35,"cut":false,"hidden":false,"merged":[[33,0,33,2],[34,0,34,2],[31,0,31,2],[26,0,26,2],[27,0,27,2],[28,0,28,2],[32,0,32,2],[29,0,29,2],[30,0,30,2],[25,1,25,2],[4,1,6,1],[7,1,9,1],[0,0,0,4],[3,0,3,1],[2,0,2,7]]}
["원 가 계 산 서"]
[]
["[ 부천대학교 혁신지원사업 스터디라운지 전기공사 ]"]
["비 목",null,"구  분","금 액","구  성  비"," "]
[null,"재 료 비","직 접 재 료 비",{"$f":"총괄표!I29","v":0},null,null," "]
[null,null,"간 접 재 료 비"]
[" ",null,"( 소      계 )",{"$f":"SUM(D5:D6)","v":0}]
["순","노 무 비","직 접 노 무 비",{"$f":"총괄표!L29","v":0}]
[null,null,"간 접 노 무 비",null,"(직접 노무비) * 7.9 %"]
[null,null,"( 소      계 )",{"$f":"SUM(D8:D9)","v":0}]
[" ",null,"기  계  경  비"]
[null,null,"산 재 보 험 료",{"$f":"D10*3.7%","v":0},"(노무비) * 3.7 %"]
["공",null,"고 용 보 험 료",{"$f":"D10*1.01%","v":0},"(노무비) * 1.01 %"]
[null,"경","퇴 직 금 공 제",null,"(직접 노무비) * 2.3 %"]
[" ",null,"안 전 관 리 비",null,"(재료+직노+관급재/1.1) * 2.93 %"]
[null,null,"기  타  경  비",null,"(재료+노무) * 5.6 %"]
[null,null,"건 강 보 험 료",null,"(직접 노무비) * 3.23 %"]
["사",null,"연 금 보 험 료",null,"(직접 노무비) * 4.5 %"]
[" "," ","노인장기요양보험",null,"(건강 보험료) * 8.51 %"]
[null,null," "]
[null,null," "]
[null,"비"," "]
["비",null," "]
[null,null," "]
[null,null,"( 소      계 )",{"$f":"SUM(D11:D24)","v":0}]
[null,"( 순 공 사 비 계 )",null,{"$f":"D7+D10+D25","v":0}]
["일 반 관 리 비",null,null,{"$f":"(D7+D10+D25)*6%","v":0},"(재료+노무+경비) * 6 %"]
["이          윤",null,null,{"$f":"(D10+D25+D27)*15%","v":0},"(노무+경비+일반관리비) * 15 %"]
["( 총  원  가 )",null,null,{"$f":"SUM(D26:D28)","v":0}]
["부 가 가 치 세",null,null,{"$f":"D29*10%","v":0}]
[" "]
[" "]
[" "]
[" "]
["( 총      계 )",null,null,{"$f":"ROUNDDOWN(D29+D30,-5)","v":0}]

{"sheet":"총괄표","index":1,"n_rows":55,"n_cols":27,"rows_kept":55,"cut":false,"hidden":false,"merged":[[3,3,3,16],[29,3,29,16],[0,3,0,16],[1,0,2,0],[1,1,2,1],[1,2,2,2],[1,3,2,3],[1,4,2,4],[1,5,2,5],[1,6,2,6],[1,7,1,8],[1,9,1,11],[1,12,1,13],[1,15,2,15],[1,16,2,16]]}
[null,"55",null,"[ 부천대학교 혁신지원사업 스터디라운지 전기공사 ]",{"$nulls":22},"연속견적가로형식"]
["번호","공종코드","…","공   종   명","규격","단위","수량","재료비",null,"노무비",null,null,"경비",null,null,"계","비고"]
[{"$nulls":7},"단가","금액","수량","단가","금액","단가","금액","단가"]
[null,null,null,"부천대학교 본 캠퍼스  꿈집동 스터디라운지"]
[null,"01",null,"1. 전기공사",null,"식",1,{"$f":"총괄표!I55","v":0},{"$f":"G5*H5","v":0},null,{"$f":"총괄표!L55","v":0},{"$f":"G5*K5","v":0},null,{"$f":"G5*M5","v":0},{"$f":"SUM(H5+K5+M5)","v":0},{"$f":"SUM(I5,L5,N5)","v":0}," "]
[{"$nulls":8},0,null,null,0,null,0,0,0]
[{"$nulls":8},0,null,null,0,null,0,0,0]
[{"$nulls":8},0,null,null,0,null,0,0,0]
[{"$nulls":8},0,null,null,0,null,0,0,0]
[{"$nulls":8},0,null,null,0,null,0,0,0]
[{"$nulls":8},0,null,null,0,null,0,0,0]
[{"$nulls":8},0,null,null,0,null,0,0,0]
[{"$nulls":8},0,null,null,0,null,0,0,0]
[{"$nulls":8},0,null,null,0,null,0,0,0]
[{"$nulls":8},0,null,null,0,null,0,0,0]
[{"$nulls":8},0,null,null,0,null,0,0,0]
[{"$nulls":8},0,null,null,0,null,0,0,0]
[{"$nulls":8},0,null,null,0,null,0,0,0]
[{"$nulls":8},0,null,null,0,null,0,0,0]
[{"$nulls":8},0,null,null,0,null,0,0,0]
[{"$nulls":8},0,null,null,0,null,0,0,0]
[{"$nulls":8},0,null,null,0,null,0,0,0]
[{"$nulls":8},0,null,null,0,null,0,0,0]
[{"$nulls":8},0,null,null,0,null,0,0,0]
[{"$nulls":8},0,null,null,0,null,0,0,0]
[{"$nulls":8},0,null,null,0,null,0,0,0]
[{"$nulls":8},0,null,null,0,null,0,0,0]
[{"$nulls":8},0,null,null,0,null,0,0,0]
[null,null,"Total","( 합       계 )",{"$nulls":4},{"$f":"TRUNC(SUM(I4:I28))","v":0},null,null,{"$f":"TRUNC(SUM(L4:L28))","v":0},null,{"$f":"TRUNC(SUM(N4:N28))","v":0},0,{"$f":"TRUNC(SUM(P4:P28))","v":0}]
[null,null,null,"1.전기공사"]
[null,"0101",null,"1-1.본 캠퍼스 9층 전기공사",null,"식",1,{"$f":"내역서!I29","v":0},0,null,{"$f":"내역서!L29","v":0},0,null,0,0,0]
[null,"0102",null,"1-2.본 캠퍼스 10층 전기공사",null,"식",1,{"$f":"내역서!I55","v":0},0,null,{"$f":"내역서!L55","v":0},0,null,0,0,0]
[null,"0103",null,"1-3.본 캠퍼스 11층 전기공사",null,"식",1,{"$f":"내역서!I81","v":0},0,null,{"$f":"내역서!L81","v":0},0,null,0,0,0]
[null,"0104",null,"1-4.본 캠퍼스 12층 전기공사",null,"식",1,{"$f":"내역서!I107","v":0},0,null,{"$f":"내역서!L107","v":0},0,null,0,0,0]
[null,"0105",null,"1-5.본 캠퍼스 13층 전기공사",null,"식",1,{"$f":"내역서!I133","v":0},0,null,{"$f":"내역서!L133","v":0},0,null,0,0,0]
[null,"0106",null,"1-6.소사 캠퍼스 강의동 9층 라운지 전기공사",null,"식",1,{"$f":"내역서!I161","v":0},0,null,{"$f":"내역서!L161","v":0},0,null,0,0,0]
[null,"0107",null,"1-7.소사 캠퍼스 강의동 10층 라운지 전기공사",null,"식",1,{"$f":"내역서!I189","v":0},0,null,{"$f":"내역서!L189","v":0},0,null,0,0,0]
[null,"0108",null,"1-8.소사 캠퍼스 강의동 11층 라운지 전기공사",null,"식",1,{"$f":"내역서!I216","v":0},0,null,{"$f":"내역서!L216","v":0},0,null,0,{"$f":"SUM(H38+K38+M38)","v":0},0]
[{"$nulls":8},0,null,null,0,null,0,{"$f":"SUM(H39+K39+M39)","v":0},{"$f":"SUM(I39,L39,N39)","v":0}]
[{"$nulls":8},0,null,null,0,null,0,0,{"$f":"SUM(I40,L40,N40)","v":0}]
[{"$nulls":8},0,null,null,0,null,0,0,0]
[{"$nulls":8},0,null,null,0,null,0,0,0]
[{"$nulls":8},0,null,null,0,null,0,0,0]
[{"$nulls":8},0,null,null,0,null,0,0,0]
[{"$nulls":8},0,null,null,0,null,0,0,0]
[{"$nulls":8},0,null,null,0,null,0,0,0]
[{"$nulls":8},0,null,null,0,null,0,0,0]
[{"$nulls":8},0,null,null,0,null,0,0,0]
[{"$nulls":8},0,null,null,0,null,0,0,0]
[{"$nulls":8},0,null,null,0,null,0,0,0]
[{"$nulls":8},0,null,null,0,null,0,0,0]
[{"$nulls":8},0,null,null,0,null,0,0,0]
[{"$nulls":8},0,null,null,0,null,0,0,0]
[{"$nulls":8},0,null,null,0,null,0,0,0]
[null,"01","Total","( 합       계 )",{"$nulls":4},{"$f":"TRUNC(SUM(I30:I54))","v":0},null,null,{"$f":"TRUNC(SUM(L30:L54))","v":0},null,{"$f":"TRUNC(SUM(N30:N54))","v":0},0,{"$f":"TRUNC(SUM(P30:P54))","v":0}]

{"sheet":"내역서","index":2,"n_rows":216,"n_cols":17,"rows_kept":216,"cut":false,"hidden":false,"merged":[[189,3,189,16],[1,9,1,11],[1,12,1,13],[1,15,2,15],[1,16,2,16],[3,3,3,16],[29,3,29,16],[55,3,55,16],[81,3,81,16],[107,3,107,16],[133,3,133,16],[161,3,161,16],[0,3,0,13],[1,0,2,0],[1,1,2,1],[1,2,2,2],[1,3,2,3],[1,4,2,4],[1,5,2,5],[1,6,2,6],[1,7,1,8]]}
[null,"211",null,"[ 부천대학교 혁신지원사업 스터디라운지 전기공사 ]"]
["번호","공종코드","코드","명   칭","규   격","단위","수량","재료비",null,"노무비",null,null,"경비",null,null,"계","비고"]
[{"$nulls":7},"단가","금액","수량","단가","금액","단가","금액","단가"]
[null,null,null,"1.전기공사::1-1.본 캠퍼스 9층 전기공사"]
["59753017003","0101","3913170620174410","1종금속제가요전선관","SF 16㎜","M",90,null,{"$f":"TRUNC(G5*H5)","v":0},81,null,{"$f":"TRUNC(G5*K5)","v":0},null,{"$f":"TRUNC(G5*M5)","v":0},{"$f":"SUM(H5+K5+M5)","v":0},{"$f":"SUM(I5,L5,N5)","v":0}]
["MM496797029","0101","3913170620174470","1종금속제가요전선관부속품","16 mm 일반비방수","M",15,null,0,13,null,0,null,0,0,0]
["MM481669624","0101","2612162922076727","450/750V 내열비닐절연전선","HFIX 1.78mm(2.5㎟)","M",380,null,0,345,null,0,null,0,0,0]
["59753767091","0101","3912130810035758","아우트렛박스","8각 54㎜","개",10,null,0,10,null,0,null,0,0,0]
["59753767201","0101","3912130820174710","아우트렛박스 커버","커버, 8각, 평형","개",10,null,0,10,null,0,null,0,0,0]
["59753767141","0101","3912130810035763","아우트렛박스","중형4각, 54㎜","개",1,null,0,1,null,0,null,0,0,0]
["59753767231","0101","3912130820174713","아우트렛박스 커버","커버, 4각, 평형","개",1,null,0,1,null,0,null,0,0,0]
["59301517003","0101","3912998720170519","매입스위치","250V 1로3구","개",2,null,0,7,null,0,null,0,0,0]
["MM919121130","0101","391115ZZ701Z0026","무선충전콘센트",null,"개",4,null,0,4,null,0,null,0,0,0]
["MM919121094","0101","391115ZZ701Z0027","안정기","220V 200W","개",1,null,0,1,null,0,null,0,0,0]
["MM919121081","0101","391115ZZ701Z0032","조명기구","P1","개",4,null,0,4,null,0,null,0,0,0]
["MM919121082","0101","391115ZZ701Z0033","조명기구","P2","개",2,null,0,2,null,0,null,0,0,0]
["MM919121083","0101","391115ZZ701Z0028","조명기구","6\"","개",4,null,0,4,null,0,null,0,0,0]
["MM919121084","0101","391115ZZ701Z0030","조명기구","LED바 5400MM","개",2,null,0,2,null,0,null,0,0,0]
["MM919121134","0101",null,"[ 배관 부속재 ]","전선관의 15 %","식",1,null,0,1,null,0,null,0,0,0]
["MM919121135","0101",null,"[ 소모 잡자재 ]","전선, 전선관의 2 %","식",1,null,0,1,null,0,null,0,0,0]
["MM919121136","0101","391115ZZ701Z0025","노 무 비","내선전공","인",8,null,0,7,null,0,null,0,0,0]
["MM919121137","0101",null,"[ 공 구 손 료 ]","노무비의 3 %","식",1,null,0,1,null,0,null,0,0,0]
[]
["A0500000000","0101","RENT000000000002",{"$nulls":6},1,null,0,null,0,0,0]
["A0100000000","0101","RENT000000000003",{"$nulls":6},1,null,0,null,0,0,0]
["56900017016","0101","L001010101000075",{"$nulls":12},0]
["A0300000000","0101","RENT000000000006"]
[{"$nulls":8},0,null,null,0,null,0,0,0]
[null,null,null,"[합   계]",{"$nulls":4},{"$f":"TRUNC(SUM(I4:I28))","v":0},null,null,{"$f":"TRUNC(SUM(L4:L28))","v":0},null,{"$f":"TRUNC(SUM(N4:N28))","v":0},0,{"$f":"TRUNC(SUM(P4:P28))","v":0}]
[null,null,null,"1.전기공사::1-2.본 캠퍼스 10층 전기공사"]
["59753017003","0102","3913170620174410","1종금속제가요전선관","SF 16㎜","M",150,null,0,136,null,0,null,0,0,0]
["MM496797029","0102","3913170620174470","1종금속제가요전선관부속품","16 mm 일반비방수","M",25,null,0,22,null,0,null,0,0,0]
["MM481669624","0102","2612162922076727","450/750V 내열비닐절연전선","HFIX 1.78mm(2.5㎟)","M",500,null,0,454,null,0,null,0,0,0]
["59753767091","0102","3912130810035758","아우트렛박스","8각 54㎜","개",17,null,0,17,null,0,null,0,0,0]
["59753767201","0102","3912130820174710","아우트렛박스 커버","커버, 8각, 평형","개",17,null,0,17,null,0,null,0,0,0]
["59753767141","0102","3912130810035763","아우트렛박스"," 중형4각, 54㎜","개",1,null,0,1,null,0,null,0,0,0]
["59753767231","0102","3912130820174713","아우트렛박스 커버","커버, 4각, 평형","개",1,null,0,1,null,0,null,0,{"$f":"SUM(H37+K37+M37)","v":0},0]
["MM919121060","0102","391115ZZ701Z0034","조명기구","갓펜던트","개",6,null,0,6,null,0,null,0,{"$f":"SUM(H38+K38+M38)","v":0},0]
["MM919121083","0102","391115ZZ701Z0028","조명기구","6\"","개",8,null,0,8,null,0,null,0,0,0]
["MM919121062","0102","391115ZZ701Z0035","조명기구","벽등","개",3,null,0,3,null,0,null,0,0,0]
["59350317205","0102","3912140620170849","콘센트","매입-접지형, 250V 1구","개",4,null,0,4,null,0,null,0,0,0]
["59301517003","0102","3912998720170519","매입스위치","250V 1로3구","개",1,null,0,1,null,0,null,0,0,0]
["MM919121134","0102",null,"[ 배관 부속재 ]","전선관의 15 %","식",1,null,0,1,null,0,null,0,0,0]
["MM919121135","0102",null,"[ 소모 잡자재 ]","전선, 전선관의 2 %","식",1,null,0,1,null,0,null,0,0,0]
["MM919121136","0102","391115ZZ701Z0025","노 무 비","내선전공","인",10,null,0,9,null,0,null,0,0,0]
["MM919121137","0102",null,"[ 공 구 손 료 ]","노무비의 3 %","식",1,null,0,1,null,0,null,0,0,0]
["A0500000000","0102","RENT000000000002"]
["A0100000000","0102","RENT000000000003"]
[]
["56900017016","0102","L001010101000075"]
["A0300000000","0102","RENT000000000006"]
[{"$nulls":8},0,null,null,0,null,0,0,0]
[{"$nulls":8},0,null,null,0,null,0,0,0]
[{"$nulls":8},0,null,null,0,null,0,0,0]
[null,null,null,"[합   계]",{"$nulls":4},{"$f":"TRUNC(SUM(I30:I54))","v":0},null,null,{"$f":"TRUNC(SUM(L30:L54))","v":0},null,{"$f":"TRUNC(SUM(N30:N54))","v":0},0,{"$f":"TRUNC(SUM(P30:P54))","v":0}]
[null,null,null,"1.전기공사::1-3.본 캠퍼스 11층 전기공사"]
["59753017003","0103","3913170620174410","1종금속제가요전선관","SF 16㎜","M",90,null,0,81,null,0,null,0,0,0]
["MM496797029","0103","3913170620174470","1종금속제가요전선관부속품","16 mm 일반비방수","M",15,null,0,13,null,0,null,0,0,0]
["MM481669624","0103","2612162922076727","450/750V 내열비닐절연전선","HFIX 1.78mm(2.5㎟)","M",380,null,0,345,null,0,null,0,0,0]
["59753767091","0103","3912130810035758","아우트렛박스","8각 54㎜","개",10,null,0,10,null,0,null,0,0,0]
["59753767201","0103","3912130820174710","아우트렛박스 커버","커버, 8각, 평형","개",10,null,0,10,null,0,null,0,0,0]
["59753767141","0103","3912130810035763","아우트렛박스","중형4각, 54㎜","개",1,null,0,1,null,0,null,0,0,0]
["59753767231","0103","3912130820174713","아우트렛박스 커버","커버, 4각, 평형","개",1,null,0,1,null,0,null,0,0,0]
["59301517003","0103","3912998720170519","매입스위치","250V 1로3구","개",2,null,0,2,null,0,null,0,0,0]
["MM919121130","0103","391115ZZ701Z0026","무선충전콘센트",null,"개",4,null,0,4,null,0,null,0,0,0]
["MM919121094","0103","391115ZZ701Z0027","안정기","220V 200W","개",1,null,0,1,null,0,null,0,0,0]
["MM919121081","0103","391115ZZ701Z0032","조명기구","P1","개",4,null,0,4,null,0,null,0,0,0]
["MM919121082","0103","391115ZZ701Z0033","조명기구","P2","개",2,null,{"$f":"TRUNC(G68*H68)","v":0},2,null,{"$f":"TRUNC(G68*K68)","v":0},null,{"$f":"TRUNC(G68*M68)","v":0},0,{"$f":"SUM(I68,L68,N68)","v":0}]
["MM919121083","0103","391115ZZ701Z0028","조명기구","6\"","개",4,null,0,4,null,0,null,0,0,0]
["MM919121084","0103","391115ZZ701Z0030","조명기구","LED바 5400MM","개",2,null,0,2,null,0,null,0,0,0]
["MM919121134","0103",null,"[ 배관 부속재 ]","전선관의 15 %","식",1,null,0,1,null,0,null,0,0,0]
["MM919121135","0103",null,"[ 소모 잡자재 ]","전선, 전선관의 2 %","식",1,null,0,1,null,0,null,0,0,0]
["MM919121136","0103","391115ZZ701Z0025","노 무 비","내선전공","인",8,null,0,7,null,0,null,0,0,0]
["MM919121137","0103",null,"[ 공 구 손 료 ]","노무비의 3 %","식",1,null,0,1,null,0,null,0,0,0]
["A0500000000","0103","RENT000000000002"]
[]
["A0100000000","0103","RENT000000000003"]
["56900017016","0103","L001010101000075"]
["A0300000000","0103","RENT000000000006"]
[{"$nulls":8},0,null,null,0,null,0,0,0]
[null,null,null,"[합   계]",{"$nulls":4},{"$f":"TRUNC(SUM(I56:I80))","v":0},null,null,{"$f":"TRUNC(SUM(L56:L80))","v":0},null,{"$f":"TRUNC(SUM(N56:N80))","v":0},0,{"$f":"TRUNC(SUM(P56:P80))","v":0}]
[null,null,null,"1.전기공사::1-4.본 캠퍼스 12층 전기공사"]
["59753017003","0104","3913170620174410","1종금속제가요전선관","SF 16㎜","M",150,null,0,136,null,0,null,0,0,0]
["MM496797029","0104","3913170620174470","1종금속제가요전선관부속품","16 mm 일반비방수","M",25,null,0,22,null,0,null,0,0,0]
["MM481669624","0104","2612162922076727","450/750V 내열비닐절연전선","HFIX 1.78mm(2.5㎟)","M",500,null,0,454,null,0,null,0,0,0]
["59753767091","0104","3912130810035758","아우트렛박스","8각 54㎜","개",17,null,0,17,null,0,null,0,0,0]
["59753767201","0104","3912130820174710","아우트렛박스 커버","커버, 8각, 평형","개",17,null,0,17,null,0,null,0,0,0]
["59753767141","0104","3912130810035763","아우트렛박스","중형4각, 54㎜","개",1,null,0,1,null,0,null,0,0,0]
["59753767231","0104","3912130820174713","아우트렛박스 커버","커버, 4각, 평형","개",1,null,0,1,null,0,null,0,0,0]
["MM919121060","0104","391115ZZ701Z0034","조명기구","갓펜던트","개",6,null,0,6,null,0,null,0,0,0]
["MM919121083","0104","391115ZZ701Z0028","조명기구","6\"","개",8,null,0,8,null,0,null,0,0,0]
["MM919121062","0104","391115ZZ701Z0035","조명기구","벽등","개",3,null,0,3,null,0,null,0,0,0]
["59350317205","0104","3912140620170849","콘센트","매입-접지형, 250V 1구","개",4,null,0,4,null,0,null,0,0,0]
["59301517003","0104","3912998720170519","매입스위치","250V 1로3구","개",1,null,0,1,null,0,null,0,0,0]
["MM919121134","0104",null,"[ 배관 부속재 ]","전선관의 15 %","식",1,null,0,1,null,0,null,0,0,0]
["MM919121135","0104",null,"[ 소모 잡자재 ]","전선, 전선관의 2 %","식",1,null,0,1,null,0,null,0,0,0]
["MM919121136","0104","391115ZZ701Z0025","노 무 비","내선전공","인",10,null,0,9,null,0,null,0,0,0]
["MM919121137","0104",null,"[ 공 구 손 료 ]","노무비의 3 %","식",1,null,0,1,null,0,null,0,0,0]
["A0500000000","0104","RENT000000000002"]
["A0100000000","0104","RENT000000000003"]
[]
["56900017016","0104","L001010101000075"]
["A0300000000","0104","RENT000000000006"]
[{"$nulls":8},0,null,null,{"$f":"TRUNC(G104*K104)","v":0},null,0,{"$f":"SUM(H104+K104+M104)","v":0},0]
[{"$nulls":8},0,null,null,0,null,0,0,0]
[{"$nulls":8},0,null,null,0,null,0,0,0]
[null,null,null,"[합   계]",{"$nulls":4},{"$f":"TRUNC(SUM(I82:I106))","v":0},null,null,{"$f":"TRUNC(SUM(L82:L106))","v":0},null,{"$f":"TRUNC(SUM(N82:N106))","v":0},0,{"$f":"TRUNC(SUM(P82:P106))","v":0}]
[null,null,null,"1.전기공사::1-5.본 캠퍼스 13층 전기공사"]
["59753017003","0105","3913170620174410","1종금속제가요전선관","SF 16㎜","M",90,null,0,81,null,0,null,0,0,0]
["MM496797029","0105","3913170620174470","1종금속제가요전선관부속품","16 mm 일반비방수","M",15,null,0,13,null,0,null,0,0,0]
["MM481669624","0105","2612162922076727","450/750V 내열비닐절연전선","HFIX 1.78mm(2.5㎟)","M",380,null,0,345,null,0,null,0,0,0]
["59753767091","0105","3912130810035758","아우트렛박스","8각 54㎜","개",10,null,0,10,null,0,null,0,0,0]
["59753767201","0105","3912130820174710","아우트렛박스 커버","커버, 8각, 평형","개",10,null,0,10,null,0,null,0,0,0]
["59753767141","0105","3912130810035763","아우트렛박스","중형4각, 54㎜","개",1,null,0,1,null,0,null,0,0,0]
["59753767231","0105","3912130820174713","아우트렛박스 커버","커버, 4각, 평형","개",1,null,0,1,null,0,null,0,0,0]
["59301517003","0105","3912998720170519","매입스위치","250V 1로3구","개",2,null,0,2,null,0,null,0,0,0]
["MM919121130","0105","391115ZZ701Z0026","무선충전콘센트",null,"개",4,null,0,4,null,0,null,0,0,0]
["MM919121094","0105","391115ZZ701Z0027","안정기","220V 200W","개",1,null,0,1,null,0,null,0,0,0]
["MM919121081","0105","391115ZZ701Z0032","조명기구","P1","개",4,null,0,4,null,0,null,0,0,0]
["MM919121082","0105","391115ZZ701Z0033","조명기구","P2","개",2,null,0,2,null,0,null,0,0,0]
["MM919121083","0105","391115ZZ701Z0028","조명기구","6\"","개",4,null,0,4,null,0,null,0,0,0]
["MM919121084","0105","391115ZZ701Z0030","조명기구","LED바 5400MM","개",2,null,0,2,null,0,null,0,0,0]
["MM919121134","0105",null,"[ 배관 부속재 ]","전선관의 15 %","식",1,null,0,1,null,0,null,0,0,0]
["MM919121135","0105",null,"[ 소모 잡자재 ]","전선, 전선관의 2 %","식",1,null,0,1,null,0,null,0,0,0]
["MM919121136","0105","391115ZZ701Z0025","노 무 비","내선전공","인",8,null,0,7,null,0,null,0,0,0]
["MM919121137","0105",null,"[ 공 구 손 료 ]","노무비의 3 %","식",1,null,0,1,null,0,null,0,0,0]
[]
["A0500000000","0105","RENT000000000002"]
["A0100000000","0105","RENT000000000003"]
["56900017016","0105","L001010101000075"]
["A0300000000","0105","RENT000000000006"]
[{"$nulls":8},0,null,null,0,null,0,0,0]
[null,null,null,"[합   계]",{"$nulls":4},{"$f":"TRUNC(SUM(I109:I132))","v":0},null,null,{"$f":"TRUNC(SUM(L108:L132))","v":0},null,{"$f":"TRUNC(SUM(N108:N132))","v":0},0,{"$f":"TRUNC(SUM(P108:P132))","v":0}]
[null,null,null,"1.전기공사::1-6.소사 캠퍼스 강의동 9층 라운지 전기공사"]
["59753017003","0106","3913170620174410","1종금속제가요전선관","SF 16㎜","M",170,null,{"$f":"TRUNC(G135*H135)","v":0},172,null,0,null,{"$f":"TRUNC(G135*M135)","v":0},0,{"$f":"SUM(I135,L135,N135)","v":0}]
[null,null,null,"1종금속제가요전선관부속품","16 mm 일반비방수","개",16,null,0,{"$nulls":6},0]
[null,null,null,"전선자바라 덕트","택상연결용","개",1,null,0,{"$nulls":6},0]
[null,null,null,"알루미늄닥트","배선기구부착용","M",4,null,0,{"$nulls":6},0]
["MM481669624","0106","2612162922076727","450/750V 내열비닐절연전선","HFIX 1.78mm(2.5㎟)","M",470,null,0,427,null,0,null,0,0,0]
[null,null,null,"매입연용스위치","단로2구","개",1,null,0,{"$nulls":6},0]
[null,null,null,"아웃렛박스","콘4각, 54㎜","개",8,null,0,{"$nulls":6},0]
[null,null,null,"스위치박스","54mm 1G","개",2,null,0,{"$nulls":6},0]
["MM919121092","0106","391115ZZ701Z0029","조명기구","LED바 4200MM","개",1,null,0,1,null,0,null,0,0,0]
["MM919121130","0106","391115ZZ701Z0026","무선충전콘센트",null,"개",12,null,0,4,null,0,null,0,0,0]
["MM919121094","0106","391115ZZ701Z0027","안정기","220V 200W","개",1,null,0,1,null,0,null,0,0,0]
["59350317205","0106","3912140620170849","콘센트","매입-접지형, 250V 1구","개",9,null,0,7,null,0,null,0,0,0]
[null,null,null,"콘센트","누출-접지형, 250V 2구","개",1,null,0,{"$nulls":6},0]
["MM919121131","0106","391115ZZ701Z0036","조명기구","테이블용 스텐드등기구","개",6,null,0,3,null,0,null,0,0,0]
["MM919121133","0106","391115ZZ701Z0037","콘크리트 포장 컷팅",null,"M",23,null,0,23,null,0,null,null,0,0]
["MM919121134","0106",null,"[ 배관 부속재 ]","전선관의 15 %","식",1,null,0,1,null,0,null,0,0,0]
["MM919121135","0106",null,"[ 소모 잡자재 ]","전선, 전선관의 2 %","식",1,null,0,1,null,0,null,0,0,0]
["MM919121136","0106","391115ZZ701Z0025","노 무 비","내선전공","인",8,null,0,8,null,0,null,0,0,0]
["MM919121137","0106",null,"[ 공 구 손 료 ]","노무비의 3 %","식",1,null,0,1,null,0,null,0,0,0]
["A0500000000","0106","RENT000000000002"]
[{"$nulls":8},0,null,null,0,null,0,0,0]
[{"$nulls":8},0,null,null,0,null,0,0,0]
[{"$nulls":8},0,null,null,0,null,0,0,0]
[{"$nulls":8},0,null,null,0,null,0,0,0]
[{"$nulls":8},0,null,null,0,null,0,0,0]
[{"$nulls":8},0,null,null,0,null,0,0,0]
[null,null,null,"[합   계]",{"$nulls":4},{"$f":"TRUNC(SUM(I134:I160))","v":0},null,null,{"$f":"TRUNC(SUM(L134:L160))","v":0},null,{"$f":"TRUNC(SUM(N134:N160))","v":0},0,{"$f":"TRUNC(SUM(P134:P160))","v":0}]
[null,null,null,"1.전기공사::1-7.소사 캠퍼스 강의동 10층 라운지 전기공사"]
["59753017003","0107","3913170620174410","1종금속제가요전선관","SF 16㎜","M",150,null,0,145,null,0,null,0,0,0]
["MM496797029","0107","3913170620174470","1종금속제가요전선관부속품","16 mm 일반비방수","M",14,null,0,9,null,0,null,0,0,0]
[null,null,null,"알루미늄닥트","배선기구부착용","M",4,null,0,{"$nulls":6},0]
["MM481669624","0107","2612162922076727","450/750V 내열비닐절연전선","HFIX 1.78mm(2.5㎟)","M",460,null,0,418,null,0,null,0,0,0]
["59753767091","0107","3912130810035758","아우트렛박스","8각 54㎜","개",6,null,0,6,null,0,null,0,0,0]
["59753767201","0107","3912130820174710","아우트렛박스 커버","커버, 8각, 평형","개",6,null,0,6,null,0,null,0,0,0]
["59753767141","0107","3912130810035763","아우트렛박스","중형4각, 54㎜","개",3,null,0,1,null,0,null,0,{"$f":"SUM(H169+K169+M169)","v":0},0]
["59753767231","0107","3912130820174713","아우트렛박스 커버","커버, 4각, 콘카바","개",3,null,0,1,null,{"$f":"TRUNC(G170*K170)","v":0},null,0,0,0]
[null,null,null,"스위치박스","54mm 1G","개",1,null,0,{"$nulls":6},0]
["59350317205","0107","3912140620170849","콘센트","매입-접지형, 250V 1구","개",4,null,0,4,null,0,null,0,0,0]
["MM919121130","0107","391115ZZ701Z0026","무선충전콘센트",null,"개",4,null,0,12,null,0,null,0,0,0]
[null,null,null,"매입연용스위치","단로2구","개",1,null,0,{"$nulls":6},0]
["MM919121131","0107","391115ZZ701Z0036","조명기구","테이블용 스텐드등기구","개",6,null,0,3,null,0,null,0,0,0]
["MM919121132","0107","391115ZZ701Z0031","조명기구","LT-1 (원형펜던트)","개",6,null,0,6,null,0,null,0,0,0]
["MM919121133","0107","391115ZZ701Z0037","콘크리트 포장 컷팅",null,"M",23,null,0,6,null,0,null,null,0,0]
["MM919121134","0107",null,"[ 배관 부속재 ]","전선관의 15 %","식",1,null,0,1,null,0,null,0,0,0]
["MM919121135","0107",null,"[ 소모 잡자재 ]","전선, 전선관의 2 %","식",1,null,0,1,null,0,null,0,0,0]
["MM919121136","0107","391115ZZ701Z0025","노 무 비","내선전공","인",10,null,0,8,null,0,null,0,0,0]
["MM919121137","0107",null,"[ 공 구 손 료 ]","노무비의 3 %","식",1,null,0,1,null,0,null,0,0,0]
["A0500000000","0107","RENT000000000002"]
[]
["56900017016","0107","L001010101000075"]
["A0300000000","0107","RENT000000000006"]
[{"$nulls":8},0,null,null,0,null,0,0,0]
[{"$nulls":8},0,null,null,0,null,0,0,0]
[{"$nulls":8},0,null,null,0,null,0,0,0]
[null,null,null,"[합   계]",{"$nulls":4},{"$f":"TRUNC(SUM(I162:I188))","v":0},null,null,{"$f":"TRUNC(SUM(L162:L188))","v":0},null,{"$f":"TRUNC(SUM(N162:N188))","v":0},0,{"$f":"TRUNC(SUM(P162:P188))","v":0}]
[null,null,null,"1.전기공사::1-8.소사 캠퍼스 강의동 11층 라운지 전기공사"]
["59753017003","0108","3913170620174410","1종금속제가요전선관","SF 16㎜","M",180,null,{"$f":"G191*H191","v":0},145,null,0,null,0,0,0]
["MM496797029","0108","3913170620174470","1종금속제가요전선관부속품","16 mm 일반비방수","M",14,null,0,9,null,0,null,0,0,0]
[null,null,null,"전선자바라 덕트","책상연결용","개",1,null,{"$f":"TRUNC(G193*H193)","v":0},{"$nulls":6},{"$f":"SUM(I193,L193,N193)","v":0}]
[null,null,null,"알루미늄닥트","배선기구부착용","M",4,null,0,{"$nulls":6},0]
["MM481669624","0108","2612162922076727","450/750V 내열비닐절연전선","HFIX 1.78mm(2.5㎟)","M",460,null,0,418,null,0,null,0,0,0]
["59753767091","0108","3912130810035758","아우트렛박스","8각 54㎜","개",6,null,0,6,null,0,null,0,0,0]
["59753767201","0108","3912130820174710","아우트렛박스 커버","커버, 8각, 평형","개",6,null,0,6,null,0,null,0,0,0]
["59753767141","0108","3912130810035763","아우트렛박스","중형4각, 54㎜","개",8,null,0,1,null,0,null,0,0,0]
["59753767231","0108","3912130820174713","아우트렛박스 커버","커버, 4각, 콘카바","개",1,null,0,1,null,0,null,0,0,0]
[null,null,null,"스위치박스","54mm 1G","개",1,null,0,{"$nulls":6},0]
["59350317205","0108","3912140620170849","콘센트","매입-접지형, 250V 1구","개",9,null,0,4,null,0,null,0,0,0]
[null,null,null,"콘센트","누출-접지형, 250V 2구","개",1,null,0,{"$nulls":6},{"$f":"SUM(I202,L202,N202)","v":0}]
["MM919121130","0108","391115ZZ701Z0026","무선충전콘센트",null,"개",12,null,0,12,null,0,null,0,0,0]
[null,null,null,"매입연용스위치","단로2구","개",1,null,0,{"$nulls":6},0]
["MM919121131","0108","391115ZZ701Z0036","조명기구","테이블용 스텐드등기구","개",6,null,0,3,null,0,null,0,0,0]
["MM919121132","0108","391115ZZ701Z0031","조명기구","LT-1 (원형펜던트)","개",6,null,0,6,null,0,null,0,0,0]
["MM919121133","0108","391115ZZ701Z0037","콘크리트 포장 컷팅",null,"M",23,null,{"$f":"TRUNC(G207*H207)","v":0},6,null,0,null,null,0,{"$f":"SUM(I207,L207,N207)","v":0}]
["MM919121134","0108",null,"[ 배관 부속재 ]","전선관의 15 %","식",1,null,0,1,null,0,null,{"$f":"TRUNC(G208*M208)","v":0},0,0]
["MM919121135","0108",null,"[ 소모 잡자재 ]","전선, 전선관의 2 %","식",1,null,0,1,null,0,null,0,0,0]
["MM919121136","0108","391115ZZ701Z0025","노 무 비","내선전공","인",10,null,0,8,null,0,null,0,0,0]
["MM919121137","0108",null,"[ 공 구 손 료 ]","노무비의 3 %","식",1,null,0,1,null,0,null,0,0,0]
["A0500000000","0108","RENT000000000002"]
["A0300000000","0108","RENT000000000006"]
[{"$nulls":8},0,null,null,0,null,0,0,0]
[{"$nulls":8},0,null,null,0,null,0,0,0]
[null,null,null,"[합   계]",{"$nulls":4},{"$f":"TRUNC(SUM(I190:I215))","v":0},null,null,{"$f":"TRUNC(SUM(L190:L215))","v":0},null,{"$f":"TRUNC(SUM(N190:N215))","v":0},0,{"$f":"TRUNC(SUM(P190:P215))","v":0}]