{"text_format":"2","workbook":"xlsx","n_sheets":6,"sheets":["견적서","원가계산","총괄표","내역서","인력산출","노임단가"],"not_rendered":{"charts":0,"images":0,"macros":0,"external_links":0,"defined_names":1030,"comments":0,"pivot_tables":0},"unopened":[],"bounds":{"document_bytes":16777216,"sheet_cells":100000,"run_cost":"one","rows_first":2000,"rows_last":500,"rows_between":2000,"halvings":0,"cell_chars":16384,"cell_head_chars":4096},"cells_cut":0,"cells_raw":0,"read":"whole","date_system":"1900"}

{"sheet":"견적서","index":0,"n_rows":36,"n_cols":14,"rows_kept":36,"cut":false,"hidden":false,"merged":[[1,1,2,14],[6,2,6,6],[6,7,6,9],[6,13,6,14],[5,2,5,6],[5,7,5,9],[4,2,4,6],[4,7,4,9],[4,13,4,14],[5,13,5,14],[7,2,7,6],[7,7,7,9],[7,13,7,14],[8,2,8,6],[8,7,8,9],[8,13,8,14],[9,2,9,6],[9,7,9,9],[9,13,9,14],[10,2,10,6],[10,7,10,9],[10,13,10,14],[11,2,11,6],[11,7,11,9],[11,13,11,14],[12,2,12,6],[12,7,12,9],[12,13,12,14],[13,2,13,6],[13,7,13,9],[13,13,13,14],[14,2,14,6],[14,7,14,9],[14,13,14,14],[15,2,15,6],[15,7,15,9],[15,13,15,14],[16,2,16,6],[16,7,16,9],[16,13,16,14],[17,2,17,6],[17,7,17,9],[17,13,17,14],[18,2,18,6],[18,7,18,9],[18,13,18,14],[21,2,21,6],[21,7,21,9],[21,13,21,14],[19,2,19,6],[19,7,19,9],[19,13,19,14],[20,2,20,6],[20,7,20,9],[20,13,20,14],[22,2,22,6],[22,7,22,9],[22,13,22,14],[23,2,23,6],[23,7,23,9],[23,13,23,14],[24,2,24,6],[24,7,24,9],[24,13,24,14],[25,13,25,14],[25,2,25,6],[25,7,25,9],[26,2,26,6],[26,7,26,9],[26,13,26,14],[27,2,27,6],[27,7,27,9],[27,13,27,14],[32,2,32,4],[36,12,36,14],[28,2,28,6],[28,7,28,9],[28,13,28,14],[29,2,29,4],[30,2,31,4],[30,5,31,9]]}
[]
[null,"  견  적  서"]
[]
[]
[null,"번호","품명",{"$nulls":4},"규    격",null,null,"단 위","수  량","단   가","금   액"]
[]
[null,1,"재 료 비",{"$nulls":10},{"$f":"원가계산!D7","v":0}]
[null,2,"노 무 비",{"$nulls":10},{"$f":"원가계산!D10","v":0}]
[null,3,"경  비",{"$nulls":10},{"$f":"원가계산!D17","v":0}]
[null,4,"일반관리비",{"$nulls":10},{"$f":"원가계산!D19","v":0}]
[null,5,"이   윤",{"$nulls":10},{"$f":"원가계산!D20","v":0}]
{"$rows_empty":12}
[null,null,"소   계",{"$nulls":4},"천단위 이하 절사",{"$nulls":5},{"$f":"SUM(N7:O23)-M24","v":0}]
[null,null,"부 가 세",{"$nulls":10},{"$f":"N24*0.1","v":0}]
[]
[]
[]
[null,null,"합            계",{"$nulls":10},{"$f":"SUM(N24:O25)","v":0}]
[]
[null,null,"비   고"]
[]
[]
[]
[]
[{"$nulls":7},0]

{"sheet":"원가계산","index":1,"n_rows":22,"n_cols":10,"rows_kept":22,"cut":false,"hidden":false,"merged":[[21,0,21,2],[19,0,19,2],[22,6,22,7],[21,6,21,7],[20,6,20,7],[15,6,15,7],[13,6,13,7],[20,0,20,2],[18,0,18,2],[17,1,17,2],[16,6,16,7],[18,6,18,7],[19,6,19,7],[0,0,0,6],[2,3,3,3],[2,4,3,4],[2,5,3,5],[2,6,3,7],[12,6,12,7],[6,6,6,7],[2,0,3,2],[4,1,6,1],[7,1,9,1],[10,1,16,1],[9,6,9,7],[4,0,17,0],[17,6,17,7],[4,6,4,7],[8,6,8,7],[5,6,5,7],[10,6,10,7],[11,6,11,7],[7,6,7,7],[14,6,14,7]]}
[" 공 사 원 가 계 산 서  "]
[{"$nulls":6},"[단위:원]"]
["                                              구 분\n  비 목",null,null,"공사비","구성비","관련근거","적용비율"]
[]
["순 공 사 원 가","재료비","직접재료비",{"$f":"총괄표!D20","v":0}]
[null,null,"간접재료비"]
[null,null,"소 계",{"$f":"SUM(D5:D6)","v":0}]
[null,"노무비","직접노무비",{"$f":"총괄표!F20","v":0},{"$nulls":5}," 80%"]
[null,null,"간접노무비 ",{"$f":"D8*G9","v":0},"직.노×13%","조달청 기준",0]
[null,null,"소 계",{"$f":"SUM(D8:D9)","v":0}]
[null,"경 비","산재보험료",{"$f":"D10*G11","v":0},"노×3.7%","국토해양부 고시 2011-271",3.6999999999999998E-2]
[null,null,"고용보험료",{"$f":"D10*G12","v":0},"노×0.87%","고용노동부 고시 2012-139",8.6999999999999994E-3]
[null,null,"건강보험료"]
[null,null,"연금보험료"]
[null,null,"안전관리비",{"$f":"(D7+D10)*G15","v":0},"(재+직·노)×2.93%","고용노동부 고시 2012-23",2.93E-2]
[null,null,"기타경비",{"$f":"(D7+D10)*G16","v":0},"(재+노)×5.8%","조달청 기준"]
[null,null,"소 계",{"$f":"SUM(D11:D16)","v":0}]
[null,"계 ①",null,{"$f":"D7+D10+D17","v":0}]
["일 반 관 리 비 ②",null,null,{"$f":"D18*G19","v":0},"(재+노+경)×6.0%","조달청 기준",0.03]
["이          윤 ③",null,null,{"$f":"SUM(D18:D19)*G20","v":0},"(노+경+일·관)×15%","조달청 기준",0.02]
["공사원가 (④)=①+②+③",null,null,{"$f":"D18+D19+D20","v":0}]
["총 계 (④)",null,null,{"$f":"D21","v":0},null,null," VAT별도"]

{"sheet":"총괄표","index":2,"n_rows":20,"n_cols":8,"rows_kept":20,"cut":false,"hidden":false,"merged":[[0,0,0,7],[2,0,3,0],[2,1,3,1],[2,7,3,7],[2,2,2,3],[2,4,2,5]]}
[" 총       괄       표"]
[]
["품          명","단 위","재  료  비",null,"노  무  비",null,"합      계","비  고"]
[null,null,"단   가","금  액","단   가","금  액","금  액"]
[]
["1. 전산실 환경 개선공사",1,null,{"$f":"내역서!G29","v":0},null,{"$f":"내역서!I29","v":0},{"$f":"SUM(D6,F6)","v":0}]
["2. 전산실 광케이블 개선공사",1,null,{"$f":"내역서!G34","v":0},null,{"$f":"내역서!I34","v":0},0]
["3. 6층 전산실→4층 장비실 및 층간 네트워크 및 전화공사",1,null,{"$f":"내역서!G49","v":0},null,{"$f":"내역서!I49","v":0},0]
["4. 전산실 트레이 설치공사",1,null,{"$f":"내역서!G63","v":0},null,{"$f":"내역서!I63","v":0},0]
["5. 전산실 케아블 정리 및 철거",1,null,{"$f":"내역서!G60","v":0},null,{"$f":"내역서!I65","v":0},0]
[]
[]
["  소      계",null,null,{"$f":"SUM(D6:D12)","v":0},null,{"$f":"SUM(F6:F12)","v":0}]
[]
[]
[]
[]
[]
[]
[" 합  계",null,null,{"$f":"D13","v":0},null,{"$f":"F13","v":0},{"$f":"D20+F20","v":0}]

{"sheet":"내역서","index":3,"n_rows":66,"n_cols":11,"rows_kept":66,"cut":false,"hidden":false,"merged":[[0,1,0,8],[34,7,34,8],[1,5,1,6],[1,7,1,8]]}
[null," 견   적   내   역   서"]
[null,"  품  명","규    격","단위","수    량","자재비",null,"노무비",null,"합  계","비고"]
[{"$nulls":5},"단    가","금    액","단    가","금    액"]
[null,"1. 전산실 환경 개선공사"]
[null,"UTP Cable","LS, Cat.6 /4Pair","M",13500,null,{"$f":"F5*E5","v":0}]
[null,"Patch Panel","LS ,Cat.6 /24Port(Modular 포함)","EA",44,null,{"$f":"F6*E6","v":0}]
[null,"Outlet Modular","LS,Single Gang Box 용","EA",96,null,0]
[null,"Single Gang Box","LS  ,Face Flate 4구  포함","EA",24,null,0]
[null,"Patch Cord","Cat.6 3M(적,노,파,회 색깔별로)","EA",240,null,0]
[null,null,"Cat.6 5M(적,노,파,회 색깔별로)","EA",160,null,0]
[null,null,"Cat.6 7M(적,노,파,회 색깔별로)","EA",140,null,0]
[null," 광 Patch Cord","S/M   LC to LC  10M","EA",40,null,0]
[null,null,"S/M   LC to LC  20M","EA",40,null,0]
[null,null,"M/M 10G LC to LC 3M","EA",120,null,0]
[null,null,"M/M 10G LC to LC 7M","EA",100,null,0]
[null,null,"M/M 10G LC to LC 10M","EA",60,null,0]
[null,null,"M/M 10G LC to LC 20M","EA",35,null,0]
[null,"Line Cord","Cat.6 7M","EA",96,null,0]
[null,"4 Bay Rack","INNO 4BAY-4112","EA",5,null,0]
[null,null,"덕트,커버,팬 선반 등 포함",null,null,null,0]
[null,null,"kc14-32NFPMo","EA",12,null,0]
[null,null,"ENTRY PANEL","EA",92,null,0]
[null,null,"BLANK PANEL(1U,2U 포함)","EA",80,null,0]
[null,"CD관","22mm","M",350,null,0]
[null,null,"16mm","M",150,null,0]
[null,"VELCRO TIE","파랑색","Roll",90,null,0]
[null,"LABEL","PANDUIT R100*150VIT","Roll",2,null,0]
[null,"잡자재","재료비의 3% 이내","식",1,null,0]
[null,"소   계",{"$nulls":4},{"$f":"SUM(G5:G28)","v":0},null,{"$f":"인력산출!Y16","v":0}]
[null,"2. 전산실 광케이블 개선공사",{"$nulls":4},{"$f":"F30*E30","v":0}]
[null,"광케이블","LS ,M/M 10G 8Core","M",200,null,0]
[null,"FDF","16Core,8Core","EA",8,null,0]
[null,"Pig tail","S/M , M/M  to LC 1M","EA",160,null,0]
[null,"소   계",{"$nulls":4},{"$f":"SUM(G30:G33)","v":0},null,{"$f":"인력산출!Y21","v":0}]
[null,"3. 6층 전산실→4층 장비실 및 층간 네트워크 및 전화공사"]
[null,"UTP Cable","LS, Cat.6 /4Pair","M",4550,null,{"$f":"F36*E36","v":0}]
[null,null,"LS, Cat.5e/4Pair","M",1550,null,{"$f":"F37*E37","v":0}]
[null,null,"LS, Cat.5e/25Pair","M",320,null,0]
[null,"Patch Panel","LS ,Cat.6 /24Port(Modular 포함)","EA",6,null,0]
[null,"Outlet Modular","LS,Cat.6 Single Gang Box 용","EA",36,null,0]
[null,null,"LS,Cat5e Single Gang Box 용","EA",12,null,0]
[null,"Single Gang Box","LS  ,Face Flate 4구  포함","EA",12,null,0]
[null,"110 단자","100P","EA",4,null,0]
[null,"단자 브라켓트","2U","EA",2,null,0]
[null,"CD관","28mm","M",400,null,0]
[null,null,"16mm","M",150,null,0]
[null,"VELCRO TIE","파랑색","Roll",50,null,0]
[null,"잡자재","재료비의 3% 이내","식",1,null,0]
[null,"소   계",{"$nulls":4},{"$f":"SUM(G36:G48)","v":0},null,{"$f":"인력산출!Y31","v":0}]
[null,"4. 전산실 트레이 설치공사"]
[null,"Mash Cable Tray","500W * 60H * ¢5.0 ","M",27,null,{"$f":"F51*E51","v":0}]
[null,"Staight Separator","분리대( 3M)","EA",9,null,{"$f":"F52*E52","v":0}]
[null,"U - Channel Hanger","40 * 40 *2 , 3t *750L","EA",22,null,0]
[null,"Hanger Lord ","3/8   2M 및 앙카포함","EA",44,null,0]
[null,"체결 부속 자재",null,"식",1,null,0]
[null,"HI - TEC CABLE TRAY","300W * 100H * 0.1t","M",30,null,0]
[null,"VERTICAL TEE DOWN TYPE","300W * 100H","EA",1,null,0]
[null,"90 HORIZONTAL ELBOW ","300W * 100H","EA",1,null,0]
[null,"JOINER SET 및 BONDING JUMPER",null,"EA",22,null,0]
[null,"U - Channel Hanger","40 * 40 *2 , 3t *400L","EA",12,null,0]
[null,"기타 부품",null,"식",1,null,0]
[null,"잡자재","재료비의 3% 이내","식",1,null,0]
[null,"소   계",{"$nulls":4},{"$f":"SUM(G51:G61)","v":0},null,{"$f":"인력산출!Y32","v":0}]
[null,"5. 전산실 케아블 정리 및 철거"]
[null,null,"악세스 플로아 밑  천장 케이블 철거","식",1,null,null,null,{"$f":"H65","v":0}]
[null,"소   계",{"$nulls":6},{"$f":"SUM(I65)","v":0}]

{"sheet":"인력산출","index":4,"n_rows":34,"n_cols":25,"rows_kept":34,"cut":false,"hidden":false,"merged":[[2,24,3,24],[2,6,3,6],[2,7,2,8],[2,9,2,10],[2,11,2,12],[2,13,2,14],[2,15,2,16],[2,17,2,18],[2,19,3,19],[2,21,3,21],[2,22,3,22],[2,23,3,23],[2,0,3,0],[2,1,3,1],[2,2,3,2],[2,3,3,3],[2,4,3,4],[1,15,1,16],[1,17,1,18],[2,5,3,5],[1,7,1,8],[1,9,1,10],[1,11,1,12],[1,13,1,14],[33,15,33,16],[33,17,33,18],[33,0,33,2],[33,7,33,8],[33,9,33,10],[33,11,33,12],[33,13,33,14]]}
[]
["▣ 인력산출근거",{"$nulls":5},1]
["구   분","품   명","규   격","단위","단위","수량","적용\n수량","통신케이블공",null,"통신설비공",null,"통신내선공",null,"보통인부",null,"광케이블설치사",null,"특별인부",null,"비고(적용)",null,"내역산출\n적용비율","인건비 01","인건비 02","합"]
[{"$nulls":7},"단위","인","단위","인","단위","인","단위","인","단위","인","단위","인"]
["1. 전산실 환경 개선공사","UTP CABLE","CAT.6 4PAIR","M",10,13500,{"$f":"F5/E5","v":1350},0.18,{"$f":"H5*G5*$G$2","v":243},{"$nulls":10},"통신 4-3-1",null,null,{"$f":"(I5*노임단가!C8)*V5","v":0},null,{"$f":"SUM(W5:X5)","v":0}]
[null,"UTP 패치판넬 설치","CAT.6 24Port","EA",1,44,{"$f":"F6/E6","v":44},null,0,0.21,{"$f":"J6*G6*$G$2","v":9.24},null,{"$f":"L6*G6*$G$2","v":0},0.21,{"$f":"N6*G6*$G$2","v":9.24},null,{"$f":"P6*G6*$G$2","v":0},null,{"$f":"R6*G6*$G$2","v":0},"통신 4-3-3",null,null,{"$f":"(K6*노임단가!C6)*V6","v":0},{"$f":"(O6*노임단가!C10)*V6","v":0},{"$f":"SUM(W6:X6)","v":0}]
[null,"UTP 패치판넬 성단","CAT.6 24Port","Port",1,1056,1056,0.03,31.68,null,0,null,0,0.02,21.12,null,0,null,0,"통신 4-3-3",null,null,{"$f":"(I7*노임단가!C10)*V7","v":0},{"$f":"(O7*노임단가!C11)*V7","v":0},0]
[null,"UTP 패치판넬 회선 시험","CAT.6 24Port","Port",1,1056,1056,0.05,52.800000000000004,{"$nulls":4},0.03,31.68,{"$nulls":4},"통신 4-3-3",null,null,{"$f":"(I8*노임단가!C11)*V8","v":0},{"$f":"(O8*노임단가!C12)*V8","v":0},0]
[null,"UTP PATCH CORD","CAT.6 3M","EA",10,540,54,0.4,21.6,{"$nulls":4},0.54,29.160000000000004,{"$nulls":4},"통신 4-3-3",null,null,{"$f":"(I9*노임단가!C12)*V9","v":0},{"$f":"(O9*노임단가!C13)*V9","v":0},0]
[null," 광 Patch Cord","LC to LC","EA",10,3070,307,7.0000000000000007E-2,21.490000000000002,{"$nulls":5},0,{"$nulls":4},"통신 6-1-1",null,null,{"$f":"(I10*노임단가!C13)*V10","v":0},null,0]
[null,"OUTLET BOX","CAT.6 4PORT","EA",1,18,18,null,0,null,null,0.15,{"$f":"L11*G11*$G$2","v":2.6999999999999997},null,0,{"$nulls":4},"통신 4-3-3",null,null,{"$f":"(M11*노임단가!C5)*V11","v":0},null,0]
[null,"OUTLET MODULAR","CAT.6","EA",10,96,9.6,null,0,null,null,0.624,5.9904000000000002,null,0,{"$nulls":4},"통신 4-3-2",null,null,{"$f":"(M12*노임단가!C6)*V12","v":0},null,0]
[null,"Rack 설치","H:2,000","EA",1,5,5,null,0,0.52,{"$f":"J13*G13*$G$2","v":2.6},null,0,null,0,{"$nulls":4},"통신 4-3-3",null,null,{"$f":"(K13*노임단가!C13)*V13","v":0},null,0]
[null,"CD관","16mm 난연","M",10,350,35,null,0,null,0,0.5,17.5,null,0,{"$nulls":4},"통신 3-1-1",null,null,{"$f":"(M14*노임단가!C8)*V14","v":0},null,0]
[null,null,"22mm 난연","M",10,150,15,null,0,null,0,0.6,9,null,0,{"$nulls":4},"통신 3-1-1",null,null,{"$f":"(M15*노임단가!C9)*V15","v":0},null,0]
[{"$nulls":8},0,null,0,null,0,null,0,{"$nulls":9},0]
["2. 전산실 광케이블 개선공사","광케이블 포설","M/M 10G 8Core","M",100,200,2,null,0,null,0,null,0,null,0,0.94,{"$f":"P17*G17","v":1.88},1.41,{"$f":"R17*G17","v":2.82},"통신 4-1-1",null,null,{"$f":"(Q17*노임단가!C12)*V17","v":0},{"$f":"(S17*노임단가!C11)*V17","v":0},0]
[null,"FDF 설치","16Core","EA",1,8,8,null,0,0.23,1.84,null,0,0.23,1.84,{"$nulls":4},"통신 4-1-2-2",null,null,{"$f":"(O18*노임단가!C10)*V18","v":0},{"$f":"(O18*노임단가!C10)*V18","v":0},0]
[null,"광케이블 접속","코어당","Core",1,160,160,null,0,null,0,null,0,null,0,0.11,{"$f":"P19*G19","v":17.600000000000001},0.11,{"$f":"R19*G19","v":17.600000000000001},"통신 4-1-2-1",null,null,{"$f":"(Q19*노임단가!C14)*V19","v":0},{"$f":"(S19*노임단가!C13)*V19","v":0},0]
[null,"광케이블 시험 및 FLUKE Test","코어당","Core",1,160,160,null,0,null,0,null,0,null,0,0.28000000000000003,{"$f":"P20*G20","v":44.800000000000004},0.23,{"$f":"R20*G20","v":36.800000000000004},"통신 4-1-2-1",null,null,{"$f":"(Q20*노임단가!C15)*V20","v":0},{"$f":"(S20*노임단가!C14)*V20","v":0},0]
[{"$nulls":8},0,null,0,null,0,null,0,{"$nulls":9},0]
["3. 6층 전산실→4층 장비실 및 층간 네트워크 및 전화공사","UTP Cable","LS, Cat.6 /4Pair","M",10,4550,455,0.15,68.25,null,0,null,0,null,0,{"$nulls":4},"통신 4-3-1",null,null,{"$f":"(I22*노임단가!C8)*V22","v":0},null,0]
[null,null,"LS, Cat.5e/4Pair","M",10,1550,155,0.15,23.25,null,0,null,0,null,0,{"$nulls":4},"통신 4-3-1",null,null,{"$f":"(I23*노임단가!C9)*V23","v":0},null,0]
[null,null,"LS, Cat.5e/25Pair","M",10,320,32,0.24,7.68,null,0,null,0,null,0,{"$nulls":4},"통신 4-3-1",null,null,{"$f":"(I24*노임단가!C10)*V24","v":0},null,0]
[null,"UTP 패치판넬 설치","CAT.6 24Port","EA",1,6,6,null,0,0.21,1.26,null,0,null,0,{"$nulls":4},"통신 4-3-3",null,null,{"$f":"(K25*노임단가!C6)*V25","v":0},null,0]
[null,"OUTLET BOX","CAT.6 4PORT","EA",1,12,12,null,0,null,0,0.15,1.7999999999999998,null,0,{"$nulls":4},"통신 4-3-3",null,null,{"$f":"(M26*노임단가!C5)*V26","v":0},null,0]
[null,"OUTLET MODULAR","CAT.6 Modular","EA",10,26,2.6,null,0,null,0,0.39,1.014,null,0,{"$nulls":4},"통신 4-3-2",null,null,{"$f":"(M27*노임단가!C6)*V27","v":0},null,0]
[null,"110단자","100P","EA",1,4,4,null,0,0.31,1.24,null,0,null,0,{"$nulls":4},"통신 4-3-3",null,null,{"$f":"(K28*노임단가!C9)*V28","v":0},null,0]
[null,"CD관","28mm 난연","M",10,400,40,null,0,null,null,0.8,32,null,0,{"$nulls":4},"통신 3-1-1",null,null,{"$f":"(M29*노임단가!C8)*V29","v":0},null,0]
[null,null,"16mm 난연","M",10,150,15,null,0,null,null,0.5,7.5,null,0,{"$nulls":4},"통신 3-1-1",null,null,{"$f":"(M30*노임단가!C9)*V30","v":0},null,0]
[{"$nulls":8},0,null,null,null,0,null,0,{"$nulls":9},0]
["4. 전산실 트레이 설치공사","케이블 트레이","W500","M",10,57,5.7,null,0,null,null,4.45,25.365000000000002,null,0,{"$nulls":4},"통신 3-4-1",null,null,{"$f":"(M32*노임단가!C11)*V32","v":0},null,0]
[{"$nulls":8},0,{"$nulls":7},{"$f":"P33*G33*$G$2","v":0},null,{"$f":"R33*G33*$G$2","v":0},{"$nulls":5},{"$f":"SUM(Y32)","v":0}]
["합                         계",{"$nulls":6},{"$f":"SUM(I5:I33)","v":469.75000000000006},null,{"$f":"SUM(K5:K33)","v":16.18},null,{"$f":"SUM(M5:M33)","v":102.86940000000001},null,{"$f":"SUM(O5:O33)","v":93.04},null,{"$f":"SUM(Q5:Q33)","v":64.28},null,{"$f":"SUM(S5:S33)","v":57.220000000000006},{"$nulls":4},{"$f":"SUM(W5:W33)","v":0},{"$f":"SUM(X5:X33)","v":0},{"$f":"SUM(Y33,Y31,Y21,Y16)","v":0}]

{"sheet":"노임단가","index":5,"n_rows":26,"n_cols":7,"rows_kept":26,"cut":false,"hidden":false,"merged":[[0,4,1,4],[2,0,3,0],[2,1,3,1]]}
["적용기간 : 2021.1.1 ~ 8.31"]
[]
[null,"직종","2021년 상반기 적용"]
[null,null,"시중노임(2021. 1. 1)"]
[1086,"통신내선공",224251]
[1087,"통신설비공",245619]
[1088,"통신외선공",319849]
[1089,"통신케이블공",339623]
[1090,"무선안테나공",273520]
[1002,"보통인부",141096]
[1003,"특별인부",179203]
[2001,"광케이블설치사",360206]
[2002,"H/W시험사",330411]
[2003,"S/W시험사",354793]
[5001,"통신관련기사",257342]
[5002,"통신관련산업기사",254403]
[5003,"통신관련기능사",206555]
{"$rows_empty":8}
[{"$nulls":6},2020]