Workbook

Sheet 원가계산서
B1: 공 사 원 가 계 산 서
B2: 공사명 : 부천대학교 한길체육관 강의실 개선공사 | F2: 금액 : 원(￦)
B3: 비 목 | E3: 금 액 | F3: 구 성 비 | G3: 비 고
A4: A1 | B4: 순 공 사 원 가 | C4: 재 료 비 | D4: 직 접 재 료 비 | E4: =TRUNC(공종별집계표!F5, 0) -> 0
A5: A2 | D5: 간 접 재 료 비 | E5: 0
A6: A3 | D6: 작업설, 부산물(△) | E6: 0
A7: AS | D7: [ 소 계 ] | E7: =TRUNC(E4+E5-E6, 0) -> 0
A8: B1 | C8: 노 무 비 | D8: 직 접 노 무 비 | E8: =TRUNC(공종별집계표!H5, 0) -> 0
A9: B2 | D9: 간 접 노 무 비 | E9: =TRUNC(E8*0.175, 0) -> 0 | F9: 직접노무비 * 17.5%
A10: BS | D10: [ 소 계 ] | E10: =TRUNC(E8+E9, 0) -> 0
A11: C2 | C11: 경 비 | D11: 경 비 | E11: =TRUNC(공종별집계표!J5, 0) -> 0
A12: C4 | D12: 산 재 보 험 료 | E12: =TRUNC(E10*0.0356, 0) -> 0 | F12: 노무비 * 3.56%
A13: C5 | D13: 고 용 보 험 료 | E13: =TRUNC(E10*0.0101, 0) -> 0 | F13: 노무비 * 1.01%
A14: CA | D14: 산업안전보건관리비 | E14: =TRUNC((E7+E8+(0/1.1))*0.0311, 0) -> 0 | F14: (재료비+직노+관급자재비) * 3.11%
A15: CG | D15: 기 타 경 비 | E15: =TRUNC((E7+E10)*0.05, 0) -> 0 | F15: (재료비+노무비) * 5%
A16: CH | D16: 환 경 보 전 비 | E16: =TRUNC((E7+E8+E11)*0.003, 0) -> 0 | F16: (재료비+직노+경비) * 0.3%
A17: CL | D17: 건설기계대여금지급보증서발급수수료 | E17: =TRUNC((E7+E8+E11)*0.0007, 0) -> 0 | F17: (재료비+직노+경비) * 0.07%
A18: CS | D18: [ 소 계 ] | E18: =TRUNC(E11+E12+E13+E14+E15+E16+E17, 0) -> 0
A19: S1 | B19: 계 | E19: =TRUNC(E7+E10+E18, 0) -> 0
A20: D1 | B20: 일 반 관 리 비 | E20: =TRUNC(E19*0.08, 0) -> 0 | F20: 계 * 8%
A21: D2 | B21: 이 윤 | E21: =TRUNC((E10+E18+E20)*0.15, 0) -> 0 | F21: (노무비+경비+일반관리비) * 15%
A22: D4 | B22: 폐 기 물 처 리 | E22: =TRUNC(공종별집계표!T13, 0) -> 0
A23: D9 | B23: 공 급 가 액 | E23: =TRUNC(E19+E20+E21+E22, 0) -> 0
A24: DB | B24: 부 가 가 치 세 | E24: =TRUNC(E23*0.1, 0) -> 0 | F24: 공급가액 * 10%
A25: DH | B25: 도 급 액 | E25: =TRUNC(E23+E24, 0) -> 0
A26: S2 | B26: 총 공 사 비 | E26: =TRUNC(E25+0, 0) -> 0

Sheet 공종별집계표
A1: 공 종 별 집 계 표
A2: [ 부천대학교 한길체육관 2-3층 개선공사 ]
A3: 품 명 | B3: 규 격 | C3: 단위 | D3: 수량 | E3: 재 료 비 | G3: 노 무 비 | I3: 경 비 | K3: 합 계 | M3: 비 고 | N3: 공종코드 | O3: 변수 | P3: 상위공종 | Q3: 공종구분 | R3: 공종레벨 | S3: 공종소계 | T3: 원가계산서 연결금액
E4: 단 가 | F4: 금 액 | G4: 단 가 | H4: 금 액 | I4: 단 가 | J4: 금 액 | K4: 단 가 | L4: 금 액
A5: 01 부천대학교 한길체육관 2층,3층 | D5: 1 | E5: =F6+F7+F10 -> 0 | F5: =E5*D5 -> 0 | G5: =H6+H7+H10 -> 0 | H5: =G5*D5 -> 0 | I5: =J6+J7+J10 -> 0 | J5: =I5*D5 -> 0 | K5: =E5+G5+I5 -> 0 | L5: =F5+H5+J5 -> 0 | N5: 01 | R5: 1
A6: 0101 가 설 공 사 | D6: 1 | E6: =공종별내역서!F27 -> 0 | F6: =E6*D6 -> 0 | G6: =공종별내역서!H27 -> 0 | H6: =G6*D6 -> 0 | I6: =공종별내역서!J27 -> 0 | J6: =I6*D6 -> 0 | K6: =E6+G6+I6 -> 0 | L6: =F6+H6+J6 -> 0 | N6: 0101 | P6: 01 | R6: 2
A7: 0102 지 상 2 층 | D7: 1 | E7: =F8+F9 -> 0 | F7: =E7*D7 -> 0 | G7: =H8+H9 -> 0 | H7: =G7*D7 -> 0 | I7: =J8+J9 -> 0 | J7: =I7*D7 -> 0 | K7: =E7+G7+I7 -> 0 | L7: =F7+H7+J7 -> 0 | N7: 0102 | P7: 01 | R7: 2
A8: 010201 철 거 공 사 | D8: 1 | E8: =공종별내역서!F50 -> 0 | F8: =E8*D8 -> 0 | G8: =공종별내역서!H50 -> 0 | H8: =G8*D8 -> 0 | I8: =공종별내역서!J50 -> 0 | J8: =I8*D8 -> 0 | K8: =E8+G8+I8 -> 0 | L8: =F8+H8+J8 -> 0 | N8: 010201 | P8: 0102 | R8: 3
A9: 010202 운 동 재 활 실 습 실 | D9: 1 | E9: =공종별내역서!F96 -> 0 | F9: =E9*D9 -> 0 | G9: =공종별내역서!H96 -> 0 | H9: =G9*D9 -> 0 | I9: =공종별내역서!J96 -> 0 | J9: =I9*D9 -> 0 | K9: =E9+G9+I9 -> 0 | L9: =F9+H9+J9 -> 0 | N9: 010202 | P9: 0102 | R9: 3
A10: 0103 지 상 3 층 | D10: 1 | E10: =F11+F12 -> 0 | F10: =E10*D10 -> 0 | G10: =H11+H12 -> 0 | H10: =G10*D10 -> 0 | I10: =J11+J12 -> 0 | J10: =I10*D10 -> 0 | K10: =E10+G10+I10 -> 0 | L10: =F10+H10+J10 -> 0 | N10: 0103 | P10: 01 | R10: 2
A11: 010301 철 거 공 사 | D11: 1 | E11: =공종별내역서!F119 -> 0 | F11: =E11*D11 -> 0 | G11: =공종별내역서!H119 -> 0 | H11: =G11*D11 -> 0 | I11: =공종별내역서!J119 -> 0 | J11: =I11*D11 -> 0 | K11: =E11+G11+I11 -> 0 | L11: =F11+H11+J11 -> 0 | N11: 010301 | P11: 0103 | R11: 3
A12: 010302 동 아 리 연 습 실 | D12: 1 | E12: =공종별내역서!F165 -> 0 | F12: =E12*D12 -> 0 | G12: =공종별내역서!H165 -> 0 | H12: =G12*D12 -> 0 | I12: =공종별내역서!J165 -> 0 | J12: =I12*D12 -> 0 | K12: =E12+G12+I12 -> 0 | L12: =F12+H12+J12 -> 0 | N12: 010302 | P12: 0103 | R12: 3
A13: 0104 폐 기 물 처 리 | D13: 1 | E13: =공종별내역서!F188 -> 0 | F13: =E13*D13 -> 0 | G13: =공종별내역서!H188 -> 0 | H13: =G13*D13 -> 0 | I13: =공종별내역서!J188 -> 0 | J13: =I13*D13 -> 0 | K13: =E13+G13+I13 -> 0 | L13: =F13+H13+J13 -> 0 | N13: 0104 | Q13: 6 | R13: 2 | T13: =L13*1 -> 0
A27: [ 합 계 ] | F27: =F5 -> 0 | H27: =H5 -> 0 | J27: =J5 -> 0 | L27: =L5 -> 0

Sheet 공종별내역서
A1: 공 종 별 내 역 서
A2: [ 부천대학교 한길체육관 2-3층 개선공사 ]
A3: 품 명 | B3: 규 격 | C3: 단위 | D3: 수량 | E3: 재 료 비 | G3: 노 무 비 | I3: 경 비 | K3: 합 계 | M3: 비 고 | N3: 품목코드 | O3: 변수 | P3: 설정 | Q3: 공종코드 | R3: 일위 | S3: 단산 | T3: 자재 | U3: 손료적용 | V3: 손료저장 | W3: 적용율 | X3: JUK1 | Y3: JUK2 | Z3: JUK3 | AA3: JUK4 | AB3: JUK5 | AC3: JUK6 | AD3: JUK7 | AE3: JUK8 | AF3: JUK9 | AG3: JUK10 | AH3: JUK11 | AI3: JUK12 | AJ3: JUK13 | AK3: JUK14 | AL3: JUK15 | AM3: JUK16 | AN3: JUK17 | AO3: JUK18 | AP3: JUK19 | AQ3: JUK20 | AR3: 자재구분 | AS3: 공종구분 | AT3: 공종레벨 | AU3: 공종+자재 | AV3: 고유번호
E4: 단 가 | F4: 금 액 | G4: 단 가 | H4: 금 액 | I4: 단 가 | J4: 금 액 | K4: 단 가 | L4: 금 액
A5: 0101 가 설 공 사 | Q5: 0101
A6: 구조부 먹매김 | B6: 일반 | C6: M2 | D6: 259.6 | F6: =TRUNC(E6*D6, 0) -> 0 | H6: =TRUNC(G6*D6, 0) -> 0 | J6: =TRUNC(I6*D6, 0) -> 0 | K6: =TRUNC(E6+G6+I6, 0) -> 0 | L6: =TRUNC(F6+H6+J6, 0) -> 0 | N6: 5D5B536B7D432CF96D99E9BD93F758 | Q6: 0101 | R6: T | S6: F | T6: F | AU6: 01015D5B536B7D432CF96D99E9BD93F758 | AV6: 368
A7: 건축물보양 | B7: 플라베니아 | C7: M2 | D7: 259.6 | F7: =TRUNC(E7*D7, 0) -> 0 | H7: =TRUNC(G7*D7, 0) -> 0 | J7: =TRUNC(I7*D7, 0) -> 0 | K7: =TRUNC(E7+G7+I7, 0) -> 0 | L7: =TRUNC(F7+H7+J7, 0) -> 0 | N7: 5D5B536B7D432CC998177A129D1D58 | Q7: 0101 | R7: T | S7: F | T7: F | AU7: 01015D5B536B7D432CC998177A129D1D58 | AV7: 4
A8: 건축물 현장정리 | B8: 목조, 철골조, 조적조 | C8: M2 | D8: 259.6 | F8: =TRUNC(E8*D8, 0) -> 0 | H8: =TRUNC(G8*D8, 0) -> 0 | J8: =TRUNC(I8*D8, 0) -> 0 | K8: =TRUNC(E8+G8+I8, 0) -> 0 | L8: =TRUNC(F8+H8+J8, 0) -> 0 | N8: 5D5B536B7D780A39344848C5987238 | Q8: 0101 | R8: T | S8: F | T8: F | AU8: 01015D5B536B7D780A39344848C5987238 | AV8: 5
A9: 준공청소 | C9: M2 | D9: 259.6 | F9: =TRUNC(E9*D9, 0) -> 0 | H9: =TRUNC(G9*D9, 0) -> 0 | J9: =TRUNC(I9*D9, 0) -> 0 | K9: =TRUNC(E9+G9+I9, 0) -> 0 | L9: =TRUNC(F9+H9+J9, 0) -> 0 | N9: 5D5B536B7D205D991A1FA8E99C09B8 | Q9: 0101 | R9: T | S9: F | T9: F | AU9: 01015D5B536B7D205D991A1FA8E99C09B8 | AV9: 6
A10: 강관 조립말비계(이동식)설치 및 해체 | B10: 높이 2m, 3개월 | C10: 대 | D10: 2 | F10: =TRUNC(E10*D10, 0) -> 0 | H10: =TRUNC(G10*D10, 0) -> 0 | J10: =TRUNC(I10*D10, 0) -> 0 | K10: =TRUNC(E10+G10+I10, 0) -> 0 | L10: =TRUNC(F10+H10+J10, 0) -> 0 | N10: 5D5B536E7A9B669965810332993208 | Q10: 0101 | R10: T | S10: F | T10: F | AU10: 01015D5B536E7A9B669965810332993208 | AV10: 369
Q11: 0101
Q12: 0101
Q13: 0101
Q14: 0101
Q15: 0101
Q16: 0101
Q17: 0101
Q18: 0101
Q19: 0101
Q20: 0101
Q21: 0101
Q22: 0101
... Q26: 0101
A27: [ 합 계 ] | F27: =SUMIF(Q6:Q26,"0101",F6:F26) -> 0 | H27: =SUMIF(Q6:Q26,"0101",H6:H26) -> 0 | J27: =SUMIF(Q6:Q26,"0101",J6:J26) -> 0 | L27: =SUMIF(Q6:Q26,"0101",L6:L26) -> 0 | N27: TOTAL
A28: 010201 철 거 공 사 | Q28: 010201
A29: 마루틀 및 마루널 철거 | B29: 해체재 재사용 안 함 | C29: M2 | D29: 79.4 | F29: =TRUNC(E29*D29, 0) -> 0 | H29: =TRUNC(G29*D29, 0) -> 0 | J29: =TRUNC(I29*D29, 0) -> 0 | K29: =TRUNC(E29+G29+I29, 0) -> 0 | L29: =TRUNC(F29+H29+J29, 0) -> 0 | N29: 5D5A538274188D39469D1CA1984158 | Q29: 010201 | R29: T | S29: F | T29: F | AU29: 0102015D5A538274188D39469D1CA1984158 | AV29: 290
A30: 타일 해체 | B30: 압착붙이기, 접착붙이기 | C30: M2 | D30: 28.3 | F30: =TRUNC(E30*D30, 0) -> 0 | H30: =TRUNC(G30*D30, 0) -> 0 | J30: =TRUNC(I30*D30, 0) -> 0 | K30: =TRUNC(E30+G30+I30, 0) -> 0 | L30: =TRUNC(F30+H30+J30, 0) -> 0 | N30: 5D5A538274188D3947AA938C91E2D8 | Q30: 010201 | R30: T | S30: F | T30: F | AU30: 0102015D5A538274188D3947AA938C91E2D8 | AV30: 291
A31: 벽체철거 | B31: 경량벽체 | C31: M2 | D31: 44.4 | F31: =TRUNC(E31*D31, 0) -> 0 | H31: =TRUNC(G31*D31, 0) -> 0 | J31: =TRUNC(I31*D31, 0) -> 0 | K31: =TRUNC(E31+G31+I31, 0) -> 0 | L31: =TRUNC(F31+H31+J31, 0) -> 0 | N31: 5DC0236B731B014904E656F89BAE08 | Q31: 010201 | R31: T | S31: F | T31: F | AU31: 0102015DC0236B731B014904E656F89BAE08 | AV31: 292
A32: 벽체철거 | B32: 0.5B 조적벽 | C32: M2 | D32: 34.1 | F32: =TRUNC(E32*D32, 0) -> 0 | H32: =TRUNC(G32*D32, 0) -> 0 | J32: =TRUNC(I32*D32, 0) -> 0 | K32: =TRUNC(E32+G32+I32, 0) -> 0 | L32: =TRUNC(F32+H32+J32, 0) -> 0 | N32: 5DC0236B731B7439D268B28B978A78 | Q32: 010201 | R32: T | S32: F | T32: F | AU32: 0102015DC0236B731B7439D268B28B978A78 | AV32: 293
A33: 벽체철거 | B33: 1.0B 조적벽 | C33: M2 | D33: 10.6 | F33: =TRUNC(E33*D33, 0) -> 0 | H33: =TRUNC(G33*D33, 0) -> 0 | J33: =TRUNC(I33*D33, 0) -> 0 | K33: =TRUNC(E33+G33+I33, 0) -> 0 | L33: =TRUNC(F33+H33+J33, 0) -> 0 | N33: 5DC0236B731B7429CB76FB789A54F8 | Q33: 010201 | R33: T | S33: F | T33: F | AU33: 0102015DC0236B731B7429CB76FB789A54F8 | AV33: 294
A34: 타일 해체 | B34: 떠붙이기 | C34: M2 | D34: 28.6 | F34: =TRUNC(E34*D34, 0) -> 0 | H34: =TRUNC(G34*D34, 0) -> 0 | J34: =TRUNC(I34*D34, 0) -> 0 | K34: =TRUNC(E34+G34+I34, 0) -> 0 | L34: =TRUNC(F34+H34+J34, 0) -> 0 | N34: 5D5A538274188D3947AA938C91D068 | Q34: 010201 | R34: T | S34: F | T34: F | AU34: 0102015D5A538274188D3947AA938C91D068 | AV34: 295
A35: 천정철거 | B35: 골조+텍스 | C35: M2 | D35: 83.2 | F35: =TRUNC(E35*D35, 0) -> 0 | H35: =TRUNC(G35*D35, 0) -> 0 | J35: =TRUNC(I35*D35, 0) -> 0 | K35: =TRUNC(E35+G35+I35, 0) -> 0 | L35: =TRUNC(F35+H35+J35, 0) -> 0 | N35: 5DC0236B730AAC99F587513F9E0AE8 | Q35: 010201 | R35: T | S35: F | T35: F | AU35: 0102015DC0236B730AAC99F587513F9E0AE8 | AV35: 11
A36: 천정철거 | B36: 마감재 | C36: M2 | D36: 29.9 | F36: =TRUNC(E36*D36, 0) -> 0 | H36: =TRUNC(G36*D36, 0) -> 0 | J36: =TRUNC(I36*D36, 0) -> 0 | K36: =TRUNC(E36+G36+I36, 0) -> 0 | L36: =TRUNC(F36+H36+J36, 0) -> 0 | N36: 5DC0236B730A81C961E73EB6989AB8 | Q36: 010201 | R36: T | S36: F | T36: F | AU36: 0102015DC0236B730A81C961E73EB6989AB8 | AV36: 296
A37: DOOR/FRAME 철거 | B37: 900*2100 | C37: SET | D37: 2 | F37: =TRUNC(E37*D37, 0) -> 0 | H37: =TRUNC(G37*D37, 0) -> 0 | J37: =TRUNC(I37*D37, 0) -> 0 | K37: =TRUNC(E37+G37+I37, 0) -> 0 | L37: =TRUNC(F37+H37+J37, 0) -> 0 | N37: 5DC0236B731B014904E656F89BAE78 | Q37: 010201 | R37: T | S37: F | T37: F | AU37: 0102015DC0236B731B014904E656F89BAE78 | AV37: 370
A38: DOOR/FRAME 철거 | B38: 1800*2100 | C38: SET | D38: 1 | F38: =TRUNC(E38*D38, 0) -> 0 | H38: =TRUNC(G38*D38, 0) -> 0 | J38: =TRUNC(I38*D38, 0) -> 0 | K38: =TRUNC(E38+G38+I38, 0) -> 0 | L38: =TRUNC(F38+H38+J38, 0) -> 0 | N38: 5DC0236B731B014904E656F89BAE68 | Q38: 010201 | R38: T | S38: F | T38: F | AU38: 0102015DC0236B731B014904E656F89BAE68 | AV38: 372
Q39: 010201
Q40: 010201
Q41: 010201
Q42: 010201
Q43: 010201
Q44: 010201
Q45: 010201
Q46: 010201
Q47: 010201
Q48: 010201
Q49: 010201
A50: [ 합 계 ] | F50: =SUMIF(Q29:Q49,"010201",F29:F49) -> 0 | H50: =SUMIF(Q29:Q49,"010201",H29:H49) -> 0 | J50: =SUMIF(Q29:Q49,"010201",J29:J49) -> 0 | L50: =SUMIF(Q29:Q49,"010201",L29:L49) -> 0 | N50: TOTAL
A51: 010202 운 동 재 활 실 습 실 | Q51: 010202
A52: [바 닥 공 사] | F52: =TRUNC(E52*D52, 0) -> 0 | H52: =TRUNC(G52*D52, 0) -> 0 | J52: =TRUNC(I52*D52, 0) -> 0 | K52: =TRUNC(E52+G52+I52, 0) -> 0 | L52: =TRUNC(F52+H52+J52, 0) -> 0 | Q52: 010202 | R52: F | S52: F | T52: F | AU52: 010202 | AV52: 26
A53: 바탕처리 | B53: 보통, 바닥 | C53: M2 | D53: 107.3 | F53: =TRUNC(E53*D53, 0) -> 0 | H53: =TRUNC(G53*D53, 0) -> 0 | J53: =TRUNC(I53*D53, 0) -> 0 | K53: =TRUNC(E53+G53+I53, 0) -> 0 | L53: =TRUNC(F53+H53+J53, 0) -> 0 | N53: 5D5BC32D7642038902BF68C9958BC8 | Q53: 010202 | R53: T | S53: F | T53: F | AU53: 0102025D5BC32D7642038902BF68C9958BC8 | AV53: 20
A54: 몰탈타설 | B54: THK:80MM | C54: M2 | D54: 32.8 | F54: =TRUNC(E54*D54, 0) -> 0 | H54: =TRUNC(G54*D54, 0) -> 0 | J54: =TRUNC(I54*D54, 0) -> 0 | K54: =TRUNC(E54+G54+I54, 0) -> 0 | L54: =TRUNC(F54+H54+J54, 0) -> 0 | N54: 5DC043B67119F7A91C71F2E19BF2E8 | Q54: 010202 | R54: T | S54: F | T54: F | AU54: 0102025DC043B67119F7A91C71F2E19BF2E8 | AV54: 297
A55: DECO TILE/깔기 VT-01 | B55: 600*600*5T | C55: M2 | D55: 107.3 | F55: =TRUNC(E55*D55, 0) -> 0 | H55: =TRUNC(G55*D55, 0) -> 0 | J55: =TRUNC(I55*D55, 0) -> 0 | K55: =TRUNC(E55+G55+I55, 0) -> 0 | L55: =TRUNC(F55+H55+J55, 0) -> 0 | N55: 5DC0539C744D8F1946E221C0935538 | Q55: 010202 | R55: T | S55: F | T55: F | AU55: 0102025DC0539C744D8F1946E221C0935538 | AV55: 19
A56: 스테인리스재료분리대 | B56: 바닥, W25*H20*1.5t | C56: M | D56: 5.1 | F56: =TRUNC(E56*D56, 0) -> 0 | H56: =TRUNC(G56*D56, 0) -> 0 | J56: =TRUNC(I56*D56, 0) -> 0 | K56: =TRUNC(E56+G56+I56, 0) -> 0 | L56: =TRUNC(F56+H56+J56, 0) -> 0 | N56: 5D5BB3DF7320A559D06A5C5195B768 | Q56: 010202 | R56: T | S56: F | T56: F | AU56: 0102025D5BB3DF7320A559D06A5C5195B768 | AV56: 21
A57: [벽 체 공 사] | F57: =TRUNC(E57*D57, 0) -> 0 | H57: =TRUNC(G57*D57, 0) -> 0 | J57: =TRUNC(I57*D57, 0) -> 0 | K57: =TRUNC(E57+G57+I57, 0) -> 0 | L57: =TRUNC(F57+H57+J57, 0) -> 0 | Q57: 010202 | R57: F | S57: F | T57: F | AU57: 010202 | AV57: 27
A58: METAL STUD | B58: D:50 | C58: M2 | D58: 114.7 | F58: =TRUNC(E58*D58, 0) -> 0 | H58: =TRUNC(G58*D58, 0) -> 0 | J58: =TRUNC(I58*D58, 0) -> 0 | K58: =TRUNC(E58+G58+I58, 0) -> 0 | L58: =TRUNC(F58+H58+J58, 0) -> 0 | N58: 5DC0031D7003A889B1569D1A9E57D8 | Q58: 010202 | R58: T | S58: F | T58: F | AU58: 0102025DC0031D7003A889B1569D1A9E57D8 | AV58: 14
A59: 석고보드/붙이기 | B59: THK:9.5MM*2PLY | C59: M2 | D59: 114.7 | F59: =TRUNC(E59*D59, 0) -> 0 | H59: =TRUNC(G59*D59, 0) -> 0 | J59: =TRUNC(I59*D59, 0) -> 0 | K59: =TRUNC(E59+G59+I59, 0) -> 0 | L59: =TRUNC(F59+H59+J59, 0) -> 0 | N59: 5DC0031879FBE5D9E112F8FE9A4028 | Q59: 010202 | R59: T | S59: F | T59: F | AU59: 0102025DC0031879FBE5D9E112F8FE9A4028 | AV59: 16
A60: ST'L EDGE FRAME | B60: 10*90 | C60: M | D60: 6 | F60: =TRUNC(E60*D60, 0) -> 0 | H60: =TRUNC(G60*D60, 0) -> 0 | J60: =TRUNC(I60*D60, 0) -> 0 | K60: =TRUNC(E60+G60+I60, 0) -> 0 | L60: =TRUNC(F60+H60+J60, 0) -> 0 | N60: 5DC013077297CF4990CD4337989FC8 | Q60: 010202 | R60: T | S60: F | T60: F | AU60: 0102025DC013077297CF4990CD4337989FC8 | AV60: 298
A61: ST'L EDGE FRAME | B61: 10*390 | C61: M | D61: 8.8 | F61: =TRUNC(E61*D61, 0) -> 0 | H61: =TRUNC(G61*D61, 0) -> 0 | J61: =TRUNC(I61*D61, 0) -> 0 | K61: =TRUNC(E61+G61+I61, 0) -> 0 | L61: =TRUNC(F61+H61+J61, 0) -> 0 | N61: 5DC013077297CF4990CD4337989F38 | Q61: 010202 | R61: T | S61: F | T61: F | AU61: 0102025DC013077297CF4990CD4337989F38 | AV61: 299
A62: ALL PUTTY | B62: 벽체면 | C62: M2 | D62: 49.8 | F62: =TRUNC(E62*D62, 0) -> 0 | H62: =TRUNC(G62*D62, 0) -> 0 | J62: =TRUNC(I62*D62, 0) -> 0 | K62: =TRUNC(E62+G62+I62, 0) -> 0 | L62: =TRUNC(F62+H62+J62, 0) -> 0 | N62: 5DC0638574C995F9600027B09747F8 | Q62: 010202 | R62: T | S62: F | T62: F | AU62: 0102025DC0638574C995F9600027B09747F8 | AV62: 48
A63: PAINT PT-01 | B63: 벽체면 | C63: M2 | D63: 49.8 | F63: =TRUNC(E63*D63, 0) -> 0 | H63: =TRUNC(G63*D63, 0) -> 0 | J63: =TRUNC(I63*D63, 0) -> 0 | K63: =TRUNC(E63+G63+I63, 0) -> 0 | L63: =TRUNC(F63+H63+J63, 0) -> 0 | N63: 5DC06386755B912914B5FE779FF4D8 | Q63: 010202 | R63: T | S63: F | T63: F | AU63: 0102025DC06386755B912914B5FE779FF4D8 | AV63: 49
A64: 각파이프 구조틀 | B64: ㅁPIPE 30*30 1.6T DOUBLE | C64: M2 | D64: 42.4 | F64: =TRUNC(E64*D64, 0) -> 0 | H64: =TRUNC(G64*D64, 0) -> 0 | J64: =TRUNC(I64*D64, 0) -> 0 | K64: =TRUNC(E64+G64+I64, 0) -> 0 | L64: =TRUNC(F64+H64+J64, 0) -> 0 | N64: 5DC013037B28D2C9475AFA4F952AD8 | Q64: 010202 | R64: T | S64: F | T64: F | AU64: 0102025DC013037B28D2C9475AFA4F952AD8 | AV64: 301
A65: 합판/취부 | B65: THK:9MM*2PLY | C65: M2 | D65: 42.4 | F65: =TRUNC(E65*D65, 0) -> 0 | H65: =TRUNC(G65*D65, 0) -> 0 | J65: =TRUNC(I65*D65, 0) -> 0 | K65: =TRUNC(E65+G65+I65, 0) -> 0 | L65: =TRUNC(F65+H65+J65, 0) -> 0 | N65: 5DC073EA77821179A3E6369F9D2FA8 | Q65: 010202 | R65: T | S65: F | T65: F | AU65: 0102025DC073EA77821179A3E6369F9D2FA8 | AV65: 302
A66: ST'L 간접등박스 | B66: 75+75 | C66: M | D66: 17.9 | F66: =TRUNC(E66*D66, 0) -> 0 | H66: =TRUNC(G66*D66, 0) -> 0 | J66: =TRUNC(I66*D66, 0) -> 0 | K66: =TRUNC(E66+G66+I66, 0) -> 0 | L66: =TRUNC(F66+H66+J66, 0) -> 0 | N66: 5DC013077297CF4990CD4337989F28 | Q66: 010202 | R66: T | S66: F | T66: F | AU66: 0102025DC013077297CF4990CD4337989F28 | AV66: 303
A67: MIRROR GL-01 | B67: THK:5MM | C67: M2 | D67: 32.1 | F67: =TRUNC(E67*D67, 0) -> 0 | H67: =TRUNC(G67*D67, 0) -> 0 | J67: =TRUNC(I67*D67, 0) -> 0 | K67: =TRUNC(E67+G67+I67, 0) -> 0 | L67: =TRUNC(F67+H67+J67, 0) -> 0 | N67: 5DC0B30270735BC9AD2F6834954F08 | Q67: 010202 | R67: T | S67: F | T67: F | AU67: 0102025DC0B30270735BC9AD2F6834954F08 | AV67: 304
A68: SST'L 몰딩 MT-01 | B68: 벽, W15*H20*1.2t | C68: M | D68: 71.8 | F68: =TRUNC(E68*D68, 0) -> 0 | H68: =TRUNC(G68*D68, 0) -> 0 | J68: =TRUNC(I68*D68, 0) -> 0 | K68: =TRUNC(E68+G68+I68, 0) -> 0 | L68: =TRUNC(F68+H68+J68, 0) -> 0 | N68: 5D5BB3DF7320A559D33FC28299D0D8 | Q68: 010202 | R68: T | S68: F | T68: F | AU68: 0102025D5BB3DF7320A559D33FC28299D0D8 | AV68: 300
A69: 시멘트보드/마감 CB-01 | C69: M2 | D69: 36.8 | F69: =TRUNC(E69*D69, 0) -> 0 | H69: =TRUNC(G69*D69, 0) -> 0 | J69: =TRUNC(I69*D69, 0) -> 0 | K69: =TRUNC(E69+G69+I69, 0) -> 0 | L69: =TRUNC(F69+H69+J69, 0) -> 0 | N69: 5DC073E87490098946BBE9AD9A2688 | Q69: 010202 | R69: T | S69: F | T69: F | AU69: 0102025DC073E87490098946BBE9AD9A2688 | AV69: 305
A70: SST'L BASE MT-01 | B70: H:100 | C70: M | D70: 64.1 | F70: =TRUNC(E70*D70, 0) -> 0 | H70: =TRUNC(G70*D70, 0) -> 0 | J70: =TRUNC(I70*D70, 0) -> 0 | K70: =TRUNC(E70+G70+I70, 0) -> 0 | L70: =TRUNC(F70+H70+J70, 0) -> 0 | N70: 5DC013007FFEFD69100D953E919B28 | Q70: 010202 | R70: T | S70: F | T70: F | AU70: 0102025DC013007FFEFD69100D953E919B28 | AV70: 306
A71: BASE PAINT PT-02 | B71: H:100 | C71: M | D71: 7.6 | F71: =TRUNC(E71*D71, 0) -> 0 | H71: =TRUNC(G71*D71, 0) -> 0 | J71: =TRUNC(I71*D71, 0) -> 0 | K71: =TRUNC(E71+G71+I71, 0) -> 0 | L71: =TRUNC(F71+H71+J71, 0) -> 0 | N71: 5DC073F17A9A39A990771B209D5788 | Q71: 010202 | R71: T | S71: F | T71: F | AU71: 0102025DC073F17A9A39A990771B209D5788 | AV71: 307
A72: ST'L HANDRAIL | B72: H:900 | C72: M | D72: 13.7 | F72: =TRUNC(E72*D72, 0) -> 0 | H72: =TRUNC(G72*D72, 0) -> 0 | J72: =TRUNC(I72*D72, 0) -> 0 | K72: =TRUNC(E72+G72+I72, 0) -> 0 | L72: =TRUNC(F72+H72+J72, 0) -> 0 | N72: 5DC01318740C0E098B2B5953928008 | Q72: 010202 | R72: T | S72: F | T72: F | AU72: 0102025DC01318740C0E098B2B5953928008 | AV72: 308
A73: 원목 손스침 WD-01 | B73: 40*50 | C73: M | D73: 13.7 | F73: =TRUNC(E73*D73, 0) -> 0 | H73: =TRUNC(G73*D73, 0) -> 0 | J73: =TRUNC(I73*D73, 0) -> 0 | K73: =TRUNC(E73+G73+I73, 0) -> 0 | L73: =TRUNC(F73+H73+J73, 0) -> 0 | N73: 5DC01318740C0E098B2B5953928018 | Q73: 010202 | R73: T | S73: F | T73: F | AU73: 0102025DC01318740C0E098B2B5953928018 | AV73: 309
A74: 인조석선반 AM-01 | B74: THK:12MM W:380 | C74: M | D74: 2 | F74: =TRUNC(E74*D74, 0) -> 0 | H74: =TRUNC(G74*D74, 0) -> 0 | J74: =TRUNC(I74*D74, 0) -> 0 | K74: =TRUNC(E74+G74+I74, 0) -> 0 | L74: =TRUNC(F74+H74+J74, 0) -> 0 | N74: 5DC1038E701200B91AF7114F9DC3A8 | Q74: 010202 | R74: T | S74: F | T74: F | AU74: 0102025DC1038E701200B91AF7114F9DC3A8 | AV74: 373
A75: 시스템 창호 | B75: W:1000*H:1190 | C75: SET | D75: 2 | F75: =TRUNC(E75*D75, 0) -> 0 | H75: =TRUNC(G75*D75, 0) -> 0 | J75: =TRUNC(I75*D75, 0) -> 0 | K75: =TRUNC(E75+G75+I75, 0) -> 0 | L75: =TRUNC(F75+H75+J75, 0) -> 0 | N75: 5DC0B30270735BC9AD2F6834954F38 | Q75: 010202 | R75: T | S75: F | T75: F | AU75: 0102025DC0B30270735BC9AD2F6834954F38 | AV75: 374
A76: GLASS DOOR/FRAME GD-01 | B76: 1820*2100 | C76: SET | D76: 1 | F76: =TRUNC(E76*D76, 0) -> 0 | H76: =TRUNC(G76*D76, 0) -> 0 | J76: =TRUNC(I76*D76, 0) -> 0 | K76: =TRUNC(E76+G76+I76, 0) -> 0 | L76: =TRUNC(F76+H76+J76, 0) -> 0 | N76: 5DC0A31C7D392389FE74AE9C99CFB8 | Q76: 010202 | R76: T | S76: F | T76: F | AU76: 0102025DC0A31C7D392389FE74AE9C99CFB8 | AV76: 375
A77: -수벽조성- | F77: =TRUNC(E77*D77, 0) -> 0 | H77: =TRUNC(G77*D77, 0) -> 0 | J77: =TRUNC(I77*D77, 0) -> 0 | K77: =TRUNC(E77+G77+I77, 0) -> 0 | L77: =TRUNC(F77+H77+J77, 0) -> 0 | Q77: 010202 | R77: F | S77: F | T77: F | AU77: 010202 | AV77: 315
A78: 각파이프 구조틀 | B78: ㅁPIPE 30*30 1.6T | C78: M2 | D78: 48.2 | F78: =TRUNC(E78*D78, 0) -> 0 | H78: =TRUNC(G78*D78, 0) -> 0 | J78: =TRUNC(I78*D78, 0) -> 0 | K78: =TRUNC(E78+G78+I78, 0) -> 0 | L78: =TRUNC(F78+H78+J78, 0) -> 0 | N78: 5DC013037B28E339B9B1857D9632E8 | Q78: 010202 | R78: T | S78: F | T78: F | AU78: 0102025DC013037B28E339B9B1857D9632E8 | AV78: 310
A79: 석고보드/붙이기 | B79: THK:9.5MM*2PLY | C79: M2 | D79: 48.2 | F79: =TRUNC(E79*D79, 0) -> 0 | H79: =TRUNC(G79*D79, 0) -> 0 | J79: =TRUNC(I79*D79, 0) -> 0 | K79: =TRUNC(E79+G79+I79, 0) -> 0 | L79: =TRUNC(F79+H79+J79, 0) -> 0 | N79: 5DC0031879FBE5D9E112F8FE9A4018 | Q79: 010202 | R79: T | S79: F | T79: F | AU79: 0102025DC0031879FBE5D9E112F8FE9A4018 | AV79: 314
A80: ALL PUTTY | B80: 벽체면 | C80: M2 | D80: 48.2 | F80: =TRUNC(E80*D80, 0) -> 0 | H80: =TRUNC(G80*D80, 0) -> 0 | J80: =TRUNC(I80*D80, 0) -> 0 | K80: =TRUNC(E80+G80+I80, 0) -> 0 | L80: =TRUNC(F80+H80+J80, 0) -> 0 | N80: 5DC0638574C995F9600027B09747C8 | Q80: 010202 | R80: T | S80: F | T80: F | AU80: 0102025DC0638574C995F9600027B09747C8 | AV80: 311
A81: PAINT PT-02 | B81: 벽체면 | C81: M2 | D81: 48.2 | F81: =TRUNC(E81*D81, 0) -> 0 | H81: =TRUNC(G81*D81, 0) -> 0 | J81: =TRUNC(I81*D81, 0) -> 0 | K81: =TRUNC(E81+G81+I81, 0) -> 0 | L81: =TRUNC(F81+H81+J81, 0) -> 0 | N81: 5DC06386755B912914B5FE7492A068 | Q81: 010202 | R81: T | S81: F | T81: F | AU81: 0102025DC06386755B912914B5FE7492A068 | AV81: 313
A82: [천 정 공 사] | F82: =TRUNC(E82*D82, 0) -> 0 | H82: =TRUNC(G82*D82, 0) -> 0 | J82: =TRUNC(I82*D82, 0) -> 0 | K82: =TRUNC(E82+G82+I82, 0) -> 0 | L82: =TRUNC(F82+H82+J82, 0) -> 0 | Q82: 010202 | R82: F | S82: F | T82: F | AU82: 010202 | AV82: 65
A83: 광목천감싸기 | C83: M2 | D83: 98.7 | F83: =TRUNC(E83*D83, 0) -> 0 | H83: =TRUNC(G83*D83, 0) -> 0 | J83: =TRUNC(I83*D83, 0) -> 0 | K83: =TRUNC(E83+G83+I83, 0) -> 0 | L83: =TRUNC(F83+H83+J83, 0) -> 0 | N83: 5DC063807CA5FFE9FD2856769AFEF8 | Q83: 010202 | R83: T | S83: F | T83: F | AU83: 0102025DC063807CA5FFE9FD2856769AFEF8 | AV83: 66
A84: 노출도장 PT-01 | C84: M2 | D84: 98.7 | F84: =TRUNC(E84*D84, 0) -> 0 | H84: =TRUNC(G84*D84, 0) -> 0 | J84: =TRUNC(I84*D84, 0) -> 0 | K84: =TRUNC(E84+G84+I84, 0) -> 0 | L84: =TRUNC(F84+H84+J84, 0) -> 0 | N84: 5DC063807C8916A96B67B3809C27F8 | Q84: 010202 | R84: T | S84: F | T84: F | AU84: 0102025DC063807C8916A96B67B3809C27F8 | AV84: 67
A85: 각파이프 구조틀 | B85: ㅁPIPE 30*30 1.6T | C85: M2 | D85: 17.8 | F85: =TRUNC(E85*D85, 0) -> 0 | H85: =TRUNC(G85*D85, 0) -> 0 | J85: =TRUNC(I85*D85, 0) -> 0 | K85: =TRUNC(E85+G85+I85, 0) -> 0 | L85: =TRUNC(F85+H85+J85, 0) -> 0 | N85: 5DC013037B28E339B9B1857D9632D8 | Q85: 010202 | R85: T | S85: F | T85: F | AU85: 0102025DC013037B28E339B9B1857D9632D8 | AV85: 316
A86: 석고보드/천정붙이기 | B86: THK:9.5MM*2PLY | C86: M2 | D86: 17.8 | F86: =TRUNC(E86*D86, 0) -> 0 | H86: =TRUNC(G86*D86, 0) -> 0 | J86: =TRUNC(I86*D86, 0) -> 0 | K86: =TRUNC(E86+G86+I86, 0) -> 0 | L86: =TRUNC(F86+H86+J86, 0) -> 0 | N86: 5DC0031879CEAFC9B7B139E39425D8 | Q86: 010202 | R86: T | S86: F | T86: F | AU86: 0102025DC0031879CEAFC9B7B139E39425D8 | AV86: 69
A87: AL몰딩 설치 | B87: W형, 15*15*15*15*1.0mm | C87: M | D87: 55 | F87: =TRUNC(E87*D87, 0) -> 0 | H87: =TRUNC(G87*D87, 0) -> 0 | J87: =TRUNC(I87*D87, 0) -> 0 | K87: =TRUNC(E87+G87+I87, 0) -> 0 | L87: =TRUNC(F87+H87+J87, 0) -> 0 | N87: 5D5BB3D1757C06298ED2B240933788 | Q87: 010202 | R87: T | S87: F | T87: F | AU87: 0102025D5BB3D1757C06298ED2B240933788 | AV87: 203
A88: ALL PUTTY | B88: 천정면 | C88: M2 | D88: 17.8 | F88: =TRUNC(E88*D88, 0) -> 0 | H88: =TRUNC(G88*D88, 0) -> 0 | J88: =TRUNC(I88*D88, 0) -> 0 | K88: =TRUNC(E88+G88+I88, 0) -> 0 | L88: =TRUNC(F88+H88+J88, 0) -> 0 | N88: 5DC0638574F6EC498A5067BF96ABF8 | Q88: 010202 | R88: T | S88: F | T88: F | AU88: 0102025DC0638574F6EC498A5067BF96ABF8 | AV88: 71
A89: PAINT PT-01 | B89: 천정면 | C89: M2 | D89: 17.8 | F89: =TRUNC(E89*D89, 0) -> 0 | H89: =TRUNC(G89*D89, 0) -> 0 | J89: =TRUNC(I89*D89, 0) -> 0 | K89: =TRUNC(E89+G89+I89, 0) -> 0 | L89: =TRUNC(F89+H89+J89, 0) -> 0 | N89: 5DC063867565FF595216CCF992A078 | Q89: 010202 | R89: T | S89: F | T89: F | AU89: 0102025DC063867565FF595216CCF992A078 | AV89: 72
A90: ST'L 간접등박스 | B90: 100+50 | C90: M | D90: 53 | F90: =TRUNC(E90*D90, 0) -> 0 | H90: =TRUNC(G90*D90, 0) -> 0 | J90: =TRUNC(I90*D90, 0) -> 0 | K90: =TRUNC(E90+G90+I90, 0) -> 0 | L90: =TRUNC(F90+H90+J90, 0) -> 0 | N90: 5DC0130772F84B9990D98CF59E5328 | Q90: 010202 | R90: T | S90: F | T90: F | AU90: 0102025DC0130772F84B9990D98CF59E5328 | AV90: 317
A91: ST'L 커튼박스 | B91: 300+80+120+120+120+50 | C91: M | D91: 14.9 | F91: =TRUNC(E91*D91, 0) -> 0 | H91: =TRUNC(G91*D91, 0) -> 0 | J91: =TRUNC(I91*D91, 0) -> 0 | K91: =TRUNC(E91+G91+I91, 0) -> 0 | L91: =TRUNC(F91+H91+J91, 0) -> 0 | N91: 5DC0130772DD99192E3F446B9CF018 | Q91: 010202 | R91: T | S91: F | T91: F | AU91: 0102025DC0130772DD99192E3F446B9CF018 | AV91: 318
Q92: 010202
Q93: 010202
Q94: 010202
Q95: 010202
A96: [ 합 계 ] | F96: =SUMIF(Q52:Q95,"010202",F52:F95) -> 0 | H96: =SUMIF(Q52:Q95,"010202",H52:H95) -> 0 | J96: =SUMIF(Q52:Q95,"010202",J52:J95) -> 0 | L96: =SUMIF(Q52:Q95,"010202",L52:L95) -> 0 | N96: TOTAL
A97: 010301 철 거 공 사 | Q97: 010301
A98: 마루틀 및 마루널 철거 | B98: 해체재 재사용 안 함 | C98: M2 | D98: 79.4 | F98: =TRUNC(E98*D98, 0) -> 0 | H98: =TRUNC(G98*D98, 0) -> 0 | J98: =TRUNC(I98*D98, 0) -> 0 | K98: =TRUNC(E98+G98+I98, 0) -> 0 | L98: =TRUNC(F98+H98+J98, 0) -> 0 | N98: 5D5A538274188D39469D1CA1984158 | Q98: 010301 | R98: T | S98: F | T98: F | AU98: 0103015D5A538274188D39469D1CA1984158 | AV98: 321
A99: 타일 해체 | B99: 압착붙이기, 접착붙이기 | C99: M2 | D99: 28.3 | F99: =TRUNC(E99*D99, 0) -> 0 | H99: =TRUNC(G99*D99, 0) -> 0 | J99: =TRUNC(I99*D99, 0) -> 0 | K99: =TRUNC(E99+G99+I99, 0) -> 0 | L99: =TRUNC(F99+H99+J99, 0) -> 0 | N99: 5D5A538274188D3947AA938C91E2D8 | Q99: 010301 | R99: T | S99: F | T99: F | AU99: 0103015D5A538274188D3947AA938C91E2D8 | AV99: 322
A100: 벽체철거 | B100: 경량벽체 | C100: M2 | D100: 44.4 | F100: =TRUNC(E100*D100, 0) -> 0 | H100: =TRUNC(G100*D100, 0) -> 0 | J100: =TRUNC(I100*D100, 0) -> 0 | K100: =TRUNC(E100+G100+I100, 0) -> 0 | L100: =TRUNC(F100+H100+J100, 0) -> 0 | N100: 5DC0236B731B014904E656F89BAE08 | Q100: 010301 | R100: T | S100: F | T100: F | AU100: 0103015DC0236B731B014904E656F89BAE08 | AV100: 323
A101: 벽체철거 | B101: 0.5B 조적벽 | C101: M2 | D101: 31.5 | F101: =TRUNC(E101*D101, 0) -> 0 | H101: =TRUNC(G101*D101, 0) -> 0 | J101: =TRUNC(I101*D101, 0) -> 0 | K101: =TRUNC(E101+G101+I101, 0) -> 0 | L101: =TRUNC(F101+H101+J101, 0) -> 0 | N101: 5DC0236B731B7439D268B28B978A78 | Q101: 010301 | R101: T | S101: F | T101: F | AU101: 0103015DC0236B731B7439D268B28B978A78 | AV101: 324
A102: 벽체철거 | B102: 1.0B 조적벽 | C102: M2 | D102: 34.6 | F102: =TRUNC(E102*D102, 0) -> 0 | H102: =TRUNC(G102*D102, 0) -> 0 | J102: =TRUNC(I102*D102, 0) -> 0 | K102: =TRUNC(E102+G102+I102, 0) -> 0 | L102: =TRUNC(F102+H102+J102, 0) -> 0 | N102: 5DC0236B731B7429CB76FB789A54F8 | Q102: 010301 | R102: T | S102: F | T102: F | AU102: 0103015DC0236B731B7429CB76FB789A54F8 | AV102: 325
A103: 타일 해체 | B103: 떠붙이기 | C103: M2 | D103: 28.6 | F103: =TRUNC(E103*D103, 0) -> 0 | H103: =TRUNC(G103*D103, 0) -> 0 | J103: =TRUNC(I103*D103, 0) -> 0 | K103: =TRUNC(E103+G103+I103, 0) -> 0 | L103: =TRUNC(F103+H103+J103, 0) -> 0 | N103: 5D5A538274188D3947AA938C91D068 | Q103: 010301 | R103: T | S103: F | T103: F | AU103: 0103015D5A538274188D3947AA938C91D068 | AV103: 326
...
