Workbook

Sheet 원가계산서
B1: 공 사 원 가 계 산 서
B2: 공사명 : 부천대학교 한길체육관 강의실 개선공사 | F2: 금액 : 원(￦)
B3: 비 목 | E3: 금 액 | F3: 구 성 비 | G3: 비 고
A4: A1 | B4: 순 공 사 원 가 | C4: 재 료 비 | D4: 직 접 재 료 비 | E4: =TRUNC(공종별집계표!F5, 0) -> 0
A5: A2 | D5: 간 접 재 료 비 | E5: 0
A6: A3 | D6: 작업설, 부산물(△) | E6: 0
A7: AS | D7: [ 소 계 ] | E7: =TRUNC(E4+E5-E6, 0) -> 0
A8: B1 | C8: 노 무 비 | D8: 직 접 노 무 비 | E8: =TRUNC(공종별집계표!H5, 0) -> 0
A9: B2 | D9: 간 접 노 무 비 | E9: =TRUNC(E8*0.175, 0) -> 0 | F9: 직접노무비 * 17.5%
A10: BS | D10: [ 소 계 ] | E10: =TRUNC(E8+E9, 0) -> 0
A11: C2 | C11: 경 비 | D11: 경 비 | E11: =TRUNC(공종별집계표!J5, 0) -> 0
A12: C4 | D12: 산 재 보 험 료 | E12: =TRUNC(E10*0.0356, 0) -> 0 | F12: 노무비 * 3.56%
A13: C5 | D13: 고 용 보 험 료 | E13: =TRUNC(E10*0.0101, 0) -> 0 | F13: 노무비 * 1.01%
A14: CA | D14: 산업안전보건관리비 | E14: =TRUNC((E7+E8+(0/1.1))*0.0311, 0) -> 0 | F14: (재료비+직노+관급자재비) * 3.11%
A15: CG | D15: 기 타 경 비 | E15: =TRUNC((E7+E10)*0.05, 0) -> 0 | F15: (재료비+노무비) * 5%
A16: CH | D16: 환 경 보 전 비 | E16: =TRUNC((E7+E8+E11)*0.003, 0) -> 0 | F16: (재료비+직노+경비) * 0.3%
A17: CL | D17: 건설기계대여금지급보증서발급수수료 | E17: =TRUNC((E7+E8+E11)*0.0007, 0) -> 0 | F17: (재료비+직노+경비) * 0.07%
A18: CS | D18: [ 소 계 ] | E18: =TRUNC(E11+E12+E13+E14+E15+E16+E17, 0) -> 0
A19: S1 | B19: 계 | E19: =TRUNC(E7+E10+E18, 0) -> 0
A20: D1 | B20: 일 반 관 리 비 | E20: =TRUNC(E19*0.08, 0) -> 0 | F20: 계 * 8%
A21: D2 | B21: 이 윤 | E21: =TRUNC((E10+E18+E20)*0.15, 0) -> 0 | F21: (노무비+경비+일반관리비) * 15%
A22: D4 | B22: 폐 기 물 처 리 | E22: =TRUNC(공종별집계표!T13, 0) -> 0
A23: D9 | B23: 공 급 가 액 | E23: =TRUNC(E19+E20+E21+E22, 0) -> 0
A24: DB | B24: 부 가 가 치 세 | E24: =TRUNC(E23*0.1, 0) -> 0 | F24: 공급가액 * 10%
A25: DH | B25: 도 급 액 | E25: =TRUNC(E23+E24, 0) -> 0
A26: S2 | B26: 총 공 사 비 | E26: =TRUNC(E25+0, 0) -> 0

Sheet 공종별집계표
A1: 공 종 별 집 계 표
A2: [ 부천대학교 한길체육관 2-3층 개선공사 ]
A3: 품 명 | B3: 규 격 | C3: 단위 | D3: 수량 | E3: 재 료 비 | G3: 노 무 비 | I3: 경 비 | K3: 합 계 | M3: 비 고 | N3: 공종코드 | O3: 변수 | P3: 상위공종 | Q3: 공종구분 | R3: 공종레벨 | S3: 공종소계 | T3: 원가계산서 연결금액
E4: 단 가 | F4: 금 액 | G4: 단 가 | H4: 금 액 | I4: 단 가 | J4: 금 액 | K4: 단 가 | L4: 금 액
A5: 01 부천대학교 한길체육관 2층,3층 | D5: 1 | E5: =F6+F7+F10 -> 0 | F5: =E5*D5 -> 0 | G5: =H6+H7+H10 -> 0 | H5: =G5*D5 -> 0 | I5: =J6+J7+J10 -> 0 | J5: =I5*D5 -> 0 | K5: =E5+G5+I5 -> 0 | L5: =F5+H5+J5 -> 0 | N5: 01 | R5: 1
A6: 0101 가 설 공 사 | D6: 1 | E6: =공종별내역서!F27 -> 0 | F6: =E6*D6 -> 0 | G6: =공종별내역서!H27 -> 0 | H6: =G6*D6 -> 0 | I6: =공종별내역서!J27 -> 0 | J6: =I6*D6 -> 0 | K6: =E6+G6+I6 -> 0 | L6: =F6+H6+J6 -> 0 | N6: 0101 | P6: 01 | R6: 2
A7: 0102 지 상 2 층 | D7: 1 | E7: =F8+F9 -> 0 | F7: =E7*D7 -> 0 | G7: =H8+H9 -> 0 | H7: =G7*D7 -> 0 | I7: =J8+J9 -> 0 | J7: =I7*D7 -> 0 | K7: =E7+G7+I7 -> 0 | L7: =F7+H7+J7 -> 0 | N7: 0102 | P7: 01 | R7: 2
A8: 010201 철 거 공 사 | D8: 1 | E8: =공종별내역서!F50 -> 0 | F8: =E8*D8 -> 0 | G8: =공종별내역서!H50 -> 0 | H8: =G8*D8 -> 0 | I8: =공종별내역서!J50 -> 0 | J8: =I8*D8 -> 0 | K8: =E8+G8+I8 -> 0 | L8: =F8+H8+J8 -> 0 | N8: 010201 | P8: 0102 | R8: 3
A9: 010202 운 동 재 활 실 습 실 | D9: 1 | E9: =공종별내역서!F96 -> 0 | F9: =E9*D9 -> 0 | G9: =공종별내역서!H96 -> 0 | H9: =G9*D9 -> 0 | I9: =공종별내역서!J96 -> 0 | J9: =I9*D9 -> 0 | K9: =E9+G9+I9 -> 0 | L9: =F9+H9+J9 -> 0 | N9: 010202 | P9: 0102 | R9: 3
A10: 0103 지 상 3 층 | D10: 1 | E10: =F11+F12 -> 0 | F10: =E10*D10 -> 0 | G10: =H11+H12 -> 0 | H10: =G10*D10 -> 0 | I10: =J11+J12 -> 0 | J10: =I10*D10 -> 0 | K10: =E10+G10+I10 -> 0 | L10: =F10+H10+J10 -> 0 | N10: 0103 | P10: 01 | R10: 2
A11: 010301 철 거 공 사 | D11: 1 | E11: =공종별내역서!F119 -> 0 | F11: =E11*D11 -> 0 | G11: =공종별내역서!H119 -> 0 | H11: =G11*D11 -> 0 | I11: =공종별내역서!J119 -> 0 | J11: =I11*D11 -> 0 | K11: =E11+G11+I11 -> 0 | L11: =F11+H11+J11 -> 0 | N11: 010301 | P11: 0103 | R11: 3
A12: 010302 동 아 리 연 습 실 | D12: 1 | E12: =공종별내역서!F165 -> 0 | F12: =E12*D12 -> 0 | G12: =공종별내역서!H165 -> 0 | H12: =G12*D12 -> 0 | I12: =공종별내역서!J165 -> 0 | J12: =I12*D12 -> 0 | K12: =E12+G12+I12 -> 0 | L12: =F12+H12+J12 -> 0 | N12: 010302 | P12: 0103 | R12: 3
A13: 0104 폐 기 물 처 리 | D13: 1 | E13: =공종별내역서!F188 -> 0 | F13: =E13*D13 -> 0 | G13: =공종별내역서!H188 -> 0 | H13: =G13*D13 -> 0 | I13: =공종별내역서!J188 -> 0 | J13: =I13*D13 -> 0 | K13: =E13+G13+I13 -> 0 | L13: =F13+H13+J13 -> 0 | N13: 0104 | Q13: 6 | R13: 2 | T13: =L13*1 -> 0
A27: [ 합 계 ] | F27: =F5 -> 0 | H27: =H5 -> 0 | J27: =J5 -> 0 | L27: =L5 -> 0

Sheet 공종별내역서
A1: 공 종 별 내 역 서
A2: [ 부천대학교 한길체육관 2-3층 개선공사 ]
A3: 품 명 | B3: 규 격 | C3: 단위 | D3: 수량 | E3: 재 료 비 | G3: 노 무 비 | I3: 경 비 | K3: 합 계 | M3: 비 고 | N3: 품목코드 | O3: 변수 | P3: 설정 | Q3: 공종코드 | R3: 일위 | S3: 단산 | T3: 자재 | U3: 손료적용 | V3: 손료저장 | W3: 적용율 | X3: JUK1 | Y3: JUK2 | Z3: JUK3 | AA3: JUK4 | AB3: JUK5 | AC3: JUK6 | AD3: JUK7 | AE3: JUK8 | AF3: JUK9 | AG3: JUK10 | AH3: JUK11 | AI3: JUK12 | AJ3: JUK13 | AK3: JUK14 | AL3: JUK15 | AM3: JUK16 | AN3: JUK17 | AO3: JUK18 | AP3: JUK19 | AQ3: JUK20 | AR3: 자재구분 | AS3: 공종구분 | AT3: 공종레벨 | AU3: 공종+자재 | AV3: 고유번호
E4: 단 가 | F4: 금 액 | G4: 단 가 | H4: 금 액 | I4: 단 가 | J4: 금 액 | K4: 단 가 | L4: 금 액
A5: 0101 가 설 공 사 | Q5: 0101
A6: 구조부 먹매김 | B6: 일반 | C6: M2 | D6: 259.6 | F6: =TRUNC(E6*D6, 0) -> 0 | H6: =TRUNC(G6*D6, 0) -> 0 | J6: =TRUNC(I6*D6, 0) -> 0 | K6: =TRUNC(E6+G6+I6, 0) -> 0 | L6: =TRUNC(F6+H6+J6, 0) -> 0 | N6: 5D5B536B7D432CF96D99E9BD93F758 | Q6: 0101 | R6: T | S6: F | T6: F | AU6: 01015D5B536B7D432CF96D99E9BD93F758 | AV6: 368
A7: 건축물보양 | B7: 플라베니아 | C7: M2 | D7: 259.6 | F7: =TRUNC(E7*D7, 0) -> 0 | H7: =TRUNC(G7*D7, 0) -> 0 | J7: =TRUNC(I7*D7, 0) -> 0 | K7: =TRUNC(E7+G7+I7, 0) -> 0 | L7: =TRUNC(F7+H7+J7, 0) -> 0 | N7: 5D5B536B7D432CC998177A129D1D58 | Q7: 0101 | R7: T | S7: F | T7: F | AU7: 01015D5B536B7D432CC998177A129D1D58 | AV7: 4
A8: 건축물 현장정리 | B8: 목조, 철골조, 조적조 | C8: M2 | D8: 259.6 | F8: =TRUNC(E8*D8, 0) -> 0 | H8: =TRUNC(G8*D8, 0) -> 0 | J8: =TRUNC(I8*D8, 0) -> 0 | K8: =TRUNC(E8+G8+I8, 0) -> 0 | L8: =TRUNC(F8+H8+J8, 0) -> 0 | N8: 5D5B536B7D780A39344848C5987238 | Q8: 0101 | R8: T | S8: F | T8: F | AU8: 01015D5B536B7D780A39344848C5987238 | AV8: 5
A9: 준공청소 | C9: M2 | D9: 259.6 | F9: =TRUNC(E9*D9, 0) -> 0 | H9: =TRUNC(G9*D9, 0) -> 0 | J9: =TRUNC(I9*D9, 0) -> 0 | K9: =TRUNC(E9+G9+I9, 0) -> 0 | L9: =TRUNC(F9+H9+J9, 0) -> 0 | N9: 5D5B536B7D205D991A1FA8E99C09B8 | Q9: 0101 | R9: T | S9: F | T9: F | AU9: 01015D5B536B7D205D991A1FA8E99C09B8 | AV9: 6
A10: 강관 조립말비계(이동식)설치 및 해체 | B10: 높이 2m, 3개월 | C10: 대 | D10: 2 | F10: =TRUNC(E10*D10, 0) -> 0 | H10: =TRUNC(G10*D10, 0) -> 0 | J10: =TRUNC(I10*D10, 0) -> 0 | K10: =TRUNC(E10+G10+I10, 0) -> 0 | L10: =TRUNC(F10+H10+J10, 0) -> 0 | N10: 5D5B536E7A9B669965810332993208 | Q10: 0101 | R10: T | S10: F | T10: F | AU10: 01015D5B536E7A9B669965810332993208 | AV10: 369
Q11: 0101
Q12: 0101
Q13: 0101
Q14: 0101
Q15: 0101
Q16: 0101
Q17: 0101
Q18: 0101
Q19: 0101
Q20: 0101
Q21: 0101
Q22: 0101
... Q26: 0101
A27: [ 합 계 ] | F27: =SUMIF(Q6:Q26,"0101",F6:F26) -> 0 | H27: =SUMIF(Q6:Q26,"0101",H6:H26) -> 0 | J27: =SUMIF(Q6:Q26,"0101",J6:J26) -> 0 | L27: =SUMIF(Q6:Q26,"0101",L6:L26) -> 0 | N27: TOTAL
A28: 010201 철 거 공 사 | Q28: 010201
A29: 마루틀 및 마루널 철거 | B29: 해체재 재사용 안 함 | C29: M2 | D29: 79.4 | F29: =TRUNC(E29*D29, 0) -> 0 | H29: =TRUNC(G29*D29, 0) -> 0 | J29: =TRUNC(I29*D29, 0) -> 0 | K29: =TRUNC(E29+G29+I29, 0) -> 0 | L29: =TRUNC(F29+H29+J29, 0) -> 0 | N29: 5D5A538274188D39469D1CA1984158 | Q29: 010201 | R29: T | S29: F | T29: F | AU29: 0102015D5A538274188D39469D1CA1984158 | AV29: 290
A30: 타일 해체 | B30: 압착붙이기, 접착붙이기 | C30: M2 | D30: 28.3 | F30: =TRUNC(E30*D30, 0) -> 0 | H30: =TRUNC(G30*D30, 0) -> 0 | J30: =TRUNC(I30*D30, 0) -> 0 | K30: =TRUNC(E30+G30+I30, 0) -> 0 | L30: =TRUNC(F30+H30+J30, 0) -> 0 | N30: 5D5A538274188D3947AA938C91E2D8 | Q30: 010201 | R30: T | S30: F | T30: F | AU30: 0102015D5A538274188D3947AA938C91E2D8 | AV30: 291
A31: 벽체철거 | B31: 경량벽체 | C31: M2 | D31: 44.4 | F31: =TRUNC(E31*D31, 0) -> 0 | H31: =TRUNC(G31*D31, 0) -> 0 | J31: =TRUNC(I31*D31, 0) -> 0 | K31: =TRUNC(E31+G31+I31, 0) -> 0 | L31: =TRUNC(F31+H31+J31, 0) -> 0 | N31: 5DC0236B731B014904E656F89BAE08 | Q31: 010201 | R31: T | S31: F | T31: F | AU31: 0102015DC0236B731B014904E656F89BAE08 | AV31: 292
A32: 벽체철거 | B32: 0.5B 조적벽 | C32: M2 | D32: 34.1 | F32: =TRUNC(E32*D32, 0) -> 0 | H32: =TRUNC(G32*D32, 0) -> 0 | J32: =TRUNC(I32*D32, 0) -> 0 | K32: =TRUNC(E32+G32+I32, 0) -> 0 | L32: =TRUNC(F32+H32+J32, 0) -> 0 | N32: 5DC0236B731B7439D268B28B978A78 | Q32: 010201 | R32: T | S32: F | T32: F | AU32: 0102015DC0236B731B7439D268B28B978A78 | AV32: 293
A33: 벽체철거 | B33: 1.0B 조적벽 | C33: M2 | D33: 10.6 | F33: =TRUNC(E33*D33, 0) -> 0 | H33: =TRUNC(G33*D33, 0) -> 0 | J33: =TRUNC(I33*D33, 0) -> 0 | K33: =TRUNC(E33+G33+I33, 0) -> 0 | L33: =TRUNC(F33+H33+J33, 0) -> 0 | N33: 5DC0236B731B7429CB76FB789A54F8 | Q33: 010201 | R33: T | S33: F | T33: F | AU33: 0102015DC0236B731B7429CB76FB789A54F8 | AV33: 294
A34: 타일 해체 | B34: 떠붙이기 | C34: M2 | D34: 28.6 | F34: =TRUNC(E34*D34, 0) -> 0 | H34: =TRUNC(G34*D34, 0) -> 0 | J34: =TRUNC(I34*D34, 0) -> 0 | K34: =TRUNC(E34+G34+I34, 0) -> 0 | L34: =TRUNC(F34+H34+J34, 0) -> 0 | N34: 5D5A538274188D3947AA938C91D068 | Q34: 010201 | R34: T | S34: F | T34: F | AU34: 0102015D5A538274188D3947AA938C91D068 | AV34: 295
A35: 천정철거 | B35: 골조+텍스 | C35: M2 | D35: 83.2 | F35: =TRUNC(E35*D35, 0) -> 0 | H35: =TRUNC(G35*D35, 0) -> 0 | J35: =TRUNC(I35*D35, 0) -> 0 | K35: =TRUNC(E35+G35+I35, 0) -> 0 | L35: =TRUNC(F35+H35+J35, 0) -> 0 | N35: 5DC0236B730AAC99F587513F9E0AE8 | Q35: 010201 | R35: T | S35: F | T35: F | AU35: 0102015DC0236B730AAC99F587513F9E0AE8 | AV35: 11
A36: 천정철거 | B36: 마감재 | C36: M2 | D36: 29.9 | F36: =TRUNC(E36*D36, 0) -> 0 | H36: =TRUNC(G36*D36, 0) -> 0 | J36: =TRUNC(I36*D36, 0) -> 0 | K36: =TRUNC(E36+G36+I36, 0) -> 0 | L36: =TRUNC(F36+H36+J36, 0) -> 0 | N36: 5DC0236B730A81C961E73EB6989AB8 | Q36: 010201 | R36: T | S36: F | T36: F | AU36: 0102015DC0236B730A81C961E73EB6989AB8 | AV36: 296
A37: DOOR/FRAME 철거 | B37: 900*2100 | C37: SET | D37: 2 | F37: =TRUNC(E37*D37, 0) -> 0 | H37: =TRUNC(G37*D37, 0) -> 0 | J37: =TRUNC(I37*D37, 0) -> 0 | K37: =TRUNC(E37+G37+I37, 0) -> 0 | L37: =TRUNC(F37+H37+J37, 0) -> 0 | N37: 5DC0236B731B014904E656F89BAE78 | Q37: 010201 | R37: T | S37: F | T37: F | AU37: 0102015DC0236B731B014904E656F89BAE78 | AV37: 370
A38: DOOR/FRAME 철거 | B38: 1800*2100 | C38: SET | D38: 1 | F38: =TRUNC(E38*D38, 0) -> 0 | H38: =TRUNC(G38*D38, 0) -> 0 | J38: =TRUNC(I38*D38, 0) -> 0 | K38: =TRUNC(E38+G38+I38, 0) -> 0 | L38: =TRUNC(F38+H38+J38, 0) -> 0 | N38: 5DC0236B731B014904E656F89BAE68 | Q38: 010201 | R38: T | S38: F | T38: F | AU38: 0102015DC0236B731B014904E656F89BAE68 | AV38: 372
Q39: 010201
Q40: 010201
Q41: 010201
Q42: 010201
Q43: 010201
...
