{"text_format":"2","workbook":"xlsx","n_sheets":4,"sheets":["표지","원가계산서","집계표","견적서-건축"],"not_rendered":{"charts":0,"images":0,"macros":0,"external_links":2,"defined_names":789,"comments":0,"pivot_tables":0},"unopened":[],"bounds":{"document_bytes":16777216,"sheet_cells":100000,"run_cost":"one","rows_first":2000,"rows_last":500,"rows_between":2000,"halvings":0,"cell_chars":16384,"cell_head_chars":4096},"cells_cut":0,"cells_raw":0,"read":"whole","date_system":"1900"}

{"sheet":"표지","index":0,"n_rows":6,"n_cols":1,"rows_kept":6,"cut":false,"hidden":false,"merged":[[2,0,2,14],[5,0,5,14],[8,0,8,14],[13,0,13,14],[14,4,14,10]]}
[]
[]
["견     적     서"]
[]
[]
["동계방학 학과 및 부서 보수공사"]

{"sheet":"원가계산서","index":1,"n_rows":30,"n_cols":6,"rows_kept":30,"cut":false,"hidden":false,"merged":[[0,0,0,5],[25,0,25,2],[26,0,26,2],[27,0,27,2],[28,0,28,2],[29,0,29,2],[1,1,1,5],[24,0,24,2],[3,0,3,2],[21,0,21,2],[22,0,22,2],[23,0,23,2],[4,1,7,1],[11,1,20,1]]}
["공  사  원  가  계  산  서"]
["공사명 : ",{"$f":"표지!A6","v":"동계방학 학과 및 부서 보수공사"}]
["공사금액 :",{"$f":"\"일금 \"&NUMBERSTRING(F3,1)&\"원정\"","v":"일금 영원정"},null,null,null,{"$f":"D30","v":0}]
["비               목",null,null,"금     액","구성비(%)","  비    고"]
[null,"재\n료\n비","직 접  재 료 비",{"$f":"집계표!F22","v":0}]
["순",null,"간 접  재 료 비"]
[null,null,"작업설,부산물등",null," "]
[null,null,"소           계",{"$f":"SUM(D5:D7)","v":0},null," (직접재료비+간접재료비)-작업부산물"]
["공","노","직 접  노 무 비",{"$f":"집계표!H22","v":0}]
[null,"무","간 접  노 무 비",{"$f":"D9*E10","v":0},0.03," (직접노무비)*구성비율"]
[null,"비","소           계",{"$f":"SUM(D9:D10)","v":0}]
["사","경\n비","산  출  경  비",{"$f":"집계표!J22","v":0}]
[null,null,"산 재  보 험 료",{"$f":"D11*E13","v":0},3.7999999999999999E-2," (노무비)*구성비율"]
[null,null,"고 용  보 험 료",{"$f":"D11*E14","v":0},8.6999999999999994E-3," (노무비)*구성비율"]
["원",null,"건 강  보 험 료",null,0," (직접노무비)*구성비율"]
[null,null,"노인장기요양보험료",null,0," (건강보험료)*구성비율"]
[null,null,"연 금  보 험 료",null,0," (직접노무비)*구성비율"]
[" ",null,"퇴직공제 부금비",null,0," (직접노무비)*구성비율"]
[" ",null,"안 전  관 리 비",{"$f":"(D8+D9)*E19","v":0},0," (재료비+직접노무비)*구성비율"]
["가",null,"기  타   경  비",{"$f":"(D8+D11)*E20","v":0},0.05," (재료비+노무비)*구성비율"]
[null,null,"소           계",{"$f":"SUM(D12:D20)","v":0}]
["계",null,null,{"$f":"D8+D11+D21","v":0}]
["일    반    관    리    비",null,null,{"$f":"INT(D22*E23)","v":0},0.06," (재료비+노무비+경비) [6% 이하]"]
["이                        윤",null,null,{"$f":"INT((D11+D21+D23)*E24)","v":0},0.11," (노무비+경비+일반관리비) [15%이하]"]
["공      급       가      액",null,null,{"$f":"D22+D23+D24+E25","v":0},null,"단수정리(만단위이하)"]
["폐   기   물  처   리   비"]
["부    가    가    치    세",null,null,{"$f":"D25*E27","v":0},0.1," (공급가액)"]
["도           급           액",null,null,{"$f":"D25+D27","v":0}]
["관    급    자    재    비"]
["총       공      사      비",null,null,{"$f":"D28+D29","v":0}]

{"sheet":"집계표","index":2,"n_rows":22,"n_cols":13,"rows_kept":22,"cut":false,"hidden":false,"merged":[[0,1,0,12],[1,8,1,9],[1,10,1,11],[1,12,2,12],[1,0,2,0],[1,1,2,1],[1,2,2,2],[1,3,2,3],[1,4,1,5],[1,6,1,7]]}
["공  사  명      : ",{"$f":"원가계산서!B2","v":"동계방학 학과 및 부서 보수공사"}]
["품        명","규    격","단위","수량","재  료  비",null,"노  무  비",null,"경    비",null,"합    계",null,"비고"]
[{"$nulls":4},"단가","금액","단가","금액","단가","금액","단가","금액"]
["■ 보수공사"]
[{"$f":"'견적서-건축'!A7","v":"1-1. 전기과"},{"$nulls":4},{"$f":"'견적서-건축'!F10","v":0},null,{"$f":"'견적서-건축'!H10","v":0},null,{"$f":"'견적서-건축'!J10","v":0},null,{"$f":"'견적서-건축'!L10","v":0}]
[{"$f":"'견적서-건축'!A11","v":"1-2. 산업디자인과(한길관)"},{"$nulls":4},{"$f":"'견적서-건축'!F15","v":0},null,{"$f":"'견적서-건축'!H15","v":0},null,{"$f":"'견적서-건축'!J15","v":0},null,{"$f":"'견적서-건축'!L15","v":0}]
[{"$f":"'견적서-건축'!A16","v":"1-3. 전자과(한길관)"},{"$nulls":4},{"$f":"'견적서-건축'!F23","v":0},null,{"$f":"'견적서-건축'!H23","v":0},null,{"$f":"'견적서-건축'!J23","v":0},null,{"$f":"'견적서-건축'!L23","v":0}]
[{"$f":"'견적서-건축'!A24","v":"1-4. 영상&게임콘텐츠과"},{"$nulls":4},{"$f":"'견적서-건축'!F27","v":0},null,{"$f":"'견적서-건축'!H27","v":0},null,{"$f":"'견적서-건축'!J27","v":0},null,{"$f":"'견적서-건축'!L27","v":0}]
[{"$f":"'견적서-건축'!A28","v":"1-5. 호텔외식조리과(예지관)"},{"$nulls":4},{"$f":"'견적서-건축'!F36","v":0},null,{"$f":"'견적서-건축'!H36","v":0},null,{"$f":"'견적서-건축'!J36","v":0},null,{"$f":"'견적서-건축'!L36","v":0}]
[{"$f":"'견적서-건축'!A37","v":"1-6. 비서사무행정과(꿈집)"},{"$nulls":4},{"$f":"'견적서-건축'!F43","v":0},null,{"$f":"'견적서-건축'!H43","v":0},null,{"$f":"'견적서-건축'!J43","v":0},null,{"$f":"'견적서-건축'!L43","v":0}]
[{"$f":"'견적서-건축'!A44","v":"1-7. 유아교육과(몽당기념관)"},{"$nulls":4},{"$f":"'견적서-건축'!F49","v":0},null,{"$f":"'견적서-건축'!H49","v":0},null,{"$f":"'견적서-건축'!J49","v":0},null,{"$f":"'견적서-건축'!L49","v":0}]
[{"$f":"'견적서-건축'!A50","v":"1-8. 항공서비스과(밀레니엄관)"},{"$nulls":4},{"$f":"'견적서-건축'!F56","v":0},null,{"$f":"'견적서-건축'!H56","v":0},null,{"$f":"'견적서-건축'!J56","v":0},null,{"$f":"'견적서-건축'!L56","v":0}]
[{"$f":"'견적서-건축'!A57","v":"1-9. 평생교육팀 키즈타운"},{"$nulls":4},{"$f":"'견적서-건축'!F60","v":0},null,{"$f":"'견적서-건축'!H60","v":0},null,{"$f":"'견적서-건축'!J60","v":0},null,{"$f":"'견적서-건축'!L60","v":0}]
[{"$f":"'견적서-건축'!A61","v":"1-10. 부동산 유통과(꿈집)"},{"$nulls":4},{"$f":"'견적서-건축'!F65","v":0},null,{"$f":"'견적서-건축'!H65","v":0},null,{"$f":"'견적서-건축'!J65","v":0},null,{"$f":"'견적서-건축'!L65","v":0}]
[{"$f":"'견적서-건축'!A66","v":"1-11. 기숙사 비상계단 타일보수공사"},{"$nulls":4},{"$f":"'견적서-건축'!F72","v":0},null,{"$f":"'견적서-건축'!H72","v":0},null,{"$f":"'견적서-건축'!J72","v":0},null,{"$f":"'견적서-건축'!L72","v":0}]
[{"$f":"'견적서-건축'!A73","v":"1-12. 학술정보원 도서관건물 코킹공사"},{"$nulls":4},{"$f":"'견적서-건축'!F77","v":0},null,{"$f":"'견적서-건축'!H77","v":0},null,{"$f":"'견적서-건축'!J77","v":0},null,{"$f":"'견적서-건축'!L77","v":0}]
[]
[]
[]
[]
[]
["합   계",{"$nulls":4},{"$f":"SUM(F4:F21)","v":0},null,{"$f":"SUM(H4:H21)","v":0},null,{"$f":"SUM(J4:J21)","v":0},null,{"$f":"SUM(L4:L21)","v":0}]

{"sheet":"견적서-건축","index":3,"n_rows":77,"n_cols":13,"rows_kept":77,"cut":false,"hidden":false,"merged":[[3,6,3,7],[3,8,3,9],[3,10,3,11],[3,12,4,12],[3,0,4,0],[3,1,4,1],[3,2,4,2],[3,3,4,3],[3,4,3,5]]}
[]
[{"$f":"집계표!A1","v":"공  사  명      : "},{"$f":"집계표!B1","v":"동계방학 학과 및 부서 보수공사"}]
[]
["품명","규격","단위","수량","자재비",null,"노무비",null,"경 비",null,"합 계",null,"비고"]
[{"$nulls":4},"단   가 ","금   액","단   가 ","금   액","단    가 ","금    액","단   가 ","금   액"]
["<직접공사비>"]
["1-1. 전기과"]
["4층 EO 436호","바탕처리 및 2회도장, 걸레받이","m2",110]
[]
["소계"]
["1-2. 산업디자인과(한길관)"]
["5층 539호","바탕처리 및 2회도장, 걸레받이","m2",105]
["5층 536호","바탕처리 및 2회도장, 걸레받이","m2",115]
[]
["소계"]
["1-3. 전자과(한길관)"]
["2층 210호","바탕처리 및 2회도장, 걸레받이","m2",50]
["화이트보드 재료분리대 설치","SUS: 1.5T","M",6]
["2층 234호","바탕처리 및 2회도장, 걸레받이","m2",60]
["2층 236호","바탕처리 및 2회도장, 걸레받이","m2",20]
["3층 302호","벽체유리철거","m2",30]
[]
["소계"]
["1-4. 영상&게임콘텐츠과"]
["4층 EO 445호","방충망+틀","EA",1]
[]
["합   계"]
["1-5. 호텔외식조리과(예지관)"]
["2층 202호","바탕처리 및 2회도장, 걸레받이","m2",25]
["4층 미서기문","보수","식",1]
["4층 401호, 5층 501호","마블 상판 교체","m2",3]
["2층, 3층","벽면 그래픽 도장","m2",45]
["카트 보호레일","SUS 25Ø + 1.8 T 제작","M",20]
["카트 몰딩","제작","EA",5]
[]
["소계"]
["1-6. 비서사무행정과(꿈집)"]
["5층 BO 504호","바탕처리 및 2회도장, 걸레받이","m2",90]
["5층 BO 505호","유리철거","m2",8]
["5층 BO 505호","유리제작설치","m2",8]
["5층 BO 505호","문주위 마감공사","식",1]
[]
["소계"]
["1-7. 유아교육과(몽당기념관)"]
["5층,6층 블라인드 설치","10504호, 10505호, 10602호","식",1]
["6층 10604-1 호","바탕처리 및 2회도장, 걸레받이","m2",30]
["5층 화장실","파벽돌 보수","식",1]
[]
["소계"]
["1-8. 항공서비스과(밀레니엄관)"]
["2층 H 203호","기내 좌석벨트","EA",5]
["2층 H 203호","기내 헤드고정","EA",1]
["2층 H 203호","기내 팔걸이수리","EA",2]
["2층 H 212호","바탕처리 및 2회도장, 걸레받이","m2",20]
[]
["소계"]
["1-9. 평생교육팀 키즈타운"]
["3층 몽당기념관","복도전체 오염제거 및 왁싱","m2",250]
[]
["소계"]
["1-10. 부동산 유통과(꿈집)"]
["4층 404호","바탕처리 및 2회도장, 걸레받이","m2",45]
["폐기물 처리","상차+운반+처리","차",2]
[]
["소계"]
["1-11. 기숙사 비상계단 타일보수공사","타일공사(1층~6층사이)"]
["도기질타일","300 X 600 X 10mm","m2",40]
["도기질타일 떠붙임","바탕 10mm + 붙임 20","m2",40]
["도기질타일 철거","(1층~6층사이)","m2",40]
["PT아시바",null,"조",3]
[]
["소계"]
["1-12. 학술정보원 도서관건물 코킹공사","(2층~4층까지)"]
["창호 주위 코킹 공사","20 X 20mm","M",650]
["코킹철거","밧줄공","M",650]
[]
["소계"]