{"text_format":"2","workbook":"xlsx","n_sheets":4,"sheets":["등급집계표","등급표","지적사항 집계표","지적사항 및 개선방안(종합)"],"not_rendered":{"charts":0,"images":0,"macros":0,"external_links":0,"defined_names":7,"comments":0,"pivot_tables":0},"unopened":[],"bounds":{"document_bytes":16777216,"sheet_cells":100000,"run_cost":"one","rows_first":2000,"rows_last":500,"rows_between":2000,"halvings":0,"cell_chars":16384,"cell_head_chars":4096},"cells_cut":0,"cells_raw":0,"read":"whole","date_system":"1900"}

{"sheet":"등급집계표","index":0,"n_rows":32,"n_cols":10,"rows_kept":32,"cut":false,"hidden":false,"merged":[[19,0,19,2],[20,0,20,2],[30,0,30,2],[31,0,31,2],[28,0,28,2],[27,0,27,2],[21,1,26,1],[6,1,18,1],[1,0,1,9],[2,3,2,9],[4,0,5,0],[4,3,4,9],[4,2,5,2],[4,1,5,1]]}
[]
["2019년 부천대학교 연구실 정기안전점검 집계표"]
[]
[]
["연번","구분","학과명","점검결과"]
[null,null,null,"1등급","2등급","3등급","4등급","5등급","대상제외","계"]
[1,"공학,자연과학","건축과",{"$f":"COUNTIFS(등급표!$C$5:$C$142,$C7,등급표!$P$5:$P$142,1)","v":5},{"$f":"COUNTIFS(등급표!$C$5:$C$142,$C7,등급표!$P$5:$P$142,2)","v":5},{"$f":"COUNTIFS(등급표!$C$5:$C$142,$C7,등급표!$P$5:$P$142,3)","v":0},{"$f":"COUNTIFS(등급표!$C$5:$C$142,$C7,등급표!$P$5:$P$142,4)","v":0},{"$f":"COUNTIFS(등급표!$C$5:$C$142,$C7,등급표!$P$5:$P$142,5)","v":0},{"$f":"COUNTIFS(등급표!$C$5:$C$142,$C7,등급표!$P$5:$P$142,0)","v":0},{"$f":"D7+E7+F7+G7+H7+I7","v":10}]
[2,null,"섬유패션비지니스과",{"$f":"COUNTIFS(등급표!$C$5:$C$142,$C8,등급표!$P$5:$P$142,1)","v":5},{"$f":"COUNTIFS(등급표!$C$5:$C$142,$C8,등급표!$P$5:$P$142,2)","v":4},{"$f":"COUNTIFS(등급표!$C$5:$C$142,$C8,등급표!$P$5:$P$142,3)","v":0},{"$f":"COUNTIFS(등급표!$C$5:$C$142,$C8,등급표!$P$5:$P$142,4)","v":0},{"$f":"COUNTIFS(등급표!$C$5:$C$142,$C8,등급표!$P$5:$P$142,5)","v":0},{"$f":"COUNTIFS(등급표!$C$5:$C$142,$C8,등급표!$P$5:$P$142,0)","v":0},{"$f":"D8+E8+F8+G8+H8+I8","v":9}]
[3,null,"시험인증융합과(계약학과)",{"$f":"COUNTIFS(등급표!$C$5:$C$142,$C9,등급표!$P$5:$P$142,1)","v":0},{"$f":"COUNTIFS(등급표!$C$5:$C$142,$C9,등급표!$P$5:$P$142,2)","v":1},{"$f":"COUNTIFS(등급표!$C$5:$C$142,$C9,등급표!$P$5:$P$142,3)","v":0},{"$f":"COUNTIFS(등급표!$C$5:$C$142,$C9,등급표!$P$5:$P$142,4)","v":0},{"$f":"COUNTIFS(등급표!$C$5:$C$142,$C9,등급표!$P$5:$P$142,5)","v":0},{"$f":"COUNTIFS(등급표!$C$5:$C$142,$C9,등급표!$P$5:$P$142,0)","v":0},1]
[4,null,"식품영양과",{"$f":"COUNTIFS(등급표!$C$5:$C$142,$C10,등급표!$P$5:$P$142,1)","v":6},{"$f":"COUNTIFS(등급표!$C$5:$C$142,$C10,등급표!$P$5:$P$142,2)","v":2},{"$f":"COUNTIFS(등급표!$C$5:$C$142,$C10,등급표!$P$5:$P$142,3)","v":0},{"$f":"COUNTIFS(등급표!$C$5:$C$142,$C10,등급표!$P$5:$P$142,4)","v":0},{"$f":"COUNTIFS(등급표!$C$5:$C$142,$C10,등급표!$P$5:$P$142,5)","v":0},{"$f":"COUNTIFS(등급표!$C$5:$C$142,$C10,등급표!$P$5:$P$142,0)","v":0},8]
[5,null,"영상&게임콘텐츠과",{"$f":"COUNTIFS(등급표!$C$5:$C$142,$C11,등급표!$P$5:$P$142,1)","v":2},{"$f":"COUNTIFS(등급표!$C$5:$C$142,$C11,등급표!$P$5:$P$142,2)","v":1},{"$f":"COUNTIFS(등급표!$C$5:$C$142,$C11,등급표!$P$5:$P$142,3)","v":0},{"$f":"COUNTIFS(등급표!$C$5:$C$142,$C11,등급표!$P$5:$P$142,4)","v":0},{"$f":"COUNTIFS(등급표!$C$5:$C$142,$C11,등급표!$P$5:$P$142,5)","v":0},{"$f":"COUNTIFS(등급표!$C$5:$C$142,$C11,등급표!$P$5:$P$142,0)","v":0},3]
[6,null,"전기과",{"$f":"COUNTIFS(등급표!$C$5:$C$142,$C12,등급표!$P$5:$P$142,1)","v":4},{"$f":"COUNTIFS(등급표!$C$5:$C$142,$C12,등급표!$P$5:$P$142,2)","v":0},{"$f":"COUNTIFS(등급표!$C$5:$C$142,$C12,등급표!$P$5:$P$142,3)","v":0},{"$f":"COUNTIFS(등급표!$C$5:$C$142,$C12,등급표!$P$5:$P$142,4)","v":0},{"$f":"COUNTIFS(등급표!$C$5:$C$142,$C12,등급표!$P$5:$P$142,5)","v":0},{"$f":"COUNTIFS(등급표!$C$5:$C$142,$C12,등급표!$P$5:$P$142,0)","v":0},4]
[7,null,"전자과",{"$f":"COUNTIFS(등급표!$C$5:$C$142,$C13,등급표!$P$5:$P$142,1)","v":4},{"$f":"COUNTIFS(등급표!$C$5:$C$142,$C13,등급표!$P$5:$P$142,2)","v":6},{"$f":"COUNTIFS(등급표!$C$5:$C$142,$C13,등급표!$P$5:$P$142,3)","v":0},{"$f":"COUNTIFS(등급표!$C$5:$C$142,$C13,등급표!$P$5:$P$142,4)","v":0},{"$f":"COUNTIFS(등급표!$C$5:$C$142,$C13,등급표!$P$5:$P$142,5)","v":0},{"$f":"COUNTIFS(등급표!$C$5:$C$142,$C13,등급표!$P$5:$P$142,0)","v":0},10]
[8,null,"정보통신과",{"$f":"COUNTIFS(등급표!$C$5:$C$142,$C14,등급표!$P$5:$P$142,1)","v":7},{"$f":"COUNTIFS(등급표!$C$5:$C$142,$C14,등급표!$P$5:$P$142,2)","v":4},{"$f":"COUNTIFS(등급표!$C$5:$C$142,$C14,등급표!$P$5:$P$142,3)","v":0},{"$f":"COUNTIFS(등급표!$C$5:$C$142,$C14,등급표!$P$5:$P$142,4)","v":0},{"$f":"COUNTIFS(등급표!$C$5:$C$142,$C14,등급표!$P$5:$P$142,5)","v":0},{"$f":"COUNTIFS(등급표!$C$5:$C$142,$C14,등급표!$P$5:$P$142,0)","v":0},11]
[9,null,"지능로봇과",{"$f":"COUNTIFS(등급표!$C$5:$C$142,$C15,등급표!$P$5:$P$142,1)","v":4},{"$f":"COUNTIFS(등급표!$C$5:$C$142,$C15,등급표!$P$5:$P$142,2)","v":1},{"$f":"COUNTIFS(등급표!$C$5:$C$142,$C15,등급표!$P$5:$P$142,3)","v":0},{"$f":"COUNTIFS(등급표!$C$5:$C$142,$C15,등급표!$P$5:$P$142,4)","v":0},{"$f":"COUNTIFS(등급표!$C$5:$C$142,$C15,등급표!$P$5:$P$142,5)","v":0},{"$f":"COUNTIFS(등급표!$C$5:$C$142,$C15,등급표!$P$5:$P$142,0)","v":0},5]
[10,null,"토목과",{"$f":"COUNTIFS(등급표!$C$5:$C$142,$C16,등급표!$P$5:$P$142,1)","v":5},{"$f":"COUNTIFS(등급표!$C$5:$C$142,$C16,등급표!$P$5:$P$142,2)","v":3},{"$f":"COUNTIFS(등급표!$C$5:$C$142,$C16,등급표!$P$5:$P$142,3)","v":0},{"$f":"COUNTIFS(등급표!$C$5:$C$142,$C16,등급표!$P$5:$P$142,4)","v":0},{"$f":"COUNTIFS(등급표!$C$5:$C$142,$C16,등급표!$P$5:$P$142,5)","v":0},{"$f":"COUNTIFS(등급표!$C$5:$C$142,$C16,등급표!$P$5:$P$142,0)","v":0},8]
[11,null,"호텔외식조리과",{"$f":"COUNTIFS(등급표!$C$5:$C$142,$C17,등급표!$P$5:$P$142,1)","v":5},{"$f":"COUNTIFS(등급표!$C$5:$C$142,$C17,등급표!$P$5:$P$142,2)","v":4},{"$f":"COUNTIFS(등급표!$C$5:$C$142,$C17,등급표!$P$5:$P$142,3)","v":0},{"$f":"COUNTIFS(등급표!$C$5:$C$142,$C17,등급표!$P$5:$P$142,4)","v":0},{"$f":"COUNTIFS(등급표!$C$5:$C$142,$C17,등급표!$P$5:$P$142,5)","v":0},{"$f":"COUNTIFS(등급표!$C$5:$C$142,$C17,등급표!$P$5:$P$142,0)","v":0},{"$f":"D17+E17+F17+G17+H17+I17","v":9}]
[12,null,"간호학과(소사)",{"$f":"COUNTIFS(등급표!$C$5:$C$142,$C18,등급표!$P$5:$P$142,1)","v":3},{"$f":"COUNTIFS(등급표!$C$5:$C$142,$C18,등급표!$P$5:$P$142,2)","v":2},{"$f":"COUNTIFS(등급표!$C$5:$C$142,$C18,등급표!$P$5:$P$142,3)","v":0},{"$f":"COUNTIFS(등급표!$C$5:$C$142,$C18,등급표!$P$5:$P$142,4)","v":0},{"$f":"COUNTIFS(등급표!$C$5:$C$142,$C18,등급표!$P$5:$P$142,5)","v":0},{"$f":"COUNTIFS(등급표!$C$5:$C$142,$C18,등급표!$P$5:$P$142,0)","v":0},5]
[13,null,"공용실(소사)",{"$f":"COUNTIFS(등급표!$C$5:$C$142,$C19,등급표!$P$5:$P$142,1)","v":9},{"$f":"COUNTIFS(등급표!$C$5:$C$142,$C19,등급표!$P$5:$P$142,2)","v":0},{"$f":"COUNTIFS(등급표!$C$5:$C$142,$C19,등급표!$P$5:$P$142,3)","v":0},{"$f":"COUNTIFS(등급표!$C$5:$C$142,$C19,등급표!$P$5:$P$142,4)","v":0},{"$f":"COUNTIFS(등급표!$C$5:$C$142,$C19,등급표!$P$5:$P$142,5)","v":0},{"$f":"COUNTIFS(등급표!$C$5:$C$142,$C19,등급표!$P$5:$P$142,0)","v":0},9]
["계",null,null,{"$f":"SUM(D7:D19)","v":59},{"$f":"SUM(E7:E19)","v":33},0,0,0,0,{"$f":"SUM(D20:I20)","v":92}]
["백분율",null,null,{"$f":"D20/J20","v":0.64130434782608692},{"$f":"E20/J20","v":0.35869565217391303},{"$f":"F20/J20","v":0},{"$f":"G20/J20","v":0},{"$f":"H20/J20","v":0},{"$f":"I20/J20","v":0},{"$f":"SUM(D21:I21)","v":1}]
[1,"예체능","디지털미디어디자인과",{"$f":"COUNTIFS(등급표!$C$5:$C$142,$C22,등급표!$P$5:$P$142,1)","v":12},{"$f":"COUNTIFS(등급표!$C$5:$C$142,$C22,등급표!$P$5:$P$142,2)","v":3},{"$f":"COUNTIFS(등급표!$C$5:$C$142,$C22,등급표!$P$5:$P$142,3)","v":0},{"$f":"COUNTIFS(등급표!$C$5:$C$142,$C22,등급표!$P$5:$P$142,4)","v":0},{"$f":"COUNTIFS(등급표!$C$5:$C$142,$C22,등급표!$P$5:$P$142,5)","v":0},{"$f":"COUNTIFS(등급표!$C$5:$C$142,$C22,등급표!$P$5:$P$142,0)","v":0},{"$f":"D22+E22+F22+G22+H22+I22","v":15}]
[2,null,"뷰티융합비즈니스과",{"$f":"COUNTIFS(등급표!$C$5:$C$142,$C23,등급표!$P$5:$P$142,1)","v":1},{"$f":"COUNTIFS(등급표!$C$5:$C$142,$C23,등급표!$P$5:$P$142,2)","v":0},{"$f":"COUNTIFS(등급표!$C$5:$C$142,$C23,등급표!$P$5:$P$142,3)","v":0},{"$f":"COUNTIFS(등급표!$C$5:$C$142,$C23,등급표!$P$5:$P$142,4)","v":0},{"$f":"COUNTIFS(등급표!$C$5:$C$142,$C23,등급표!$P$5:$P$142,5)","v":0},{"$f":"COUNTIFS(등급표!$C$5:$C$142,$C23,등급표!$P$5:$P$142,0)","v":0},{"$f":"D23+E23+F23+G23+H23+I23","v":1}]
[3,null,"뷰티케어과(뷰티전공)",{"$f":"COUNTIFS(등급표!$C$5:$C$142,$C24,등급표!$P$5:$P$142,1)","v":2},{"$f":"COUNTIFS(등급표!$C$5:$C$142,$C24,등급표!$P$5:$P$142,2)","v":0},{"$f":"COUNTIFS(등급표!$C$5:$C$142,$C24,등급표!$P$5:$P$142,3)","v":0},{"$f":"COUNTIFS(등급표!$C$5:$C$142,$C24,등급표!$P$5:$P$142,4)","v":0},{"$f":"COUNTIFS(등급표!$C$5:$C$142,$C24,등급표!$P$5:$P$142,5)","v":0},{"$f":"COUNTIFS(등급표!$C$5:$C$142,$C24,등급표!$P$5:$P$142,0)","v":0},2]
[4,null,"뷰티케어과(헤어전공)",{"$f":"COUNTIFS(등급표!$C$5:$C$142,$C25,등급표!$P$5:$P$142,1)","v":2},{"$f":"COUNTIFS(등급표!$C$5:$C$142,$C25,등급표!$P$5:$P$142,2)","v":0},{"$f":"COUNTIFS(등급표!$C$5:$C$142,$C25,등급표!$P$5:$P$142,3)","v":0},{"$f":"COUNTIFS(등급표!$C$5:$C$142,$C25,등급표!$P$5:$P$142,4)","v":0},{"$f":"COUNTIFS(등급표!$C$5:$C$142,$C25,등급표!$P$5:$P$142,5)","v":0},{"$f":"COUNTIFS(등급표!$C$5:$C$142,$C25,등급표!$P$5:$P$142,0)","v":0},2]
[5,null,"실내건축디자인과",{"$f":"COUNTIFS(등급표!$C$5:$C$142,$C26,등급표!$P$5:$P$142,1)","v":10},{"$f":"COUNTIFS(등급표!$C$5:$C$142,$C26,등급표!$P$5:$P$142,2)","v":11},{"$f":"COUNTIFS(등급표!$C$5:$C$142,$C26,등급표!$P$5:$P$142,3)","v":0},{"$f":"COUNTIFS(등급표!$C$5:$C$142,$C26,등급표!$P$5:$P$142,4)","v":0},{"$f":"COUNTIFS(등급표!$C$5:$C$142,$C26,등급표!$P$5:$P$142,5)","v":0},{"$f":"COUNTIFS(등급표!$C$5:$C$142,$C26,등급표!$P$5:$P$142,0)","v":0},21]
[6,null,"재활스포츠과",{"$f":"COUNTIFS(등급표!$C$5:$C$142,$C27,등급표!$P$5:$P$142,1)","v":3},{"$f":"COUNTIFS(등급표!$C$5:$C$142,$C27,등급표!$P$5:$P$142,2)","v":1},{"$f":"COUNTIFS(등급표!$C$5:$C$142,$C27,등급표!$P$5:$P$142,3)","v":0},{"$f":"COUNTIFS(등급표!$C$5:$C$142,$C27,등급표!$P$5:$P$142,4)","v":0},{"$f":"COUNTIFS(등급표!$C$5:$C$142,$C27,등급표!$P$5:$P$142,5)","v":0},{"$f":"COUNTIFS(등급표!$C$5:$C$142,$C27,등급표!$P$5:$P$142,0)","v":0},{"$f":"D27+E27+F27+G27+H27+I27","v":4}]
["계",null,null,{"$f":"SUM(D22:D27)","v":30},{"$f":"SUM(E22:E27)","v":15},0,0,0,0,{"$f":"SUM(D28:I28)","v":45}]
["백분율",null,null,{"$f":"D28/J28","v":0.66666666666666663},{"$f":"E28/J28","v":0.33333333333333331},{"$f":"F28/J28","v":0},{"$f":"G28/J28","v":0},{"$f":"H28/J28","v":0},{"$f":"I28/J28","v":0},{"$f":"SUM(D29:I29)","v":1}]
[null,null,0,0,0,0,0,0,0]
["계",null,null,{"$f":"SUM(D20+D28)","v":89},{"$f":"SUM(E20+E28)","v":48},0,0,0,0,137]
["백분율",null,null,{"$f":"D31/$J31","v":0.64963503649635035},{"$f":"E31/$J31","v":0.35036496350364965},0,0,0,0,{"$f":"SUM(D32:I32)","v":1}]

{"sheet":"등급표","index":1,"n_rows":141,"n_cols":16,"rows_kept":141,"cut":false,"hidden":false,"merged":[[1,7,2,15],[1,0,2,5]]}
[]
["2019년 연구실 안전진단 등급표",{"$nulls":6},"분야별 등급 및 종합등급"]
[]
["번호","구분","학과명","연구실명","건물명","호실","정기/정밀","일반\n안전","위생\n안전","전기\n안전","소방\n안전","화공\n안전","가스\n안전","기계\n안전","생물\n안전","종합\n등급"]
["86","공학,자연과학","건축과","환경연구실","공학관","AB107","정기",1,1,1,1,1,1,1,1,1]
["87","공학,자연과학","건축과","컴퓨터그래픽실","공학관","A0403","정기",1,1,1,2,1,1,1,1,2]
["88","공학,자연과학","건축과","프레젠테이션실","공학관","A0404","정기",1,1,1,1,1,1,1,1,1]
["89","공학,자연과학","건축과","첨단강의실1","공학관","A0502","정기",1,1,1,2,1,1,1,1,2]
["90","공학,자연과학","건축과","첨단강의실2","공학관","A0503","정기",1,1,1,1,1,1,1,1,1]
["91","공학,자연과학","건축과","첨단강의실3","공학관","A0507","정기",1,1,1,2,1,1,1,1,2]
["92","공학,자연과학","건축과","설계STUDIO-A","공학관","A0508","정기",1,1,1,2,1,1,1,1,2]
["93","공학,자연과학","건축과","설계STUDIO-B","공학관","A0509","정기",1,1,1,1,1,1,1,1,1]
["94","공학,자연과학","건축과","모형제작실","공학관","A0602","정기",2,1,1,1,1,1,1,1,2]
["95","공학,자연과학","건축과","건축CAD실","예지관","C0106","정기",1,1,1,1,1,1,1,1,1]
["37","공학,자연과학","섬유패션비지니스과","섬유패션CAD실","한길관","E0401","정기",1,1,1,1,1,1,1,1,1]
["38","공학,자연과학","섬유패션비지니스과","가발공정실","한길관","E0403","정기",1,1,1,1,1,1,1,1,1]
["39","공학,자연과학","섬유패션비지니스과","섬유패션실습실(Ⅱ)","한길관","E0406","정기",1,1,1,2,1,1,1,1,2]
["40","공학,자연과학","섬유패션비지니스과","섬유패션실습실(Ⅲ)","한길관","E0409","정기",1,1,1,2,1,1,1,1,2]
["41","공학,자연과학","섬유패션비지니스과","실습재료실","한길관","E0101","정밀",1,2,1,1,1,1,1,1,2]
["42","공학,자연과학","섬유패션비지니스과","섬유패션실습실(Ⅰ)","한길관","E0102","정밀",1,1,1,1,2,1,1,1,2]
["43","공학,자연과학","섬유패션비지니스과","NCS편직실습실","한길관","E0428","정기",1,1,1,1,1,1,1,1,1]
["44","공학,자연과학","섬유패션비지니스과","섬유패션 전자상거래실","한길관","E0230","정기",1,1,1,1,1,1,1,1,1]
["45","공학,자연과학","섬유패션비지니스과","컴퓨터니트실험실","한길관","EB105","정기",1,1,1,1,1,1,1,1,1]
["128","공학,자연과학","시험인증융합과(계약학과)","3실습실","꿈집","B0904","정기",2,1,2,1,1,1,1,1,2]
["61","공학,자연과학","식품영양과","종합실험실","예지관","C0101","정밀",1,2,1,1,2,1,1,1,2]
["62","공학,자연과학","식품영양과","실험준비실","예지관","C0102","정밀",1,2,1,1,1,1,1,1,2]
["63","공학,자연과학","식품영양과","기구실","예지관","C0103","정밀",1,1,1,1,1,1,1,1,1]
["64","공학,자연과학","식품영양과","종합실습실","예지관","C0306","정기",1,1,1,1,1,1,1,1,1]
["65","공학,자연과학","식품영양과","조리과학실","예지관","C0307","정기",1,1,1,1,1,1,1,1,1]
["66","공학,자연과학","식품영양과","조리실습실","예지관","C0308","정밀",1,1,1,1,1,1,1,1,1]
["67","공학,자연과학","식품영양과","서양조리실습실","예지관","C0408","정밀",1,1,1,1,1,1,1,1,1]
["68","공학,자연과학","식품영양과","관능평가실","예지관","C0509","정기",1,1,1,1,1,1,1,1,1]
["15","공학,자연과학","영상&게임콘텐츠과","3D VISUAL실","한길관","E0416","정기",1,1,1,1,1,1,1,1,1]
["16","공학,자연과학","영상&게임콘텐츠과","컴퓨터실","한길관","E0419","정기",1,1,1,1,1,1,1,1,1]
["17","공학,자연과학","영상&게임콘텐츠과","3D STATION실","한길관","E0438","정기",1,1,2,1,1,1,1,1,2]
["18","공학,자연과학","전기과","전기공사실습실","한길관","E0323","정기",1,1,1,1,1,1,1,1,1]
["19","공학,자연과학","전기과","시퀀스제어실습실","한길관","E0338","정기",1,1,1,1,1,1,1,1,1]
["20","공학,자연과학","전기과","전기CAD실","한길관","E0422","정기",1,1,1,1,1,1,1,1,1]
["21","공학,자연과학","전기과","전기실습실","한길관","E0432","정기",1,1,1,1,1,1,1,1,1]
["22","공학,자연과학","전자과","Project실습실","한길관","E0201","정밀",1,2,2,2,2,1,1,1,2]
["23","공학,자연과학","전자과","컴퓨터실습실","한길관","E0203","정기",1,1,1,2,1,1,1,1,2]
["24","공학,자연과학","전자과","디지털공학실험실","한길관","E0207","정기",1,1,1,1,1,1,1,1,1]
["25","공학,자연과학","전자과","반도체공정장비실1","한길관","E0212","정기",1,1,1,2,1,1,1,1,2]
["26","공학,자연과학","전자과","반도체공정장비실2","한길관","E0213","정기",1,1,2,1,1,1,1,1,2]
["27","공학,자연과학","전자과","전자공학실험실","한길관","E0216","정기",1,1,1,1,1,1,1,1,1]
["28","공학,자연과학","전자과","자동화시스템실험실","한길관","E0236","정밀",1,1,2,1,1,1,2,1,2]
["29","공학,자연과학","전자과","전자응용실험실","한길관","E0316","정기",1,1,2,1,1,1,1,1,2]
["30","공학,자연과학","전자과","전자제어실험실","한길관","E0320","정기",1,1,1,1,1,1,1,1,1]
["31","공학,자연과학","전자과","반도체요소기술실험실","한길관","E0317","정기",1,1,1,1,1,1,1,1,1]
["117","공학,자연과학","정보통신과","컴퓨터2실","꿈집","B1001","정기",1,1,1,1,1,1,1,1,1]
["118","공학,자연과학","정보통신과","컴퓨터1실","꿈집","B1004","정기",1,1,1,1,1,1,1,1,1]
["119","공학,자연과학","정보통신과","응용소프트웨어실","꿈집","B1005","정기",2,1,1,1,1,1,1,1,2]
["120","공학,자연과학","정보통신과","응용전자실험실","꿈집","B1008","정기",1,1,1,1,1,1,1,1,1]
["121","공학,자연과학","정보통신과","네트워크실","꿈집","B1102","정기",1,1,2,1,1,1,1,1,2]
["122","공학,자연과학","정보통신과","아날로그실습실","꿈집","B1108","정기",1,1,1,1,1,1,1,1,1]
["123","공학,자연과학","정보통신과","WEBMASTER실","꿈집","B1204","정기",1,1,1,1,1,1,1,1,1]
["124","공학,자연과학","정보통신과","정보통신실습실","꿈집","B1215","정기",2,1,1,1,1,1,1,1,2]
["125","공학,자연과학","정보통신과","디지털통신실험실","꿈집","B1304","정기",1,1,1,1,1,1,1,1,1]
["126","공학,자연과학","정보통신과","e-교실","꿈집","B1305-1","정기",1,1,1,1,1,1,1,1,1]
["127","공학,자연과학","정보통신과","캡스톤디자인Ⅲ","꿈집","B1305","정기",1,1,2,1,1,1,1,1,2]
["32","공학,자연과학","지능로봇과","전동기제어실습실","한길관","E0218","정기",1,1,1,1,1,1,1,1,1]
["33","공학,자연과학","지능로봇과","제1컴퓨터실습실","한길관","E0222","정기",1,1,1,1,1,1,1,1,1]
["34","공학,자연과학","지능로봇과","기초전자실험실","한길관","E0228","정밀",1,2,1,1,2,1,2,1,2]
["35","공학,자연과학","지능로봇과","로봇공학실","한길관","E0301","정기",1,1,1,1,1,1,1,1,1]
["36","공학,자연과학","지능로봇과","시퀸스실습실","한길관","E0343","정기",1,1,1,1,1,1,1,1,1]
["78","공학,자연과학","토목과","토질실험실","공학관","A0101","정밀",1,1,1,1,1,1,1,1,1]
["79","공학,자연과학","토목과","토질실험준비실","공학관","A0102","정밀",1,1,1,1,1,1,1,1,1]
["80","공학,자연과학","토목과","환경실험실","공학관","A0201","정기",1,1,1,1,1,1,1,1,1]
["81","공학,자연과학","토목과","측량실","공학관","A0205","정기",1,1,1,1,1,1,1,1,1]
["82","공학,자연과학","토목과","CAD실","공학관","A0309","정기",2,1,1,1,1,1,1,1,2]
["83","공학,자연과학","토목과","전산구조설계실","공학관","A0310","정기",2,1,1,1,1,1,1,1,2]
["84","공학,자연과학","토목과","구조재료실험실","공학관","AB101","정밀",1,1,1,1,1,1,1,1,1]
["85","공학,자연과학","토목과","수리실험실","공학관","AB102","정기",1,1,2,1,1,1,1,1,2]
["69","공학,자연과학","호텔외식조리과","한식조리실","예지관","C0201","정밀",1,1,2,1,1,1,1,1,2]
["70","공학,자연과학","호텔외식조리과","제과제빵실","예지관","C0203","정밀",1,1,1,2,1,1,1,1,2]
["71","공학,자연과학","호텔외식조리과","식음료 및 식공간 연출","예지관","C0205","정기",1,1,1,1,1,1,1,1,1]
["72","공학,자연과학","호텔외식조리과","양식조리실","예지관","C0301","정밀",1,1,1,1,1,1,1,1,1]
["73","공학,자연과학","호텔외식조리과","푸드스튜디오","예지관","C0401","정밀",1,1,2,1,1,1,1,1,2]
["74","공학,자연과학","호텔외식조리과","메뉴 개발실1","예지관","C0501","정밀",1,1,2,1,1,1,1,1,2]
["75","공학,자연과학","호텔외식조리과","메뉴 개발실2","예지관","C0502","정밀",1,1,1,1,1,1,1,1,1]
["76","공학,자연과학","호텔외식조리과","NCS-Multipurpose Kitchen","한길관","EB135","정밀",1,1,1,1,1,1,1,1,1]
["77","공학,자연과학","호텔외식조리과","NCS-BakingScience&Art Room","한길관","EB135-1","정기",1,1,1,1,1,1,1,1,1]
["1","공학,자연과학","간호학과(소사)","건강사정실습실","공학강의동","K0605","정기",1,1,1,1,1,1,1,1,1]
["2","공학,자연과학","간호학과(소사)","시뮬레이션센터","공학강의동","K0614-K0617","정기",1,1,1,1,1,1,1,1,1]
["3","공학,자연과학","간호학과(소사)","기초간호과학실습실","공학강의동","K0606","정기",1,1,1,1,1,1,1,1,1]
["4","공학,자연과학","간호학과(소사)","기본간호학실습실","공학강의동","K0602","정기",1,1,2,1,1,1,1,2,2]
["5","공학,자연과학","간호학과(소사)","자율실습실","공학강의동","K0601","정기",1,1,2,1,1,1,1,2,2]
["6","공학,자연과학","공용실(소사)","제1컴퓨터실","공학강의동","K0401","정기",1,1,1,1,1,1,1,1,1]
["7","공학,자연과학","공용실(소사)","제2컴퓨터실","공학강의동","K0402","정기",1,1,1,1,1,1,1,1,1]
["8","공학,자연과학","공용실(소사)","제3컴퓨터실","공학강의동","K0404","정기",1,1,1,1,1,1,1,1,1]
["9","공학,자연과학","공용실(소사)","제4컴퓨터실","공학강의동","K0405","정기",1,1,1,1,1,1,1,1,1]
["10","공학,자연과학","공용실(소사)","제5컴퓨터실","공학강의동","K0406","정기",1,1,1,1,1,1,1,1,1]
["11","공학,자연과학","공용실(소사)","제6컴퓨터실","공학강의동","K0407","정기",1,1,1,1,1,1,1,1,1]
["12","공학,자연과학","공용실(소사)","제7컴퓨터실","공학강의동","K0501","정기",1,1,1,1,1,1,1,1,1]
["13","공학,자연과학","공용실(소사)","제8컴퓨터실","공학강의동","K0524","정기",1,1,1,1,1,1,1,1,1]
["14","공학,자연과학","공용실(소사)","제9컴퓨터실","공학강의동","K0701","정기",1,1,1,1,1,1,1,1,1]
["46","예체능","디지털미디어디자인과","디자인실습실6","한길관","E0515","정기",1,1,1,1,1,1,1,1,1]
["47","예체능","디지털미디어디자인과","컴퓨터교육실3","한길관","E0510","정기",1,1,1,1,1,1,1,1,1]
["48","예체능","디지털미디어디자인과","컴퓨터교육실2","한길관","E0517","정기",1,1,1,1,1,1,1,1,1]
["49","예체능","디지털미디어디자인과","컴퓨터교육실1","한길관","E0520","정기",1,1,1,1,1,1,1,1,1]
["50","예체능","디지털미디어디자인과","팀 세미나실","한길관","E0511","정기",1,1,1,1,1,1,1,1,1]
["51","예체능","디지털미디어디자인과","운송기기 크레이 모델링실","한길관","EB1","정기",1,2,1,1,1,1,1,1,2]
["52","예체능","디지털미디어디자인과","운송기기 크레이 모델링 준비실","한길관","EB131","정기",1,2,1,1,1,1,2,1,2]
["53","예체능","디지털미디어디자인과","컴퓨터교육실4","한길관","E0523","정기",1,1,1,1,1,1,1,1,1]
["54","예체능","디지털미디어디자인과","3D프린트가공실","한길관","E0550","정기",1,1,1,1,1,1,1,1,1]
["55","예체능","디지털미디어디자인과","디자인실습실4","한길관","E0502","정기",1,1,1,1,1,1,1,1,1]
["56","예체능","디지털미디어디자인과","디자인실습실5","한길관","E0504","정기",1,1,1,1,1,1,1,1,1]
["57","예체능","디지털미디어디자인과","디자인실습실3","한길관","E0539","정기",2,1,1,1,1,1,1,1,2]
["58","예체능","디지털미디어디자인과","디자인실습실2","한길관","E0536","정기",1,1,1,1,1,1,1,1,1]
["59","예체능","디지털미디어디자인과","디자인실습실1","한길관","E0533","정기",1,1,1,1,1,1,1,1,1]
["60","예체능","디지털미디어디자인과","4학년 전공연구실","한길관","E0530","정기",1,1,1,1,1,1,1,1,1]
["133","예체능","뷰티융합비즈니스과","뷰티융합비즈니스 훈련센터","밀레니엄관","H0105","정기",1,1,1,1,1,1,1,1,1]
["134","예체능","뷰티케어과(뷰티전공)","스킨케어실","밀레니엄관","H0401","정기",1,1,1,1,1,1,1,1,1]
["135","예체능","뷰티케어과(뷰티전공)","네일아트실","밀레니엄관","H0405","정기",1,1,1,1,1,1,1,1,1]
["136","예체능","뷰티케어과(헤어전공)","메이크업아트실","밀레니엄관","H0406","정기",1,1,1,1,1,1,1,1,1]
["137","예체능","뷰티케어과(헤어전공)","헤어디자인실","밀레니엄관","H0407","정기",1,1,1,1,1,1,1,1,1]
["96","예체능","실내건축디자인과","컴퓨터프레젠테이션실","공학관","A0107","정기",2,1,1,1,1,1,1,1,2]
["97","예체능","실내건축디자인과","전공스튜디오실","공학관","A0301","정기",1,1,1,1,1,1,1,1,1]
["98","예체능","실내건축디자인과","컴퓨터그래픽실","공학관","A0302","정기",2,1,1,1,1,1,1,1,2]
["99","예체능","실내건축디자인과","서버실","공학관","A0302-1","정기",1,1,1,1,1,1,1,1,1]
["100","예체능","실내건축디자인과","모형실습실","공학관","AB103","정기",1,1,1,1,1,1,1,1,1]
["101","예체능","실내건축디자인과","스튜디오05","예지관","C0104","정기",1,1,1,1,1,1,1,1,1]
["102","예체능","실내건축디자인과","스튜디오06","예지관","C0104-1","정기",1,1,1,1,1,1,1,1,1]
["103","예체능","실내건축디자인과","스튜디오07","예지관","C0105","정기",2,1,1,1,1,1,1,1,2]
["104","예체능","실내건축디자인과","스튜디오08","예지관","C0105-1","정기",1,1,1,1,1,1,1,1,1]
["105","예체능","실내건축디자인과","스튜디오01","예지관","CB101-1","정기",2,1,1,1,1,1,1,1,2]
["106","예체능","실내건축디자인과","스튜디오02","예지관","CB102","정기",1,1,1,2,1,1,1,1,2]
["107","예체능","실내건축디자인과","스튜디오03","예지관","CB102-1","정기",1,1,1,1,1,1,1,1,1]
["108","예체능","실내건축디자인과","스튜디오04","예지관","CB103","정기",1,1,1,1,1,1,1,1,1]
["109","예체능","실내건축디자인과","졸업준비 및 스튜디오","예지관","CB104","정기",1,1,1,1,1,1,1,1,1]
["110","예체능","실내건축디자인과","디자인1실","예지관","CB101","정기",2,1,1,2,1,1,1,1,2]
["111","예체능","실내건축디자인과","디자인3실","예지관","CB105","정기",1,1,1,2,1,1,1,1,2]
["112","예체능","실내건축디자인과","디자인2실","예지관","CB107","정기",1,1,1,1,1,1,1,1,1]
["113","예체능","실내건축디자인과","목공예실","한길관","EB112","정기",1,2,1,1,1,1,2,1,2]
["114","예체능","실내건축디자인과","목공구실","한길관","EB129","정기",1,2,1,1,1,1,2,1,2]
["115","예체능","실내건축디자인과","금속공예1실","한길관","EB118","정밀",2,2,2,2,1,1,1,1,2]
["116","예체능","실내건축디자인과","금속공예2실","한길관","EB122","정밀",1,2,1,1,2,1,1,1,2]
["129","예체능","재활스포츠과","실습실B","기념관,체육관","I0205","정기",1,1,1,1,1,1,1,1,1]
["130","예체능","재활스포츠과","실습실A","기념관,체육관","I0201-1","정기",1,1,2,1,1,1,1,1,2]
["131","예체능","재활스포츠과","댄스실","기념관,체육관","I0101","정기",1,1,1,1,1,1,1,1,1]
["132","예체능","재활스포츠과","TRX실","기념관,체육관","IB104","정기",1,1,1,1,1,1,1,1,1]

{"sheet":"지적사항 집계표","index":2,"n_rows":32,"n_cols":12,"rows_kept":32,"cut":false,"hidden":false,"merged":[[30,0,30,2],[31,0,31,2],[28,0,28,2],[27,0,27,2],[1,0,1,11],[2,3,2,10],[4,0,5,0],[4,2,5,2],[4,3,4,11],[4,1,5,1],[6,1,18,1],[21,1,26,1],[19,0,19,2],[20,0,20,2]]}
[]
["2019년 부천대학교 연구실 정기안전점검 점검사항 집계표"]
[]
[]
["연번","구분","학과명","점검결과"]
[null,null,null,"일반안전","산업위생","전기안전","소방안전","화공안전","가스안전","기계안전","생물안전","계"]
[1,"공학,자연과학","건축과",{"$f":"COUNTIFS('지적사항 및 개선방안(종합)'!$C$3:$C$208,$C7,'지적사항 및 개선방안(종합)'!$G$3:$G$208,D$6)","v":2},{"$f":"COUNTIFS('지적사항 및 개선방안(종합)'!$C$3:$C$208,$C7,'지적사항 및 개선방안(종합)'!$G$3:$G$208,E$6)","v":0},{"$f":"COUNTIFS('지적사항 및 개선방안(종합)'!$C$3:$C$208,$C7,'지적사항 및 개선방안(종합)'!$G$3:$G$208,F$6)","v":0},{"$f":"COUNTIFS('지적사항 및 개선방안(종합)'!$C$3:$C$208,$C7,'지적사항 및 개선방안(종합)'!$G$3:$G$208,G$6)","v":4},{"$f":"COUNTIFS('지적사항 및 개선방안(종합)'!$C$3:$C$208,$C7,'지적사항 및 개선방안(종합)'!$G$3:$G$208,H$6)","v":0},{"$f":"COUNTIFS('지적사항 및 개선방안(종합)'!$C$3:$C$208,$C7,'지적사항 및 개선방안(종합)'!$G$3:$G$208,I$6)","v":0},{"$f":"COUNTIFS('지적사항 및 개선방안(종합)'!$C$3:$C$208,$C7,'지적사항 및 개선방안(종합)'!$G$3:$G$208,J$6)","v":0},{"$f":"COUNTIFS('지적사항 및 개선방안(종합)'!$C$3:$C$208,$C7,'지적사항 및 개선방안(종합)'!$G$3:$G$208,K$6)","v":0},{"$f":"SUM(D7:K7)","v":6}]
[6,null,"섬유패션비지니스과",{"$f":"COUNTIFS('지적사항 및 개선방안(종합)'!$C$3:$C$208,$C8,'지적사항 및 개선방안(종합)'!$G$3:$G$208,D$6)","v":0},{"$f":"COUNTIFS('지적사항 및 개선방안(종합)'!$C$3:$C$208,$C8,'지적사항 및 개선방안(종합)'!$G$3:$G$208,E$6)","v":1},{"$f":"COUNTIFS('지적사항 및 개선방안(종합)'!$C$3:$C$208,$C8,'지적사항 및 개선방안(종합)'!$G$3:$G$208,F$6)","v":0},{"$f":"COUNTIFS('지적사항 및 개선방안(종합)'!$C$3:$C$208,$C8,'지적사항 및 개선방안(종합)'!$G$3:$G$208,G$6)","v":2},{"$f":"COUNTIFS('지적사항 및 개선방안(종합)'!$C$3:$C$208,$C8,'지적사항 및 개선방안(종합)'!$G$3:$G$208,H$6)","v":2},{"$f":"COUNTIFS('지적사항 및 개선방안(종합)'!$C$3:$C$208,$C8,'지적사항 및 개선방안(종합)'!$G$3:$G$208,I$6)","v":0},{"$f":"COUNTIFS('지적사항 및 개선방안(종합)'!$C$3:$C$208,$C8,'지적사항 및 개선방안(종합)'!$G$3:$G$208,J$6)","v":0},{"$f":"COUNTIFS('지적사항 및 개선방안(종합)'!$C$3:$C$208,$C8,'지적사항 및 개선방안(종합)'!$G$3:$G$208,K$6)","v":0},{"$f":"SUM(D8:K8)","v":5}]
[7,null,"시험인증융합과(계약학과)",{"$f":"COUNTIFS('지적사항 및 개선방안(종합)'!$C$3:$C$208,$C9,'지적사항 및 개선방안(종합)'!$G$3:$G$208,D$6)","v":2},{"$f":"COUNTIFS('지적사항 및 개선방안(종합)'!$C$3:$C$208,$C9,'지적사항 및 개선방안(종합)'!$G$3:$G$208,E$6)","v":0},{"$f":"COUNTIFS('지적사항 및 개선방안(종합)'!$C$3:$C$208,$C9,'지적사항 및 개선방안(종합)'!$G$3:$G$208,F$6)","v":1},{"$f":"COUNTIFS('지적사항 및 개선방안(종합)'!$C$3:$C$208,$C9,'지적사항 및 개선방안(종합)'!$G$3:$G$208,G$6)","v":0},{"$f":"COUNTIFS('지적사항 및 개선방안(종합)'!$C$3:$C$208,$C9,'지적사항 및 개선방안(종합)'!$G$3:$G$208,H$6)","v":0},{"$f":"COUNTIFS('지적사항 및 개선방안(종합)'!$C$3:$C$208,$C9,'지적사항 및 개선방안(종합)'!$G$3:$G$208,I$6)","v":0},{"$f":"COUNTIFS('지적사항 및 개선방안(종합)'!$C$3:$C$208,$C9,'지적사항 및 개선방안(종합)'!$G$3:$G$208,J$6)","v":0},{"$f":"COUNTIFS('지적사항 및 개선방안(종합)'!$C$3:$C$208,$C9,'지적사항 및 개선방안(종합)'!$G$3:$G$208,K$6)","v":0},3]
[8,null,"식품영양과",{"$f":"COUNTIFS('지적사항 및 개선방안(종합)'!$C$3:$C$208,$C10,'지적사항 및 개선방안(종합)'!$G$3:$G$208,D$6)","v":0},{"$f":"COUNTIFS('지적사항 및 개선방안(종합)'!$C$3:$C$208,$C10,'지적사항 및 개선방안(종합)'!$G$3:$G$208,E$6)","v":4},{"$f":"COUNTIFS('지적사항 및 개선방안(종합)'!$C$3:$C$208,$C10,'지적사항 및 개선방안(종합)'!$G$3:$G$208,F$6)","v":0},{"$f":"COUNTIFS('지적사항 및 개선방안(종합)'!$C$3:$C$208,$C10,'지적사항 및 개선방안(종합)'!$G$3:$G$208,G$6)","v":0},{"$f":"COUNTIFS('지적사항 및 개선방안(종합)'!$C$3:$C$208,$C10,'지적사항 및 개선방안(종합)'!$G$3:$G$208,H$6)","v":2},{"$f":"COUNTIFS('지적사항 및 개선방안(종합)'!$C$3:$C$208,$C10,'지적사항 및 개선방안(종합)'!$G$3:$G$208,I$6)","v":0},{"$f":"COUNTIFS('지적사항 및 개선방안(종합)'!$C$3:$C$208,$C10,'지적사항 및 개선방안(종합)'!$G$3:$G$208,J$6)","v":0},{"$f":"COUNTIFS('지적사항 및 개선방안(종합)'!$C$3:$C$208,$C10,'지적사항 및 개선방안(종합)'!$G$3:$G$208,K$6)","v":0},6]
[10,null,"영상&게임콘텐츠과",{"$f":"COUNTIFS('지적사항 및 개선방안(종합)'!$C$3:$C$208,$C11,'지적사항 및 개선방안(종합)'!$G$3:$G$208,D$6)","v":0},{"$f":"COUNTIFS('지적사항 및 개선방안(종합)'!$C$3:$C$208,$C11,'지적사항 및 개선방안(종합)'!$G$3:$G$208,E$6)","v":0},{"$f":"COUNTIFS('지적사항 및 개선방안(종합)'!$C$3:$C$208,$C11,'지적사항 및 개선방안(종합)'!$G$3:$G$208,F$6)","v":1},{"$f":"COUNTIFS('지적사항 및 개선방안(종합)'!$C$3:$C$208,$C11,'지적사항 및 개선방안(종합)'!$G$3:$G$208,G$6)","v":0},{"$f":"COUNTIFS('지적사항 및 개선방안(종합)'!$C$3:$C$208,$C11,'지적사항 및 개선방안(종합)'!$G$3:$G$208,H$6)","v":0},{"$f":"COUNTIFS('지적사항 및 개선방안(종합)'!$C$3:$C$208,$C11,'지적사항 및 개선방안(종합)'!$G$3:$G$208,I$6)","v":0},{"$f":"COUNTIFS('지적사항 및 개선방안(종합)'!$C$3:$C$208,$C11,'지적사항 및 개선방안(종합)'!$G$3:$G$208,J$6)","v":0},{"$f":"COUNTIFS('지적사항 및 개선방안(종합)'!$C$3:$C$208,$C11,'지적사항 및 개선방안(종합)'!$G$3:$G$208,K$6)","v":0},1]
[12,null,"전기과",{"$f":"COUNTIFS('지적사항 및 개선방안(종합)'!$C$3:$C$208,$C12,'지적사항 및 개선방안(종합)'!$G$3:$G$208,D$6)","v":0},{"$f":"COUNTIFS('지적사항 및 개선방안(종합)'!$C$3:$C$208,$C12,'지적사항 및 개선방안(종합)'!$G$3:$G$208,E$6)","v":0},{"$f":"COUNTIFS('지적사항 및 개선방안(종합)'!$C$3:$C$208,$C12,'지적사항 및 개선방안(종합)'!$G$3:$G$208,F$6)","v":0},{"$f":"COUNTIFS('지적사항 및 개선방안(종합)'!$C$3:$C$208,$C12,'지적사항 및 개선방안(종합)'!$G$3:$G$208,G$6)","v":0},{"$f":"COUNTIFS('지적사항 및 개선방안(종합)'!$C$3:$C$208,$C12,'지적사항 및 개선방안(종합)'!$G$3:$G$208,H$6)","v":0},{"$f":"COUNTIFS('지적사항 및 개선방안(종합)'!$C$3:$C$208,$C12,'지적사항 및 개선방안(종합)'!$G$3:$G$208,I$6)","v":0},{"$f":"COUNTIFS('지적사항 및 개선방안(종합)'!$C$3:$C$208,$C12,'지적사항 및 개선방안(종합)'!$G$3:$G$208,J$6)","v":0},{"$f":"COUNTIFS('지적사항 및 개선방안(종합)'!$C$3:$C$208,$C12,'지적사항 및 개선방안(종합)'!$G$3:$G$208,K$6)","v":0},0]
[13,null,"전자과",{"$f":"COUNTIFS('지적사항 및 개선방안(종합)'!$C$3:$C$208,$C13,'지적사항 및 개선방안(종합)'!$G$3:$G$208,D$6)","v":0},{"$f":"COUNTIFS('지적사항 및 개선방안(종합)'!$C$3:$C$208,$C13,'지적사항 및 개선방안(종합)'!$G$3:$G$208,E$6)","v":1},{"$f":"COUNTIFS('지적사항 및 개선방안(종합)'!$C$3:$C$208,$C13,'지적사항 및 개선방안(종합)'!$G$3:$G$208,F$6)","v":4},{"$f":"COUNTIFS('지적사항 및 개선방안(종합)'!$C$3:$C$208,$C13,'지적사항 및 개선방안(종합)'!$G$3:$G$208,G$6)","v":3},{"$f":"COUNTIFS('지적사항 및 개선방안(종합)'!$C$3:$C$208,$C13,'지적사항 및 개선방안(종합)'!$G$3:$G$208,H$6)","v":1},{"$f":"COUNTIFS('지적사항 및 개선방안(종합)'!$C$3:$C$208,$C13,'지적사항 및 개선방안(종합)'!$G$3:$G$208,I$6)","v":0},{"$f":"COUNTIFS('지적사항 및 개선방안(종합)'!$C$3:$C$208,$C13,'지적사항 및 개선방안(종합)'!$G$3:$G$208,J$6)","v":1},{"$f":"COUNTIFS('지적사항 및 개선방안(종합)'!$C$3:$C$208,$C13,'지적사항 및 개선방안(종합)'!$G$3:$G$208,K$6)","v":0},10]
[14,null,"정보통신과",{"$f":"COUNTIFS('지적사항 및 개선방안(종합)'!$C$3:$C$208,$C14,'지적사항 및 개선방안(종합)'!$G$3:$G$208,D$6)","v":2},{"$f":"COUNTIFS('지적사항 및 개선방안(종합)'!$C$3:$C$208,$C14,'지적사항 및 개선방안(종합)'!$G$3:$G$208,E$6)","v":0},{"$f":"COUNTIFS('지적사항 및 개선방안(종합)'!$C$3:$C$208,$C14,'지적사항 및 개선방안(종합)'!$G$3:$G$208,F$6)","v":2},{"$f":"COUNTIFS('지적사항 및 개선방안(종합)'!$C$3:$C$208,$C14,'지적사항 및 개선방안(종합)'!$G$3:$G$208,G$6)","v":0},{"$f":"COUNTIFS('지적사항 및 개선방안(종합)'!$C$3:$C$208,$C14,'지적사항 및 개선방안(종합)'!$G$3:$G$208,H$6)","v":0},{"$f":"COUNTIFS('지적사항 및 개선방안(종합)'!$C$3:$C$208,$C14,'지적사항 및 개선방안(종합)'!$G$3:$G$208,I$6)","v":0},{"$f":"COUNTIFS('지적사항 및 개선방안(종합)'!$C$3:$C$208,$C14,'지적사항 및 개선방안(종합)'!$G$3:$G$208,J$6)","v":0},{"$f":"COUNTIFS('지적사항 및 개선방안(종합)'!$C$3:$C$208,$C14,'지적사항 및 개선방안(종합)'!$G$3:$G$208,K$6)","v":0},4]
[15,null,"지능로봇과",{"$f":"COUNTIFS('지적사항 및 개선방안(종합)'!$C$3:$C$208,$C15,'지적사항 및 개선방안(종합)'!$G$3:$G$208,D$6)","v":0},{"$f":"COUNTIFS('지적사항 및 개선방안(종합)'!$C$3:$C$208,$C15,'지적사항 및 개선방안(종합)'!$G$3:$G$208,E$6)","v":1},{"$f":"COUNTIFS('지적사항 및 개선방안(종합)'!$C$3:$C$208,$C15,'지적사항 및 개선방안(종합)'!$G$3:$G$208,F$6)","v":0},{"$f":"COUNTIFS('지적사항 및 개선방안(종합)'!$C$3:$C$208,$C15,'지적사항 및 개선방안(종합)'!$G$3:$G$208,G$6)","v":0},{"$f":"COUNTIFS('지적사항 및 개선방안(종합)'!$C$3:$C$208,$C15,'지적사항 및 개선방안(종합)'!$G$3:$G$208,H$6)","v":1},{"$f":"COUNTIFS('지적사항 및 개선방안(종합)'!$C$3:$C$208,$C15,'지적사항 및 개선방안(종합)'!$G$3:$G$208,I$6)","v":0},{"$f":"COUNTIFS('지적사항 및 개선방안(종합)'!$C$3:$C$208,$C15,'지적사항 및 개선방안(종합)'!$G$3:$G$208,J$6)","v":2},{"$f":"COUNTIFS('지적사항 및 개선방안(종합)'!$C$3:$C$208,$C15,'지적사항 및 개선방안(종합)'!$G$3:$G$208,K$6)","v":0},4]
[16,null,"토목과",{"$f":"COUNTIFS('지적사항 및 개선방안(종합)'!$C$3:$C$208,$C16,'지적사항 및 개선방안(종합)'!$G$3:$G$208,D$6)","v":4},{"$f":"COUNTIFS('지적사항 및 개선방안(종합)'!$C$3:$C$208,$C16,'지적사항 및 개선방안(종합)'!$G$3:$G$208,E$6)","v":0},{"$f":"COUNTIFS('지적사항 및 개선방안(종합)'!$C$3:$C$208,$C16,'지적사항 및 개선방안(종합)'!$G$3:$G$208,F$6)","v":1},{"$f":"COUNTIFS('지적사항 및 개선방안(종합)'!$C$3:$C$208,$C16,'지적사항 및 개선방안(종합)'!$G$3:$G$208,G$6)","v":0},{"$f":"COUNTIFS('지적사항 및 개선방안(종합)'!$C$3:$C$208,$C16,'지적사항 및 개선방안(종합)'!$G$3:$G$208,H$6)","v":0},{"$f":"COUNTIFS('지적사항 및 개선방안(종합)'!$C$3:$C$208,$C16,'지적사항 및 개선방안(종합)'!$G$3:$G$208,I$6)","v":0},{"$f":"COUNTIFS('지적사항 및 개선방안(종합)'!$C$3:$C$208,$C16,'지적사항 및 개선방안(종합)'!$G$3:$G$208,J$6)","v":0},{"$f":"COUNTIFS('지적사항 및 개선방안(종합)'!$C$3:$C$208,$C16,'지적사항 및 개선방안(종합)'!$G$3:$G$208,K$6)","v":0},5]
[17,null,"호텔외식조리과",{"$f":"COUNTIFS('지적사항 및 개선방안(종합)'!$C$3:$C$208,$C17,'지적사항 및 개선방안(종합)'!$G$3:$G$208,D$6)","v":0},{"$f":"COUNTIFS('지적사항 및 개선방안(종합)'!$C$3:$C$208,$C17,'지적사항 및 개선방안(종합)'!$G$3:$G$208,E$6)","v":0},{"$f":"COUNTIFS('지적사항 및 개선방안(종합)'!$C$3:$C$208,$C17,'지적사항 및 개선방안(종합)'!$G$3:$G$208,F$6)","v":4},{"$f":"COUNTIFS('지적사항 및 개선방안(종합)'!$C$3:$C$208,$C17,'지적사항 및 개선방안(종합)'!$G$3:$G$208,G$6)","v":1},{"$f":"COUNTIFS('지적사항 및 개선방안(종합)'!$C$3:$C$208,$C17,'지적사항 및 개선방안(종합)'!$G$3:$G$208,H$6)","v":0},{"$f":"COUNTIFS('지적사항 및 개선방안(종합)'!$C$3:$C$208,$C17,'지적사항 및 개선방안(종합)'!$G$3:$G$208,I$6)","v":0},{"$f":"COUNTIFS('지적사항 및 개선방안(종합)'!$C$3:$C$208,$C17,'지적사항 및 개선방안(종합)'!$G$3:$G$208,J$6)","v":0},{"$f":"COUNTIFS('지적사항 및 개선방안(종합)'!$C$3:$C$208,$C17,'지적사항 및 개선방안(종합)'!$G$3:$G$208,K$6)","v":0},5]
[18,null,"간호학과(소사)",{"$f":"COUNTIFS('지적사항 및 개선방안(종합)'!$C$3:$C$208,$C18,'지적사항 및 개선방안(종합)'!$G$3:$G$208,D$6)","v":0},{"$f":"COUNTIFS('지적사항 및 개선방안(종합)'!$C$3:$C$208,$C18,'지적사항 및 개선방안(종합)'!$G$3:$G$208,E$6)","v":0},{"$f":"COUNTIFS('지적사항 및 개선방안(종합)'!$C$3:$C$208,$C18,'지적사항 및 개선방안(종합)'!$G$3:$G$208,F$6)","v":2},{"$f":"COUNTIFS('지적사항 및 개선방안(종합)'!$C$3:$C$208,$C18,'지적사항 및 개선방안(종합)'!$G$3:$G$208,G$6)","v":0},{"$f":"COUNTIFS('지적사항 및 개선방안(종합)'!$C$3:$C$208,$C18,'지적사항 및 개선방안(종합)'!$G$3:$G$208,H$6)","v":0},{"$f":"COUNTIFS('지적사항 및 개선방안(종합)'!$C$3:$C$208,$C18,'지적사항 및 개선방안(종합)'!$G$3:$G$208,I$6)","v":0},{"$f":"COUNTIFS('지적사항 및 개선방안(종합)'!$C$3:$C$208,$C18,'지적사항 및 개선방안(종합)'!$G$3:$G$208,J$6)","v":0},{"$f":"COUNTIFS('지적사항 및 개선방안(종합)'!$C$3:$C$208,$C18,'지적사항 및 개선방안(종합)'!$G$3:$G$208,K$6)","v":2},4]
[19,null,"공용실(소사)",{"$f":"COUNTIFS('지적사항 및 개선방안(종합)'!$C$3:$C$208,$C19,'지적사항 및 개선방안(종합)'!$G$3:$G$208,D$6)","v":0},{"$f":"COUNTIFS('지적사항 및 개선방안(종합)'!$C$3:$C$208,$C19,'지적사항 및 개선방안(종합)'!$G$3:$G$208,E$6)","v":0},{"$f":"COUNTIFS('지적사항 및 개선방안(종합)'!$C$3:$C$208,$C19,'지적사항 및 개선방안(종합)'!$G$3:$G$208,F$6)","v":0},{"$f":"COUNTIFS('지적사항 및 개선방안(종합)'!$C$3:$C$208,$C19,'지적사항 및 개선방안(종합)'!$G$3:$G$208,G$6)","v":0},{"$f":"COUNTIFS('지적사항 및 개선방안(종합)'!$C$3:$C$208,$C19,'지적사항 및 개선방안(종합)'!$G$3:$G$208,H$6)","v":0},{"$f":"COUNTIFS('지적사항 및 개선방안(종합)'!$C$3:$C$208,$C19,'지적사항 및 개선방안(종합)'!$G$3:$G$208,I$6)","v":0},{"$f":"COUNTIFS('지적사항 및 개선방안(종합)'!$C$3:$C$208,$C19,'지적사항 및 개선방안(종합)'!$G$3:$G$208,J$6)","v":0},{"$f":"COUNTIFS('지적사항 및 개선방안(종합)'!$C$3:$C$208,$C19,'지적사항 및 개선방안(종합)'!$G$3:$G$208,K$6)","v":0},0]
["계",null,null,{"$f":"SUM(D7:D19)","v":10},{"$f":"SUM(E7:E19)","v":7},15,10,6,0,3,2,53]
["백분율",null,null,{"$f":"D20/L20","v":0.18867924528301888},{"$f":"E20/L20","v":0.13207547169811321},{"$f":"F20/L20","v":0.28301886792452829},{"$f":"G20/L20","v":0.18867924528301888},{"$f":"H20/L20","v":0.11320754716981132},{"$f":"I20/L20","v":0},{"$f":"J20/L20","v":5.6603773584905662E-2},{"$f":"K20/L20","v":3.7735849056603772E-2},{"$f":"SUM(D21:K21)","v":1}]
[2,"예체능","디지털미디어디자인과",{"$f":"COUNTIFS('지적사항 및 개선방안(종합)'!$C$3:$C$208,$C22,'지적사항 및 개선방안(종합)'!$G$3:$G$208,D$6)","v":2},{"$f":"COUNTIFS('지적사항 및 개선방안(종합)'!$C$3:$C$208,$C22,'지적사항 및 개선방안(종합)'!$G$3:$G$208,E$6)","v":3},{"$f":"COUNTIFS('지적사항 및 개선방안(종합)'!$C$3:$C$208,$C22,'지적사항 및 개선방안(종합)'!$G$3:$G$208,F$6)","v":0},{"$f":"COUNTIFS('지적사항 및 개선방안(종합)'!$C$3:$C$208,$C22,'지적사항 및 개선방안(종합)'!$G$3:$G$208,G$6)","v":0},{"$f":"COUNTIFS('지적사항 및 개선방안(종합)'!$C$3:$C$208,$C22,'지적사항 및 개선방안(종합)'!$G$3:$G$208,H$6)","v":0},{"$f":"COUNTIFS('지적사항 및 개선방안(종합)'!$C$3:$C$208,$C22,'지적사항 및 개선방안(종합)'!$G$3:$G$208,I$6)","v":0},{"$f":"COUNTIFS('지적사항 및 개선방안(종합)'!$C$3:$C$208,$C22,'지적사항 및 개선방안(종합)'!$G$3:$G$208,J$6)","v":2},{"$f":"COUNTIFS('지적사항 및 개선방안(종합)'!$C$3:$C$208,$C22,'지적사항 및 개선방안(종합)'!$G$3:$G$208,K$6)","v":0},7]
[3,null,"뷰티융합비즈니스과",{"$f":"COUNTIFS('지적사항 및 개선방안(종합)'!$C$3:$C$208,$C23,'지적사항 및 개선방안(종합)'!$G$3:$G$208,D$6)","v":0},{"$f":"COUNTIFS('지적사항 및 개선방안(종합)'!$C$3:$C$208,$C23,'지적사항 및 개선방안(종합)'!$G$3:$G$208,E$6)","v":0},{"$f":"COUNTIFS('지적사항 및 개선방안(종합)'!$C$3:$C$208,$C23,'지적사항 및 개선방안(종합)'!$G$3:$G$208,F$6)","v":0},{"$f":"COUNTIFS('지적사항 및 개선방안(종합)'!$C$3:$C$208,$C23,'지적사항 및 개선방안(종합)'!$G$3:$G$208,G$6)","v":0},{"$f":"COUNTIFS('지적사항 및 개선방안(종합)'!$C$3:$C$208,$C23,'지적사항 및 개선방안(종합)'!$G$3:$G$208,H$6)","v":0},{"$f":"COUNTIFS('지적사항 및 개선방안(종합)'!$C$3:$C$208,$C23,'지적사항 및 개선방안(종합)'!$G$3:$G$208,I$6)","v":0},{"$f":"COUNTIFS('지적사항 및 개선방안(종합)'!$C$3:$C$208,$C23,'지적사항 및 개선방안(종합)'!$G$3:$G$208,J$6)","v":0},{"$f":"COUNTIFS('지적사항 및 개선방안(종합)'!$C$3:$C$208,$C23,'지적사항 및 개선방안(종합)'!$G$3:$G$208,K$6)","v":0},0]
[4,null,"뷰티케어과(뷰티전공)",{"$f":"COUNTIFS('지적사항 및 개선방안(종합)'!$C$3:$C$208,$C24,'지적사항 및 개선방안(종합)'!$G$3:$G$208,D$6)","v":0},{"$f":"COUNTIFS('지적사항 및 개선방안(종합)'!$C$3:$C$208,$C24,'지적사항 및 개선방안(종합)'!$G$3:$G$208,E$6)","v":0},{"$f":"COUNTIFS('지적사항 및 개선방안(종합)'!$C$3:$C$208,$C24,'지적사항 및 개선방안(종합)'!$G$3:$G$208,F$6)","v":0},{"$f":"COUNTIFS('지적사항 및 개선방안(종합)'!$C$3:$C$208,$C24,'지적사항 및 개선방안(종합)'!$G$3:$G$208,G$6)","v":0},{"$f":"COUNTIFS('지적사항 및 개선방안(종합)'!$C$3:$C$208,$C24,'지적사항 및 개선방안(종합)'!$G$3:$G$208,H$6)","v":0},{"$f":"COUNTIFS('지적사항 및 개선방안(종합)'!$C$3:$C$208,$C24,'지적사항 및 개선방안(종합)'!$G$3:$G$208,I$6)","v":0},{"$f":"COUNTIFS('지적사항 및 개선방안(종합)'!$C$3:$C$208,$C24,'지적사항 및 개선방안(종합)'!$G$3:$G$208,J$6)","v":0},{"$f":"COUNTIFS('지적사항 및 개선방안(종합)'!$C$3:$C$208,$C24,'지적사항 및 개선방안(종합)'!$G$3:$G$208,K$6)","v":0},0]
[5,null,"뷰티케어과(헤어전공)",{"$f":"COUNTIFS('지적사항 및 개선방안(종합)'!$C$3:$C$208,$C25,'지적사항 및 개선방안(종합)'!$G$3:$G$208,D$6)","v":0},{"$f":"COUNTIFS('지적사항 및 개선방안(종합)'!$C$3:$C$208,$C25,'지적사항 및 개선방안(종합)'!$G$3:$G$208,E$6)","v":0},{"$f":"COUNTIFS('지적사항 및 개선방안(종합)'!$C$3:$C$208,$C25,'지적사항 및 개선방안(종합)'!$G$3:$G$208,F$6)","v":0},{"$f":"COUNTIFS('지적사항 및 개선방안(종합)'!$C$3:$C$208,$C25,'지적사항 및 개선방안(종합)'!$G$3:$G$208,G$6)","v":0},{"$f":"COUNTIFS('지적사항 및 개선방안(종합)'!$C$3:$C$208,$C25,'지적사항 및 개선방안(종합)'!$G$3:$G$208,H$6)","v":0},{"$f":"COUNTIFS('지적사항 및 개선방안(종합)'!$C$3:$C$208,$C25,'지적사항 및 개선방안(종합)'!$G$3:$G$208,I$6)","v":0},{"$f":"COUNTIFS('지적사항 및 개선방안(종합)'!$C$3:$C$208,$C25,'지적사항 및 개선방안(종합)'!$G$3:$G$208,J$6)","v":0},{"$f":"COUNTIFS('지적사항 및 개선방안(종합)'!$C$3:$C$208,$C25,'지적사항 및 개선방안(종합)'!$G$3:$G$208,K$6)","v":0},0]
[9,null,"실내건축디자인과",{"$f":"COUNTIFS('지적사항 및 개선방안(종합)'!$C$3:$C$208,$C26,'지적사항 및 개선방안(종합)'!$G$3:$G$208,D$6)","v":7},{"$f":"COUNTIFS('지적사항 및 개선방안(종합)'!$C$3:$C$208,$C26,'지적사항 및 개선방안(종합)'!$G$3:$G$208,E$6)","v":5},{"$f":"COUNTIFS('지적사항 및 개선방안(종합)'!$C$3:$C$208,$C26,'지적사항 및 개선방안(종합)'!$G$3:$G$208,F$6)","v":1},{"$f":"COUNTIFS('지적사항 및 개선방안(종합)'!$C$3:$C$208,$C26,'지적사항 및 개선방안(종합)'!$G$3:$G$208,G$6)","v":4},{"$f":"COUNTIFS('지적사항 및 개선방안(종합)'!$C$3:$C$208,$C26,'지적사항 및 개선방안(종합)'!$G$3:$G$208,H$6)","v":2},{"$f":"COUNTIFS('지적사항 및 개선방안(종합)'!$C$3:$C$208,$C26,'지적사항 및 개선방안(종합)'!$G$3:$G$208,I$6)","v":0},{"$f":"COUNTIFS('지적사항 및 개선방안(종합)'!$C$3:$C$208,$C26,'지적사항 및 개선방안(종합)'!$G$3:$G$208,J$6)","v":4},{"$f":"COUNTIFS('지적사항 및 개선방안(종합)'!$C$3:$C$208,$C26,'지적사항 및 개선방안(종합)'!$G$3:$G$208,K$6)","v":0},23]
[11,null,"재활스포츠과",{"$f":"COUNTIFS('지적사항 및 개선방안(종합)'!$C$3:$C$208,$C27,'지적사항 및 개선방안(종합)'!$G$3:$G$208,D$6)","v":0},{"$f":"COUNTIFS('지적사항 및 개선방안(종합)'!$C$3:$C$208,$C27,'지적사항 및 개선방안(종합)'!$G$3:$G$208,E$6)","v":0},{"$f":"COUNTIFS('지적사항 및 개선방안(종합)'!$C$3:$C$208,$C27,'지적사항 및 개선방안(종합)'!$G$3:$G$208,F$6)","v":1},{"$f":"COUNTIFS('지적사항 및 개선방안(종합)'!$C$3:$C$208,$C27,'지적사항 및 개선방안(종합)'!$G$3:$G$208,G$6)","v":0},{"$f":"COUNTIFS('지적사항 및 개선방안(종합)'!$C$3:$C$208,$C27,'지적사항 및 개선방안(종합)'!$G$3:$G$208,H$6)","v":0},{"$f":"COUNTIFS('지적사항 및 개선방안(종합)'!$C$3:$C$208,$C27,'지적사항 및 개선방안(종합)'!$G$3:$G$208,I$6)","v":0},{"$f":"COUNTIFS('지적사항 및 개선방안(종합)'!$C$3:$C$208,$C27,'지적사항 및 개선방안(종합)'!$G$3:$G$208,J$6)","v":0},{"$f":"COUNTIFS('지적사항 및 개선방안(종합)'!$C$3:$C$208,$C27,'지적사항 및 개선방안(종합)'!$G$3:$G$208,K$6)","v":0},1]
["계",null,null,{"$f":"SUM(D22:D27)","v":9},{"$f":"SUM(E22:E27)","v":8},2,4,2,0,6,0,31]
["백분율",null,null,{"$f":"D28/L28","v":0.29032258064516131},{"$f":"E28/L28","v":0.25806451612903225},{"$f":"F28/L28","v":6.4516129032258063E-2},{"$f":"G28/L28","v":0.12903225806451613},{"$f":"H28/L28","v":6.4516129032258063E-2},{"$f":"I28/L28","v":0},{"$f":"J28/L28","v":0.19354838709677419},{"$f":"K28/L28","v":0},{"$f":"SUM(D29:K29)","v":1}]
[null,null,0,0,0,0,0,0,0]
["계",null,null,{"$f":"SUM(D20+D28)","v":19},{"$f":"SUM(E20+E28)","v":15},17,14,8,0,9,{"$f":"SUM(K20+K28)","v":2},84]
["백분율",null,null,{"$f":"D31/$L31","v":0.22619047619047619},{"$f":"E31/$L31","v":0.17857142857142858},0.20238095238095238,0.16666666666666666,9.5238095238095233E-2,0,0.10714285714285714,2.3809523809523808E-2,1]

{"sheet":"지적사항 및 개선방안(종합)","index":3,"n_rows":175,"n_cols":10,"rows_kept":175,"cut":false,"hidden":false,"merged":[[0,0,0,9]]}
["2019년 부천대학교 연구실 정기안전점검 점검사항 및 개선방안"]
["NO.","구분","학과명","연구실명","건물명","호실","점검분야","점검사항","개선방안","비고"]
["86","공학,자연과학","건축과","환경연구실","공학관","AB107"]
["87","공학,자연과학","건축과","컴퓨터그래픽실","공학관","A0403","소방안전","소화기 위치 표식 미부착","소화기 위치표식 부착 및 눈에 잘 띄는 위치에 비치"]
["88","공학,자연과학","건축과","프레젠테이션실","공학관","A0404"]
["89","공학,자연과학","건축과","첨단강의실1","공학관","A0502","소방안전","소화기 미비치","소화기는 눈에 잘 띄는 위치에 비치 및 표식 부착 필요"]
["90","공학,자연과학","건축과","첨단강의실2","공학관","A0503"]
["91","공학,자연과학","건축과","첨단강의실3","공학관","A0507","소방안전","소화기 미비치","소화기는 눈에 잘 띄는 위치에 비치 및 표식 부착 필요"]
["92","공학,자연과학","건축과","설계STUDIO-A","공학관","A0508","소방안전","소화기 위치 표식 미부착","소화기 위치표식 부착 및 눈에 잘 띄는 위치에 비치"]
["93","공학,자연과학","건축과","설계STUDIO-B","공학관","A0509"]
["94","공학,자연과학","건축과","모형제작실","공학관","A0602","일반안전","실험 기자재와 실험재료의 이상 유무와 보호장비의 관리 실태에 대한 일상점검 미실시","각 연구실별 상황에 맞는 일상점검 체크리스트 작성 후 그 결과를 기록·유지 관리"]
["94","공학,자연과학","건축과","모형제작실","공학관","A0602","일반안전","누수, 습기 발생, 먼지, 곰팡이 등 발생하여 연구 환경 저해","지속적인 환기 및 청결한 청소 상태 유지 필요"]
["95","공학,자연과학","건축과","건축CAD실","예지관","C0106"]
["37","공학,자연과학","섬유패션비지니스과","섬유패션CAD실","한길관","E0401"]
["38","공학,자연과학","섬유패션비지니스과","가발공정실","한길관","E0403"]
["39","공학,자연과학","섬유패션비지니스과","섬유패션실습실(Ⅱ)","한길관","E0406","소방안전","소화기 미비치","소화기는 눈에 잘 띄는 위치에 비치 및 표식 부착 필요"]
["40","공학,자연과학","섬유패션비지니스과","섬유패션실습실(Ⅲ)","한길관","E0409","소방안전","소화기 미비치","소화기는 눈에 잘 띄는 위치에 비치 및 표식 부착 필요"]
["41","공학,자연과학","섬유패션비지니스과","실습재료실","한길관","E0101","산업위생","보유시약에 대한 GHS안전보건표지 미부착 및 부착미흡","보유시약에 대한 GHS안전보건표지를 시약장에 부착"]
["42","공학,자연과학","섬유패션비지니스과","섬유패션실습실(Ⅰ)","한길관","E0102","화공안전","라벨링이 안되어 있어 시료, 폐액, 시약인지 확인 불가능함 ","라벨링을 하여 미연에 사고를 방지하기 바람(증류수일 경우에도 라벨링 기입을 권장함)"]
["42","공학,자연과학","섬유패션비지니스과","섬유패션실습실(Ⅰ)","한길관","E0102","화공안전","시약특성별 보관위치 미흡","유해인자 취급기준에 적합하게 관리하여야 하고 성상별로 구분하여 적합한 성능을 갖춘 전용 시약장에 보관하여야 함(부식물질보관장 필요)"]
["43","공학,자연과학","섬유패션비지니스과","NCS편직실습실","한길관","E0428"]
["44","공학,자연과학","섬유패션비지니스과","섬유패션 전자상거래실","한길관","E0230"]
["45","공학,자연과학","섬유패션비지니스과","컴퓨터니트실험실","한길관","EB105"]
["128","공학,자연과학","시험인증융합과(계약학과)","3실습실","꿈집","B0904","일반안전","실험 기자재와 실험재료의 이상 유무와 보호장비의 관리 실태에 대한 일상점검 미실시","각 연구실별 상황에 맞는 일상점검 체크리스트 작성 후 그 결과를 기록·유지 관리"]
["128","공학,자연과학","시험인증융합과(계약학과)","3실습실","꿈집","B0904","일반안전","안전관리규정, 비상연락망, 안전수칙 연구실 내 미비치","연구실내 게시 또는 비치"]
["128","공학,자연과학","시험인증융합과(계약학과)","3실습실","꿈집","B0904","전기안전","비접지형 멀티탭·콘센트 사용","접지형 콘센트·멀티탭 교체 사용"]
["61","공학,자연과학","식품영양과","종합실험실","예지관","C0101","산업위생","보유시약에 대한 GHS안전보건표지 미부착 및 부착미흡","보유시약에 대한 GHS안전보건표지를 시약장에 부착"]
["61","공학,자연과학","식품영양과","종합실험실","예지관","C0101","산업위생","연구실내에 구급함이 비치되어 있으나 구급약품의 사용기간이 지남","사용기간이 지난 구급약품은 교체하여 비치"]
["61","공학,자연과학","식품영양과","종합실험실","예지관","C0101","산업위생","농축기기에 대한 암후드 미설치","암후드 설치 및 환기설비 개선"]
["61","공학,자연과학","식품영양과","종합실험실","예지관","C0101","화공안전","시약장내 유해인자를 장기간 사용하지 않고 보관","오염약품이나 사용기한 초과약품은 다른 시약과의 반응 및 오염의 우려가 있으므로 조속히 폐기처리 해야 함"]
["61","공학,자연과학","식품영양과","종합실험실","예지관","C0101","화공안전","화학약품 성상별 구분 없이 보관","유해인자는 부식성,가연성,폭발성,독성,산,유기용제,알칼리 등 성상별로 구분하여 적합한 성능을 갖춘 전용 시약장에 보관하도록 함"]
["62","공학,자연과학","식품영양과","실험준비실","예지관","C0102","산업위생","실험기기에 대한 안전보건표지(금지, 경고, 안내표지 등) 미부착","연구활동종사자의 경각심 고취 및 안전사고 예방을 위하여 안전보건표지 부착"]
["63","공학,자연과학","식품영양과","기구실","예지관","C0103"]
["64","공학,자연과학","식품영양과","종합실습실","예지관","C0306"]
["65","공학,자연과학","식품영양과","조리과학실","예지관","C0307"]
["66","공학,자연과학","식품영양과","조리실습실","예지관","C0308"]
["67","공학,자연과학","식품영양과","서양조리실습실","예지관","C0408"]
["68","공학,자연과학","식품영양과","관능평가실","예지관","C0509"]
["15","공학,자연과학","영상&게임콘텐츠과","3D VISUAL실","한길관","E0416"]
["16","공학,자연과학","영상&게임콘텐츠과","컴퓨터실","한길관","E0419"]
["17","공학,자연과학","영상&게임콘텐츠과","3D STATION실","한길관","E0438","전기안전","분전반 각 회로별 명판 미부착","점검 또는 사고 발생 시 신속한 확인 및 조치가 가능하도록 분전반 각 회로별 명판을 부착"]
["18","공학,자연과학","전기과","전기공사실습실","한길관","E0323"]
["19","공학,자연과학","전기과","시퀀스제어실습실","한길관","E0338"]
["20","공학,자연과학","전기과","전기CAD실","한길관","E0422"]
["21","공학,자연과학","전기과","전기실습실","한길관","E0432"]
["22","공학,자연과학","전자과","Project실습실","한길관","E0201","산업위생","납땜 작업 시 납연기 제거기 미설치로 연구활동종사자가 유해물질에 직접적으로 노출되고 있음","납땜 작업을 실시 할 때에는 납연기 제거기를 설치하고 개인보호구 착용하여야 함"]
["22","공학,자연과학","전자과","Project실습실","한길관","E0201","전기안전","연구실 내 개인전열기 보유","연구실 내 개인전열기 사용 금지"]
["22","공학,자연과학","전자과","Project실습실","한길관","E0201","소방안전","소화기 위치 표식 미부착","소화기 위치표식 부착 및 눈에 잘 띄는 위치에 비치"]
["22","공학,자연과학","전자과","Project실습실","한길관","E0201","화공안전","물질안전보건자료(MSDS) 미흡 : 납선, 솔더링 페이스트 등","물질안전보건자료의 내용을 납선, 솔더링 페이스트 등도 포함하여 보관중인 주변이나 눈에 잘 띄는 장소에 게시하거나 그 밖에 고용노동부장관이 정하여 고시한 바에 따라 제공하여야 함"]
["23","공학,자연과학","전자과","컴퓨터실습실","한길관","E0203","소방안전","소화기 위치 표식 미부착","소화기 위치표식 부착 및 눈에 잘 띄는 위치에 비치"]
["24","공학,자연과학","전자과","디지털공학실험실","한길관","E0207"]
["25","공학,자연과학","전자과","반도체공정장비실1","한길관","E0212","소방안전","안전사고 위험이 있는 노후소화기 비치","10년이 지난 노후소화기는 교체하여 비치"]
["26","공학,자연과학","전자과","반도체공정장비실2","한길관","E0213","전기안전","연구실 내 개인전열기 보유","연구실 내 개인전열기 사용 금지"]
["27","공학,자연과학","전자과","전자공학실험실","한길관","E0216"]
["28","공학,자연과학","전자과","자동화시스템실험실","한길관","E0236","전기안전","비접지 실험장비, 기계사용 (확인방법 ☞ 접지선 접속상태, 접지선 탈락, 접지선 접촉 불량, 접지선 단선 여부, 접지저항 기준 미달, 접지선 미시공)","접지상태 확인 후 접지시설 보완"]
["28","공학,자연과학","전자과","자동화시스템실험실","한길관","E0236","기계안전","유해・위험기계 안전검사 미실시","유해・위험기계는 설치가 끝난 날부터 3년 이내에 최초 안전검사를 실시하되, 그 이후부터 2년마다 주기적으로 안전검사를 실시"]
["29","공학,자연과학","전자과","전자응용실험실","한길관","E0316","전기안전","연구실 내 개인전열기 보유","연구실 내 개인전열기 사용 금지"]
["30","공학,자연과학","전자과","전자제어실험실","한길관","E0320"]
["31","공학,자연과학","전자과","반도체요소기술실험실","한길관","E0317"]
["117","공학,자연과학","정보통신과","컴퓨터2실","꿈집","B1001"]
["118","공학,자연과학","정보통신과","컴퓨터1실","꿈집","B1004"]
["119","공학,자연과학","정보통신과","응용소프트웨어실","꿈집","B1005","일반안전","연구실내 음주 행위 금지","연구실 내 주류 반입 금지"]
["120","공학,자연과학","정보통신과","응용전자실험실","꿈집","B1008"]
["121","공학,자연과학","정보통신과","네트워크실","꿈집","B1102","전기안전","분전반 각 회로별 명판 미부착","점검 또는 사고 발생 시 신속한 확인 및 조치가 가능하도록 분전반 각 회로별 명판을 부착"]
["122","공학,자연과학","정보통신과","아날로그실습실","꿈집","B1108"]
["123","공학,자연과학","정보통신과","WEBMASTER실","꿈집","B1204"]
["124","공학,자연과학","정보통신과","정보통신실습실","꿈집","B1215","일반안전","실험 기자재와 실험재료의 이상 유무와 보호장비의 관리 실태에 대한 일상점검 미실시","각 연구실별 상황에 맞는 일상점검 체크리스트 작성 후 그 결과를 기록·유지 관리"]
["125","공학,자연과학","정보통신과","디지털통신실험실","꿈집","B1304"]
["126","공학,자연과학","정보통신과","e-교실","꿈집","B1305-1"]
["127","공학,자연과학","정보통신과","캡스톤디자인Ⅲ","꿈집","B1305","전기안전","분전반 각 회로별 명판 미부착","점검 또는 사고 발생 시 신속한 확인 및 조치가 가능하도록 분전반 각 회로별 명판을 부착"]
["32","공학,자연과학","지능로봇과","전동기제어실습실","한길관","E0218"]
["33","공학,자연과학","지능로봇과","제1컴퓨터실습실","한길관","E0222"]
["34","공학,자연과학","지능로봇과","기초전자실험실","한길관","E0228","산업위생","납땜 작업 시 납연기 제거기 미설치로 연구활동종사자가 유해물질에 직접적으로 노출되고 있음","납땜 작업을 실시 할 때에는 납연기 제거기를 설치하고 개인보호구 착용하여야 함"]
["34","공학,자연과학","지능로봇과","기초전자실험실","한길관","E0228","화공안전","물질안전보건자료(MSDS) 미흡 : 납선, 솔더링 페이스트 등","물질안전보건자료의 내용을 납선, 솔더링 페이스트 등도 포함하여 보관중인 주변이나 눈에 잘 띄는 장소에 게시하거나 그 밖에 고용노동부장관이 정하여 고시한 바에 따라 제공하여야 함"]
["34","공학,자연과학","지능로봇과","기초전자실험실","한길관","E0228","기계안전","공작기계 드릴머신은 드릴작업 및 칩 제거 작업 시 회전하는 드릴 날에 작업자의 장갑, 소매 등 말림 위험과 안면부(눈 등) 및 팔 등에 칩비산에 의한 상해 우려가 있음","실습자의 안전을 위해서 드릴머신 칩비산 부위에 탁상용 드릴 날에 180° 열림이 가능한 투명 원통형 방호덮개 설치"]
["34","공학,자연과학","지능로봇과","기초전자실험실","한길관","E0228","기계안전","위험기계 안전수칙 미게시","안전수칙을 판넬로 제작하여 실습장 내에 게시하고 작업 시작 전 숙지하게 한 후 작업에 임할 수 있게 조치"]
["35","공학,자연과학","지능로봇과","로봇공학실","한길관","E0301"]
["36","공학,자연과학","지능로봇과","시퀸스실습실","한길관","E0343"]
["78","공학,자연과학","토목과","토질실험실","공학관","A0101"]
["79","공학,자연과학","토목과","토질실험준비실","공학관","A0102"]
["80","공학,자연과학","토목과","환경실험실","공학관","A0201"]
["81","공학,자연과학","토목과","측량실","공학관","A0205"]
["82","공학,자연과학","토목과","CAD실","공학관","A0309","일반안전","실험 기자재와 실험재료의 이상 유무와 보호장비의 관리 실태에 대한 일상점검 미실시","각 연구실별 상황에 맞는 일상점검 체크리스트 작성 후 그 결과를 기록·유지 관리"]
["83","공학,자연과학","토목과","전산구조설계실","공학관","A0310","일반안전","실험 기자재와 실험재료의 이상 유무와 보호장비의 관리 실태에 대한 일상점검 미실시","각 연구실별 상황에 맞는 일상점검 체크리스트 작성 후 그 결과를 기록·유지 관리"]
["83","공학,자연과학","토목과","전산구조설계실","공학관","A0310","일반안전","안전관리규정, 비상연락망, 안전수칙 연구실 내 미비치","연구실내 게시 또는 비치"]
["83","공학,자연과학","토목과","전산구조설계실","공학관","A0310","일반안전","사고발생 대응절차 미수립","연구실현황에 맞는 사고발생에 따른 대응절차를 수립하도록 함"]
["84","공학,자연과학","토목과","구조재료실험실","공학관","AB101"]
["85","공학,자연과학","토목과","수리실험실","공학관","AB102","전기안전","연구실 내 개인전열기 보유","연구실 내 개인전열기 사용 금지"]
["69","공학,자연과학","호텔외식조리과","한식조리실","예지관","C0201","전기안전","연구실 내 개인전열기 보유","연구실 내 개인전열기 사용 금지"]
["69","공학,자연과학","호텔외식조리과","한식조리실","예지관","C0201","전기안전","분전반 전면 기구 비치로 개폐 미흡","화재 및 위험상황시 전원을 차단하기 어려움으로 분전반 점검 가능하도록 주변 정리 "]
["70","공학,자연과학","호텔외식조리과","제과제빵실","예지관","C0203","소방안전","소화기 위치 표식 미부착","소화기 위치표식 부착 및 눈에 잘 띄는 위치에 비치"]
["71","공학,자연과학","호텔외식조리과","식음료 및 식공간 연출","예지관","C0205"]
["72","공학,자연과학","호텔외식조리과","양식조리실","예지관","C0301"]
["73","공학,자연과학","호텔외식조리과","푸드스튜디오","예지관","C0401","전기안전","연구실 내 개인전열기 보유","연구실 내 개인전열기 사용 금지"]
["74","공학,자연과학","호텔외식조리과","메뉴 개발실1","예지관","C0501","전기안전","연구실 내 개인전열기 보유","연구실 내 개인전열기 사용 금지"]
["75","공학,자연과학","호텔외식조리과","메뉴 개발실2","예지관","C0502"]
["76","공학,자연과학","호텔외식조리과","NCS-Multipurpose Kitchen","한길관","EB135"]
["77","공학,자연과학","호텔외식조리과","NCS-BakingScience&Art Room","한길관","EB135-1"]
["1","공학,자연과학","간호학과(소사)","건강사정실습실","공학강의동","K0605"]
["2","공학,자연과학","간호학과(소사)","시뮬레이션센터","공학강의동","K0614-K0617"]
["3","공학,자연과학","간호학과(소사)","기초간호과학실습실","공학강의동","K0606"]
["4","공학,자연과학","간호학과(소사)","기본간호학실습실","공학강의동","K0602","전기안전","연구실 내 개인전열기 보유","연구실 내 개인전열기 사용 금지"]
["4","공학,자연과학","간호학과(소사)","기본간호학실습실","공학강의동","K0602","생물안전","의료폐기물 보관기간 초과","의료폐기물은 최초 사용일로부터 15일을 초과하여 보관해서는 안 됨(손상성 폐기물 30일)"]
["5","공학,자연과학","간호학과(소사)","자율실습실","공학강의동","K0601","전기안전","케이블 정리 상태 미흡 및 통행이동 중 전도위험","케이블타이 및 안전덮개를 이용하여 전선 관리 및 전선 피복 손상되지 않도록 함"]
["5","공학,자연과학","간호학과(소사)","자율실습실","공학강의동","K0601","생물안전","의료폐기물 사용개시일 미기재","의료폐기물은 최초 사용일로부터 15일을 초과하여 보관해서는 안 됨(손상성 폐기물 30일)"]
["6","공학,자연과학","공용실(소사)","제1컴퓨터실","공학강의동","K0401"]
["7","공학,자연과학","공용실(소사)","제2컴퓨터실","공학강의동","K0402"]
["8","공학,자연과학","공용실(소사)","제3컴퓨터실","공학강의동","K0404"]
["9","공학,자연과학","공용실(소사)","제4컴퓨터실","공학강의동","K0405"]
["10","공학,자연과학","공용실(소사)","제5컴퓨터실","공학강의동","K0406"]
["11","공학,자연과학","공용실(소사)","제6컴퓨터실","공학강의동","K0407"]
["12","공학,자연과학","공용실(소사)","제7컴퓨터실","공학강의동","K0501"]
["13","공학,자연과학","공용실(소사)","제8컴퓨터실","공학강의동","K0524"]
["14","공학,자연과학","공용실(소사)","제9컴퓨터실","공학강의동","K0701"]
["46","예체능","디지털미디어디자인과","디자인실습실6","한길관","E0515"]
["47","예체능","디지털미디어디자인과","컴퓨터교육실3","한길관","E0510"]
["48","예체능","디지털미디어디자인과","컴퓨터교육실2","한길관","E0517"]
["49","예체능","디지털미디어디자인과","컴퓨터교육실1","한길관","E0520"]
["50","예체능","디지털미디어디자인과","팀 세미나실","한길관","E0511"]
["51","예체능","디지털미디어디자인과","운송기기 크레이 모델링실","한길관","EB1","산업위생","연구실내에 구급함이 비치되어 있으나 구급약품의 사용기간이 지남","사용기간이 지난 구급약품은 교체하여 비치"]
["51","예체능","디지털미디어디자인과","운송기기 크레이 모델링실","한길관","EB1","산업위생","보호구 관리 미흡","보호구는 2차오염이 없는 곳에 보관하여 사용할 수 있도록 하며, 보호구함 보관 시 보호구 수량 및 종류를 기입하여 관리 하도록 권장"]
["52","예체능","디지털미디어디자인과","운송기기 크레이 모델링 준비실","한길관","EB131","산업위생","보호구 관리 미흡","보호구는 2차오염이 없는 곳에 보관하여 사용할 수 있도록 하며, 보호구함 보관 시 보호구 수량 및 종류를 기입하여 관리 하도록 권장"]
["52","예체능","디지털미디어디자인과","운송기기 크레이 모델링 준비실","한길관","EB131","기계안전","연삭기 칩비산방지판 미부착","작업 시 칩 비산에 의한 재해예방을 위하여 적정 강도의 비산 방지판을 설치"]
["52","예체능","디지털미디어디자인과","운송기기 크레이 모델링 준비실","한길관","EB131","기계안전","위험기계 안전수칙 미게시","안전수칙을 판넬로 제작하여 실습장 내에 게시하고 작업 시작 전 숙지하게 한 후 작업에 임할 수 있게 조치"]
["53","예체능","디지털미디어디자인과","컴퓨터교육실4","한길관","E0523"]
["54","예체능","디지털미디어디자인과","3D프린트가공실","한길관","E0550"]
["55","예체능","디지털미디어디자인과","디자인실습실4","한길관","E0502"]
["56","예체능","디지털미디어디자인과","디자인실습실5","한길관","E0504"]
["57","예체능","디지털미디어디자인과","디자인실습실3","한길관","E0539","일반안전","안전관리규정, 비상연락망, 안전수칙 연구실 내 미비치","연구실내 게시 또는 비치"]
["57","예체능","디지털미디어디자인과","디자인실습실3","한길관","E0539","일반안전","사고발생 대응절차 미수립","연구실현황에 맞는 사고발생에 따른 대응절차를 수립하도록 함"]
["58","예체능","디지털미디어디자인과","디자인실습실2","한길관","E0536"]
["59","예체능","디지털미디어디자인과","디자인실습실1","한길관","E0533"]
["60","예체능","디지털미디어디자인과","4학년 전공연구실","한길관","E0530"]
["133","예체능","뷰티융합비즈니스과","뷰티융합비즈니스 훈련센터","밀레니엄관","H0105"]
["134","예체능","뷰티케어과(뷰티전공)","스킨케어실","밀레니엄관","H0401"]
["135","예체능","뷰티케어과(뷰티전공)","네일아트실","밀레니엄관","H0405"]
["136","예체능","뷰티케어과(헤어전공)","메이크업아트실","밀레니엄관","H0406"]
["137","예체능","뷰티케어과(헤어전공)","헤어디자인실","밀레니엄관","H0407"]
["96","예체능","실내건축디자인과","컴퓨터프레젠테이션실","공학관","A0107","일반안전","안전관리규정, 비상연락망, 안전수칙 연구실 내 미비치","연구실내 게시 또는 비치"]
["97","예체능","실내건축디자인과","전공스튜디오실","공학관","A0301"]
["98","예체능","실내건축디자인과","컴퓨터그래픽실","공학관","A0302","일반안전","실험 기자재와 실험재료의 이상 유무와 보호장비의 관리 실태에 대한 일상점검 미실시","각 연구실별 상황에 맞는 일상점검 체크리스트 작성 후 그 결과를 기록·유지 관리"]
["99","예체능","실내건축디자인과","서버실","공학관","A0302-1"]
["100","예체능","실내건축디자인과","모형실습실","공학관","AB103"]
["101","예체능","실내건축디자인과","스튜디오05","예지관","C0104"]
["102","예체능","실내건축디자인과","스튜디오06","예지관","C0104-1"]
["103","예체능","실내건축디자인과","스튜디오07","예지관","C0105","일반안전","안전관리규정, 비상연락망, 안전수칙 연구실 내 미비치","연구실내 게시 또는 비치"]
["104","예체능","실내건축디자인과","스튜디오08","예지관","C0105-1"]
["105","예체능","실내건축디자인과","스튜디오01","예지관","CB101-1","일반안전","안전관리규정, 비상연락망, 안전수칙 연구실 내 미비치","연구실내 게시 또는 비치"]
["105","예체능","실내건축디자인과","스튜디오01","예지관","CB101-1","일반안전","사고발생 대응절차 미수립","연구실현황에 맞는 사고발생에 따른 대응절차를 수립하도록 함"]
["106","예체능","실내건축디자인과","스튜디오02","예지관","CB102","소방안전","소화기 미비치","소화기는 눈에 잘 띄는 위치에 비치 및 표식 부착 필요"]
["107","예체능","실내건축디자인과","스튜디오03","예지관","CB102-1"]
["108","예체능","실내건축디자인과","스튜디오04","예지관","CB103"]
["109","예체능","실내건축디자인과","졸업준비 및 스튜디오","예지관","CB104"]
["110","예체능","실내건축디자인과","디자인1실","예지관","CB101","일반안전","안전관리규정, 비상연락망, 안전수칙 연구실 내 미비치","연구실내 게시 또는 비치"]
["110","예체능","실내건축디자인과","디자인1실","예지관","CB101","소방안전","소화전 사용법 부착 미흡","옥내소화전설비의 함에는 그 표면에 \"소화전\"이라는 표시와 사용요령을 기재한 표지판(외국어 병기)을 붙여야 함"]
["111","예체능","실내건축디자인과","디자인3실","예지관","CB105","소방안전","소화기 위치 표식 미부착","소화기 위치표식 부착 및 눈에 잘 띄는 위치에 비치"]
["112","예체능","실내건축디자인과","디자인2실","예지관","CB107"]
["113","예체능","실내건축디자인과","목공예실","한길관","EB112","산업위생","연구실내에 구급함이 비치되어 있으나 구급약품의 사용기간이 지남","사용기간이 지난 구급약품은 교체하여 비치"]
["113","예체능","실내건축디자인과","목공예실","한길관","EB112","기계안전","공작기계 드릴머신은 드릴작업 및 칩 제거 작업 시 회전하는 드릴 날에 작업자의 장갑, 소매 등 말림 위험과 안면부(눈 등) 및 팔 등에 칩비산에 의한 상해 우려가 있음","실습자의 안전을 위해서 드릴머신 칩비산 부위에 탁상용 드릴 날에 180° 열림이 가능한 투명 원통형 방호덮개 설치"]
["113","예체능","실내건축디자인과","목공예실","한길관","EB112","기계안전","위험기계 안전수칙 미게시","안전수칙을 판넬로 제작하여 실습장 내에 게시하고 작업 시작 전 숙지하게 한 후 작업에 임할 수 있게 조치"]
["114","예체능","실내건축디자인과","목공구실","한길관","EB129","산업위생","보호구 관리 미흡","보호구는 2차오염이 없는 곳에 보관하여 사용할 수 있도록 하며, 보호구함 보관 시 보호구 수량 및 종류를 기입하여 관리 하도록 권장"]
["114","예체능","실내건축디자인과","목공구실","한길관","EB129","기계안전","둥근톱기계의 날접촉 예방 장치 및 반발예방장치(분할날)가 미설치","미설치 된 날 접촉 예방방지장치 및 반발예방장치(분할날)를 설치해서 목재 절단 시 날 접촉 및 목재반발에 의한 사고 방지"]
["114","예체능","실내건축디자인과","목공구실","한길관","EB129","기계안전","위험기계 안전수칙 미게시","안전수칙을 판넬로 제작하여 실습장 내에 게시하고 작업 시작 전 숙지하게 한 후 작업에 임할 수 있게 조치"]
["115","예체능","실내건축디자인과","금속공예1실","한길관","EB118","일반안전","안전관리규정, 비상연락망, 안전수칙 연구실 내 미비치","연구실내 게시 또는 비치"]
["115","예체능","실내건축디자인과","금속공예1실","한길관","EB118","산업위생","보호구 관리 미흡","보호구는 2차오염이 없는 곳에 보관하여 사용할 수 있도록 하며, 보호구함 보관 시 보호구 수량 및 종류를 기입하여 관리 하도록 권장"]
["115","예체능","실내건축디자인과","금속공예1실","한길관","EB118","전기안전","비접지형 멀티탭·콘센트 사용","접지형 콘센트·멀티탭 교체 사용"]
["115","예체능","실내건축디자인과","금속공예1실","한길관","EB118","소방안전","안전사고 위험이 있는 노후소화기 비치","10년이 지난 노후소화기는 교체하여 비치"]
["116","예체능","실내건축디자인과","금속공예2실","한길관","EB122","산업위생","연구실내에 구급함이 비치되어 있으나 구급약품의 사용기간이 지남","사용기간이 지난 구급약품은 교체하여 비치"]
["116","예체능","실내건축디자인과","금속공예2실","한길관","EB122","산업위생","보호구 관리 미흡","보호구는 2차오염이 없는 곳에 보관하여 사용할 수 있도록 하며, 보호구함 보관 시 보호구 수량 및 종류를 기입하여 관리 하도록 권장"]
["116","예체능","실내건축디자인과","금속공예2실","한길관","EB122","화공안전","물질안전보건자료(MSDS) 미비치(용접봉)","보유중인 모든 유해인자에 대한 물질안전보건자료(MSDS)를 보관중인 주변이나 눈에 잘 띄는 장소에 게시하거나 그 밖에 고용노동부장관이 정하여 고시한 바에 따라 제공하여야 함"]
["116","예체능","실내건축디자인과","금속공예2실","한길관","EB122","화공안전","폐액의 성상 구분 없이 보관 및 라벨 미부착","폐액은 폐산, 폐알칼리, 폐유기용제(할로겐,비할로겐), 폐유 등으로 분류 후 전도 되지 않도록 보관하며 절대로 하수구나 싱크대에 버리는 일이 없도록 해야 함"]
["129","예체능","재활스포츠과","실습실B","기념관,체육관","I0205"]
["130","예체능","재활스포츠과","실습실A","기념관,체육관","I0201-1","전기안전","케이블 정리 상태 미흡 및 통행이동 중 전도위험","케이블타이 및 안전덮개를 이용하여 전선 관리 및 전선 피복 손상되지 않도록 함"]
["131","예체능","재활스포츠과","댄스실","기념관,체육관","I0101"]
["132","예체능","재활스포츠과","TRX실","기념관,체육관","IB104"]