{"text_format":"2","workbook":"xlsx","n_sheets":4,"sheets":["등급집계표","등급표","지적사항 집계표","지적사항 및 개선방안(종합)"],"not_rendered":{"charts":0,"images":0,"macros":0,"external_links":0,"defined_names":7,"comments":0,"pivot_tables":0},"unopened":[],"bounds":{"document_bytes":16777216,"sheet_cells":100000,"run_cost":"one","rows_first":2000,"rows_last":500,"rows_between":2000,"halvings":0,"cell_chars":16384,"cell_head_chars":4096},"cells_cut":0,"cells_raw":0,"read":"whole","date_system":"1900"}

{"sheet":"등급집계표","index":0,"n_rows":25,"n_cols":8,"rows_kept":25,"cut":false,"hidden":false,"merged":[[1,0,1,7],[2,1,2,7],[4,1,4,7],[4,0,5,0]]}
[]
["2017년 부천대학교 연구실 정기안전점검 집계표"]
[]
[]
["학 과 명","점검결과"]
[null,"1등급","2등급","3등급","4등급","5등급","대상제외","계"]
["간호과",{"$f":"COUNTIFS(등급표!$C$5:$C$120,A7,등급표!$O$5:$O$120,1)","v":0},{"$f":"COUNTIFS(등급표!$C$5:$C$120,A7,등급표!$O$5:$O$120,2)","v":4},{"$f":"COUNTIFS(등급표!$C$5:$C$120,A7,등급표!$O$5:$O$120,3)","v":0},{"$f":"COUNTIFS(등급표!$C$5:$C$120,A7,등급표!$O$5:$O$120,4)","v":0},{"$f":"COUNTIFS(등급표!$C$5:$C$120,A7,등급표!$O$5:$O$120,5)","v":0},{"$f":"COUNTIFS(등급표!$C$5:$C$120,A7,등급표!$O$5:$O$120,0)","v":0},{"$f":"SUM(B7:G7)","v":4}]
["건축과",{"$f":"COUNTIFS(등급표!$C$5:$C$120,A8,등급표!$O$5:$O$120,1)","v":8},{"$f":"COUNTIFS(등급표!$C$5:$C$120,A8,등급표!$O$5:$O$120,2)","v":2},{"$f":"COUNTIFS(등급표!$C$5:$C$120,A8,등급표!$O$5:$O$120,3)","v":0},{"$f":"COUNTIFS(등급표!$C$5:$C$120,A8,등급표!$O$5:$O$120,4)","v":0},{"$f":"COUNTIFS(등급표!$C$5:$C$120,A8,등급표!$O$5:$O$120,5)","v":0},{"$f":"COUNTIFS(등급표!$C$5:$C$120,A8,등급표!$O$5:$O$120,0)","v":0},{"$f":"SUM(B8:G8)","v":10}]
["산업디자인과",{"$f":"COUNTIFS(등급표!$C$5:$C$120,A9,등급표!$O$5:$O$120,1)","v":5},{"$f":"COUNTIFS(등급표!$C$5:$C$120,A9,등급표!$O$5:$O$120,2)","v":10},{"$f":"COUNTIFS(등급표!$C$5:$C$120,A9,등급표!$O$5:$O$120,3)","v":0},{"$f":"COUNTIFS(등급표!$C$5:$C$120,A9,등급표!$O$5:$O$120,4)","v":0},{"$f":"COUNTIFS(등급표!$C$5:$C$120,A9,등급표!$O$5:$O$120,5)","v":0},{"$f":"COUNTIFS(등급표!$C$5:$C$120,A9,등급표!$O$5:$O$120,0)","v":2},17]
["섬유패션비지니스과",{"$f":"COUNTIFS(등급표!$C$5:$C$120,A10,등급표!$O$5:$O$120,1)","v":2},{"$f":"COUNTIFS(등급표!$C$5:$C$120,A10,등급표!$O$5:$O$120,2)","v":6},{"$f":"COUNTIFS(등급표!$C$5:$C$120,A10,등급표!$O$5:$O$120,3)","v":0},{"$f":"COUNTIFS(등급표!$C$5:$C$120,A10,등급표!$O$5:$O$120,4)","v":0},{"$f":"COUNTIFS(등급표!$C$5:$C$120,A10,등급표!$O$5:$O$120,5)","v":0},{"$f":"COUNTIFS(등급표!$C$5:$C$120,A10,등급표!$O$5:$O$120,0)","v":4},12]
["식품영양과",{"$f":"COUNTIFS(등급표!$C$5:$C$120,A11,등급표!$O$5:$O$120,1)","v":3},{"$f":"COUNTIFS(등급표!$C$5:$C$120,A11,등급표!$O$5:$O$120,2)","v":5},{"$f":"COUNTIFS(등급표!$C$5:$C$120,A11,등급표!$O$5:$O$120,3)","v":0},{"$f":"COUNTIFS(등급표!$C$5:$C$120,A11,등급표!$O$5:$O$120,4)","v":0},{"$f":"COUNTIFS(등급표!$C$5:$C$120,A11,등급표!$O$5:$O$120,5)","v":0},{"$f":"COUNTIFS(등급표!$C$5:$C$120,A11,등급표!$O$5:$O$120,0)","v":0},8]
["영상&게임콘텐츠과",{"$f":"COUNTIFS(등급표!$C$5:$C$120,A12,등급표!$O$5:$O$120,1)","v":1},{"$f":"COUNTIFS(등급표!$C$5:$C$120,A12,등급표!$O$5:$O$120,2)","v":2},{"$f":"COUNTIFS(등급표!$C$5:$C$120,A12,등급표!$O$5:$O$120,3)","v":0},{"$f":"COUNTIFS(등급표!$C$5:$C$120,A12,등급표!$O$5:$O$120,4)","v":0},{"$f":"COUNTIFS(등급표!$C$5:$C$120,A12,등급표!$O$5:$O$120,5)","v":0},{"$f":"COUNTIFS(등급표!$C$5:$C$120,A12,등급표!$O$5:$O$120,0)","v":0},3]
["재활스포츠과",{"$f":"COUNTIFS(등급표!$C$5:$C$120,A13,등급표!$O$5:$O$120,1)","v":3},{"$f":"COUNTIFS(등급표!$C$5:$C$120,A13,등급표!$O$5:$O$120,2)","v":3},{"$f":"COUNTIFS(등급표!$C$5:$C$120,A13,등급표!$O$5:$O$120,3)","v":0},{"$f":"COUNTIFS(등급표!$C$5:$C$120,A13,등급표!$O$5:$O$120,4)","v":0},{"$f":"COUNTIFS(등급표!$C$5:$C$120,A13,등급표!$O$5:$O$120,5)","v":0},{"$f":"COUNTIFS(등급표!$C$5:$C$120,A13,등급표!$O$5:$O$120,0)","v":0},6]
["전기과",{"$f":"COUNTIFS(등급표!$C$5:$C$120,A14,등급표!$O$5:$O$120,1)","v":0},{"$f":"COUNTIFS(등급표!$C$5:$C$120,A14,등급표!$O$5:$O$120,2)","v":2},{"$f":"COUNTIFS(등급표!$C$5:$C$120,A14,등급표!$O$5:$O$120,3)","v":0},{"$f":"COUNTIFS(등급표!$C$5:$C$120,A14,등급표!$O$5:$O$120,4)","v":0},{"$f":"COUNTIFS(등급표!$C$5:$C$120,A14,등급표!$O$5:$O$120,5)","v":0},{"$f":"COUNTIFS(등급표!$C$5:$C$120,A14,등급표!$O$5:$O$120,0)","v":0},2]
["전자과",{"$f":"COUNTIFS(등급표!$C$5:$C$120,A15,등급표!$O$5:$O$120,1)","v":5},{"$f":"COUNTIFS(등급표!$C$5:$C$120,A15,등급표!$O$5:$O$120,2)","v":5},{"$f":"COUNTIFS(등급표!$C$5:$C$120,A15,등급표!$O$5:$O$120,3)","v":0},{"$f":"COUNTIFS(등급표!$C$5:$C$120,A15,등급표!$O$5:$O$120,4)","v":0},{"$f":"COUNTIFS(등급표!$C$5:$C$120,A15,등급표!$O$5:$O$120,5)","v":0},{"$f":"COUNTIFS(등급표!$C$5:$C$120,A15,등급표!$O$5:$O$120,0)","v":0},10]
["정보통신과",{"$f":"COUNTIFS(등급표!$C$5:$C$120,A16,등급표!$O$5:$O$120,1)","v":4},{"$f":"COUNTIFS(등급표!$C$5:$C$120,A16,등급표!$O$5:$O$120,2)","v":7},{"$f":"COUNTIFS(등급표!$C$5:$C$120,A16,등급표!$O$5:$O$120,3)","v":0},{"$f":"COUNTIFS(등급표!$C$5:$C$120,A16,등급표!$O$5:$O$120,4)","v":0},{"$f":"COUNTIFS(등급표!$C$5:$C$120,A16,등급표!$O$5:$O$120,5)","v":0},{"$f":"COUNTIFS(등급표!$C$5:$C$120,A16,등급표!$O$5:$O$120,0)","v":0},11]
["지능로봇과",{"$f":"COUNTIFS(등급표!$C$5:$C$120,A17,등급표!$O$5:$O$120,1)","v":1},{"$f":"COUNTIFS(등급표!$C$5:$C$120,A17,등급표!$O$5:$O$120,2)","v":5},{"$f":"COUNTIFS(등급표!$C$5:$C$120,A17,등급표!$O$5:$O$120,3)","v":0},{"$f":"COUNTIFS(등급표!$C$5:$C$120,A17,등급표!$O$5:$O$120,4)","v":0},{"$f":"COUNTIFS(등급표!$C$5:$C$120,A17,등급표!$O$5:$O$120,5)","v":0},{"$f":"COUNTIFS(등급표!$C$5:$C$120,A17,등급표!$O$5:$O$120,0)","v":0},6]
["컴퓨터소프트웨어과",{"$f":"COUNTIFS(등급표!$C$5:$C$120,A18,등급표!$O$5:$O$120,1)","v":1},{"$f":"COUNTIFS(등급표!$C$5:$C$120,A18,등급표!$O$5:$O$120,2)","v":7},{"$f":"COUNTIFS(등급표!$C$5:$C$120,A18,등급표!$O$5:$O$120,3)","v":0},{"$f":"COUNTIFS(등급표!$C$5:$C$120,A18,등급표!$O$5:$O$120,4)","v":0},{"$f":"COUNTIFS(등급표!$C$5:$C$120,A18,등급표!$O$5:$O$120,5)","v":0},{"$f":"COUNTIFS(등급표!$C$5:$C$120,A18,등급표!$O$5:$O$120,0)","v":0},8]
["컴퓨터정보보안과",{"$f":"COUNTIFS(등급표!$C$5:$C$120,A19,등급표!$O$5:$O$120,1)","v":0},{"$f":"COUNTIFS(등급표!$C$5:$C$120,A19,등급표!$O$5:$O$120,2)","v":4},{"$f":"COUNTIFS(등급표!$C$5:$C$120,A19,등급표!$O$5:$O$120,3)","v":0},{"$f":"COUNTIFS(등급표!$C$5:$C$120,A19,등급표!$O$5:$O$120,4)","v":0},{"$f":"COUNTIFS(등급표!$C$5:$C$120,A19,등급표!$O$5:$O$120,5)","v":0},{"$f":"COUNTIFS(등급표!$C$5:$C$120,A19,등급표!$O$5:$O$120,0)","v":0},4]
["토목과",{"$f":"COUNTIFS(등급표!$C$5:$C$120,A20,등급표!$O$5:$O$120,1)","v":4},{"$f":"COUNTIFS(등급표!$C$5:$C$120,A20,등급표!$O$5:$O$120,2)","v":4},{"$f":"COUNTIFS(등급표!$C$5:$C$120,A20,등급표!$O$5:$O$120,3)","v":0},{"$f":"COUNTIFS(등급표!$C$5:$C$120,A20,등급표!$O$5:$O$120,4)","v":0},{"$f":"COUNTIFS(등급표!$C$5:$C$120,A20,등급표!$O$5:$O$120,5)","v":0},{"$f":"COUNTIFS(등급표!$C$5:$C$120,A20,등급표!$O$5:$O$120,0)","v":0},{"$f":"SUM(B20:G20)","v":8}]
["호텔외식조리과",{"$f":"COUNTIFS(등급표!$C$5:$C$120,A21,등급표!$O$5:$O$120,1)","v":4},{"$f":"COUNTIFS(등급표!$C$5:$C$120,A21,등급표!$O$5:$O$120,2)","v":3},{"$f":"COUNTIFS(등급표!$C$5:$C$120,A21,등급표!$O$5:$O$120,3)","v":0},{"$f":"COUNTIFS(등급표!$C$5:$C$120,A21,등급표!$O$5:$O$120,4)","v":0},{"$f":"COUNTIFS(등급표!$C$5:$C$120,A21,등급표!$O$5:$O$120,5)","v":0},{"$f":"COUNTIFS(등급표!$C$5:$C$120,A21,등급표!$O$5:$O$120,0)","v":0},7]
[null,{"$f":"COUNTIFS(등급표!$C$5:$C$120,A22,등급표!$O$5:$O$120,1)","v":0},{"$f":"COUNTIFS(등급표!$C$5:$C$120,A22,등급표!$O$5:$O$120,2)","v":0},{"$f":"COUNTIFS(등급표!$C$5:$C$120,A22,등급표!$O$5:$O$120,3)","v":0},{"$f":"COUNTIFS(등급표!$C$5:$C$120,A22,등급표!$O$5:$O$120,4)","v":0},{"$f":"COUNTIFS(등급표!$C$5:$C$120,A22,등급표!$O$5:$O$120,5)","v":0},{"$f":"COUNTIFS(등급표!$C$5:$C$120,A22,등급표!$O$5:$O$120,0)","v":0},0]
[null,{"$f":"COUNTIFS(등급표!$C$5:$C$120,A23,등급표!$O$5:$O$120,1)","v":0},{"$f":"COUNTIFS(등급표!$C$5:$C$120,A23,등급표!$O$5:$O$120,2)","v":0},{"$f":"COUNTIFS(등급표!$C$5:$C$120,A23,등급표!$O$5:$O$120,3)","v":0},{"$f":"COUNTIFS(등급표!$C$5:$C$120,A23,등급표!$O$5:$O$120,4)","v":0},{"$f":"COUNTIFS(등급표!$C$5:$C$120,A23,등급표!$O$5:$O$120,5)","v":0},{"$f":"COUNTIFS(등급표!$C$5:$C$120,A23,등급표!$O$5:$O$120,0)","v":0},0]
["계",{"$f":"SUM(B7:B23)","v":41},69,{"$f":"SUM(D7:D23)","v":0},0,0,6,116]
["백분율(%)",{"$f":"B24/H24","v":0.35344827586206895},{"$f":"C24/H24","v":0.59482758620689657},{"$f":"D24/H24","v":0},{"$f":"E24/H24","v":0},{"$f":"F24/H24","v":0},{"$f":"G24/H24","v":5.1724137931034482E-2},{"$f":"SUM(B25:G25)","v":1}]

{"sheet":"등급표","index":1,"n_rows":120,"n_cols":15,"rows_kept":120,"cut":false,"hidden":false,"merged":[[1,6,2,14],[1,0,2,5]]}
["( o : 적, 유     x : 부, 무         ㆍ : 해당사항없음 )"]
["2017년 연구실 안전진단 등급표",{"$nulls":5},"분야별 등급 및 종합등급"]
[]
["순번","번호","학과명","연구실명","건물명","호실","일반\n안전","위생\n안전","전기\n안전","소방\n안전","화공\n안전","가스\n안전","기계\n안전","생물\n안전","종합\n등급"]
[null,1,"간호과","시뮬레이션센터","밀레니엄관","H406",1,1,2,1,"-","-","-",2,{"$f":"MAX(G5:N5)","v":2}]
[null,2,"간호과","심화학습실습실","밀레니엄관","H405",1,1,2,1,"-","-","-",2,{"$f":"MAX(G6:N6)","v":2}]
[null,3,"간호과","기초간호과학실습실","밀레니엄관","H407",1,1,1,1,"-","-","-",2,2]
[null,4,"간호과","기본간호학실습실","밀레니엄관","H401",1,1,1,1,"-","-","-",2,2]
[null,5,"건축과","환경연구실","공학관","AB107",1,1,2,1,"-","-","-","-",2]
[null,6,"건축과","컴퓨터그래픽실","공학관","A0403",1,1,1,1,"-","-","-","-",1]
[null,7,"건축과","프레젠테이션실","공학관","A0404",1,1,1,1,"-","-","-","-",1]
[null,8,"건축과","첨단강의실1","공학관","A0502",1,1,1,1,"-","-","-","-",1]
[null,9,"건축과","첨단강의실2","공학관","A0503",1,1,1,1,"-","-","-","-",1]
[null,10,"건축과","첨단강의실3","공학관","A0507",1,1,1,1,"-","-","-","-",1]
[null,11,"건축과","설계STUDIO-A","공학관","A0508",1,1,1,1,"-","-","-","-",1]
[null,12,"건축과","설계STUDIO-B","공학관","A0509",1,1,1,1,"-","-","-","-",1]
[null,13,"건축과","모형제작실","공학관","A0602",1,1,1,1,"-","-",2,"-",2]
[null,14,"건축과","건축CAD실","예지관","C0106",1,1,1,1,"-","-","-","-",1]
[null,15,"산업디자인과","제1컴퓨터실습실","한길관","E0422","실습실 반납",{"$nulls":7},0]
[null,16,"산업디자인과","디자인실습실6","한길관","E0515",1,1,1,2,"-","-","-","-",2]
[null,17,"산업디자인과","제2컴퓨터실습실","한길관","E0432","실습실 반납",{"$nulls":7},0]
[null,18,"산업디자인과","컴퓨터교육실3","한길관","E0510",1,1,1,1,"-","-","-","-",1]
[null,19,"산업디자인과","컴퓨터교육실2","한길관","E0517",1,1,1,1,"-","-","-","-",1]
[null,20,"산업디자인과","컴퓨터교육실1","한길관","E0520",1,1,1,1,"-","-","-","-",1]
[null,21,"산업디자인과","팀 세미나실","한길관","E0511",1,1,2,1,"-","-","-","-",2]
[null,22,"산업디자인과","운송기기 크레이 모델링실","한길관","EB1",2,1,1,1,"-","-","-","-",2]
[null,23,"산업디자인과","운송기기 크레이 모델링 준비실","한길관","EB131",1,1,1,1,"-","-",2,"-",2]
[null,24,"산업디자인과","컴퓨터교육실4","한길관","E0523",1,1,1,1,"-","-","-","-",1]
[null,25,"산업디자인과","3D프린트가공실","한길관","EB1",1,1,2,1,"-","-","-","-",2]
[null,26,"산업디자인과","디자인실습실4","한길관","E0502",1,1,1,2,"-","-","-","-",2]
[null,27,"산업디자인과","디자인실습실5","한길관","E0504",1,1,1,2,"-","-","-","-",2]
[null,28,"산업디자인과","디자인실습실3","한길관","E0539",1,1,1,2,"-","-","-","-",2]
[null,29,"산업디자인과","디자인실습실2","한길관","E0536",1,1,1,2,"-","-","-","-",2]
[null,30,"산업디자인과","디자인실습실1","한길관","E0533",1,1,1,2,"-","-","-","-",2]
[null,31,"산업디자인과","4학년 전공연구실","한길관","E0530",1,1,1,1,"-","-","-","-",1]
[null,32,"섬유패션비지니스과","섬유패션CAD실","한길관","E0401",1,1,1,1,"-","-","-","-",1]
[null,33,"섬유패션비지니스과","패션소재기획실","한길관","E0403","강의실 변경",{"$nulls":7},0]
[null,34,"섬유패션비지니스과","섬유패션 실습실(Ⅱ)","한길관","E0406",1,1,1,1,"-","-","-","-",1]
[null,35,"섬유패션비지니스과","섬유패션 실습실(Ⅲ)","한길관","E0409",1,1,2,1,"-","-","-","-",2]
[null,36,"섬유패션비지니스과","패션조형실습실(Ⅰ)","한길관","E0502","공실(학교 반납)",{"$nulls":7},0]
[null,37,"섬유패션비지니스과","실습실(2)","한길관","E0501","공실(학교 반납)",{"$nulls":7},0]
[null,38,"섬유패션비지니스과","실습재료실","한길관","E0101",1,1,1,1,2,"-",2,"-",2]
[null,39,"섬유패션비지니스과","섬유패션 실습실(Ⅰ)","한길관","E0102",2,1,2,1,2,2,1,"-",2]
[null,40,"섬유패션비지니스과","NCS편직실습실","한길관","E0428","창고 변경",{"$nulls":7},0]
[null,41,"섬유패션비지니스과","섬유패션 제품제작실","한길관","E0429",1,1,1,2,"-","-","-","-",2]
[null,42,"섬유패션비지니스과","섬유패션 전자상거래실","한길관","E0230",1,1,1,2,"-","-","-","-",2]
[null,43,"섬유패션비지니스과","컴퓨터니트실험실","한길관","EB105",2,1,1,1,"-",2,"-","-",2]
[null,44,"식품영양과","종합실험실","예지관","C0101",1,2,1,1,2,1,1,"-",2]
[null,45,"식품영양과","실험준비실","예지관","C0102",1,1,2,1,"-","-","-","-",2]
[null,46,"식품영양과","기구실","예지관","C0103",1,1,1,1,2,"-","-","-",2]
[null,47,"식품영양과","종합실습실","예지관","C0306",1,1,1,1,"-","-","-","-",1]
[null,48,"식품영양과","조리과학실","예지관","C0307",1,1,1,1,"-","-","-","-",1]
[null,49,"식품영양과","조리실습실","예지관","C0308",1,1,1,1,"-",1,"-","-",1]
[null,50,"식품영양과","서양조리실습실","예지관","C0408",1,1,2,1,"-",1,1,"-",2]
[null,51,"식품영양과","관능평가실","예지관","C0509",1,1,2,1,"-","-","-","-",2]
[null,52,"영상&게임콘텐츠과","3D VISUAL실","한길관","E0416",1,1,1,1,"-","-","-","-",1]
[null,53,"영상&게임콘텐츠과","컴퓨터실","한길관","E0419",1,1,2,1,"-","-","-","-",2]
[null,54,"영상&게임콘텐츠과","3D STATION실","한길관","E0438",1,1,2,1,"-","-","-","-",2]
[null,55,"재활스포츠과","실습실B","기념관,체육관","I0205",1,1,1,1,"-","-","-","-",1]
[null,56,"재활스포츠과","실습실A","기념관,체육관","I0201",1,1,1,2,"-","-","-","-",2]
[null,57,"재활스포츠과","운동재활실습실C","기념관,체육관","I0201",1,1,1,2,"-","-","-","-",2]
[null,58,"재활스포츠과","댄스실","기념관,체육관","I0101",1,1,1,1,"-","-","-","-",1]
[null,59,"재활스포츠과","TRX실","기념관,체육관","IB104",1,1,1,1,"-","-","-","-",1]
[null,60,"재활스포츠과","체성분,체형분석실","기념관,체육관","IB101",1,1,2,1,"-","-","-","-",2]
[null,61,"전기과","컴퓨터실습실","한길관","E0422",1,1,1,2,"-","-","-","-",2]
[null,62,"전기과","전기실습실","한길관","E0432",1,1,2,2,"-","-","-","-",2]
[null,63,"전자과","Project실습실","한길관","E0201",2,2,1,1,2,"-",2,"-",2]
[null,64,"전자과","컴퓨터실습실","한길관","E0203",1,1,2,1,"-","-","-","-",2]
[null,65,"전자과","디지털공학실험실","한길관","E0207",1,1,1,1,"-","-","-","-",1]
[null,66,"전자과","반도체공정장비실1","한길관","E0212",1,1,1,1,"-","-","-","-",{"$f":"MAX(G70:N70)","v":1}]
[null,67,"전자과","반도체공정장비실2","한길관","E0213",1,1,1,1,"-","-","-","-",1]
[null,68,"전자과","전자공학실험실","한길관","E0216",1,1,2,1,"  ","-","-","-",2]
[null,69,"전자과","반도체기초 실험실","한길관","E0236",1,1,1,2,"-","-","-","-",2]
[null,70,"전자과","전자응용실험실","한길관","E0316",1,1,1,1,"-","-","-","-",1]
[null,71,"전자과","전자제어실험실","한길관","E0320",1,1,2,1,"-","-","-","-",2]
[null,72,"전자과","취업아카데미 실험실","한길관","E0323",1,1,1,1,"-","-","-","-",1]
[null,73,"정보통신과","컴퓨터2실","꿈집","B1001",1,1,2,1,"-","-","-","-",2]
[null,74,"정보통신과","컴퓨터1실","꿈집","B1004",1,1,2,1,"-","-","-","-",2]
[null,75,"정보통신과","응용소프트웨어실","꿈집","B1005",1,1,2,2,"-","-","-","-",2]
[null,76,"정보통신과","응용전자실험실","꿈집","B1008",1,1,1,1,"-","-","-","-",1]
[null,77,"정보통신과","네트워크실","꿈집","B1102",1,1,1,1,"-","-","-","-",1]
[null,78,"정보통신과","아날로그실습실","꿈집","B1108",1,1,1,1,"-","-","-","-",1]
[null,79,"정보통신과","WEBMASTER실","꿈집","B1204",1,1,1,2,"-","-","-","-",2]
[null,80,"정보통신과","정보통신실습실","꿈집","B1215",1,1,2,1,"-","-","-","-",2]
[null,81,"정보통신과","디지털통신실험실","꿈집","B1304",1,1,1,2,"-","-","-","-",2]
[null,82,"정보통신과","e-교실","꿈집","B1305-1",1,1,2,1,"-","-","-","-",2]
[null,83,"정보통신과","캡스톤디자인Ⅲ","꿈집","B1305",1,1,1,1,"-","-","-","-",1]
[null,84,"지능로봇과","전동기제어실습실","한길관","E0218",1,1,1,1,"-","-","-","-",1]
[null,85,"지능로봇과","제1컴퓨터실습실","한길관","E0222",1,1,2,1,"-","-","-","-",2]
[null,86,"지능로봇과","기초전자실험실","한길관","E0228",1,1,2,1,"-","-","-","-",2]
[null,87,"지능로봇과","로봇공학실","한길관","E0301",1,1,2,1,"-","-","-","-",2]
[null,88,"지능로봇과","제2컴퓨터실습실","한길관","E0338",1,1,2,1,"-","-","-","-",2]
[null,89,"지능로봇과","시퀸스실습실","한길관","E0343",1,1,2,1,"-","-","-","-",2]
[null,90,"컴퓨터소프트웨어과","제2프로젝트실","꿈집","B0512",1,1,1,1,"-","-","-","-",1]
[null,91,"컴퓨터소프트웨어과","제1공용컴퓨터실","꿈집","B0601",1,1,1,2,"-","-","-","-",2]
[null,92,"컴퓨터소프트웨어과","제2공용컴퓨터실","꿈집","B0604",1,1,1,2,"-","-","-","-",2]
[null,93,"컴퓨터소프트웨어과","멀티미디어실","꿈집","B0603",1,1,2,2,"-","-","-","-",2]
[null,94,"컴퓨터소프트웨어과","제3공용컴퓨터실","꿈집","B0608",1,1,1,2,"-","-","-","-",2]
[null,95,"컴퓨터소프트웨어과","제4공용컴퓨터실","꿈집","B0611",1,1,1,2,"-","-","-","-",2]
[null,96,"컴퓨터소프트웨어과","제1프로젝트실","꿈집","B0607",1,1,2,1,"-","-","-","-",2]
[null,97,"컴퓨터소프트웨어과","제5공용컴퓨터실","꿈집","B0614",1,1,1,2,"-","-","-","-",2]
[null,98,"컴퓨터정보보안과","제3컴퓨터실","꿈집","B1101",1,1,1,2,"-","-","-","-",2]
[null,99,"컴퓨터정보보안과","제2컴퓨터실","꿈집","B1103",1,1,1,2,"-","-","-","-",2]
[null,100,"컴퓨터정보보안과","제1컴퓨터실","꿈집","B1110",1,1,2,2,"-","-","-","-",2]
[null,101,"컴퓨터정보보안과","제5컴퓨터실","꿈집","B1306",1,1,1,2,"-","-","-","-",2]
[null,102,"토목과","토질실험실","공학관","A0101",1,1,1,1,"-","-","-","-",1]
[null,103,"토목과","토질실험준비실","공학관","A0102",1,1,1,1,1,"-","-","-",1]
[null,104,"토목과","환경실험실","공학관","A0201",1,1,1,2,"-","-","-","-",2]
[null,105,"토목과","측량실","공학관","A0205",1,1,1,1,"-","-","-","-",1]
[null,106,"토목과","CAD실","공학관","A0309",1,1,2,1,"-","-","-","-",2]
[null,107,"토목과","전산구조설계실","공학관","A0310",1,1,2,1,"-","-","-","-",2]
[null,108,"토목과","구조재료실험실","공학관","AB101",1,2,2,1,2,"-",2,"-",2]
[null,109,"토목과","수리실험실","공학관","AB102",1,1,1,1,"-","-","-","-",1]
[null,110,"호텔외식조리과","한국조리실","예지관","C0201",1,1,2,1,"-",1,"-","-",2]
[null,111,"호텔외식조리과","제과제빵실","예지관","C0203",1,1,1,1,"-",1,1,"-",1]
[null,112,"호텔외식조리과","식음료 및 식공간 연출","예지관","C0205",1,1,2,1,"-","-","-","-",2]
[null,113,"호텔외식조리과","양식조리실","예지관","C0301",1,1,1,1,"-",1,"-","-",1]
[null,114,"호텔외식조리과","푸드스튜디오","예지관","C0401",1,1,1,2,"-",1,"-","-",2]
[null,115,"호텔외식조리과","메뉴 개발실1","예지관","C0501",1,1,1,1,"-",1,"-","-",1]
[null,116,"호텔외식조리과","메뉴 개발실2","예지관","C0502",1,1,1,1,"-",1,"-","-",1]

{"sheet":"지적사항 집계표","index":2,"n_rows":24,"n_cols":10,"rows_kept":24,"cut":false,"hidden":false,"merged":[[1,0,1,9],[2,1,2,9],[4,1,4,9],[4,0,5,0]]}
[]
["2017년 부천대학교 연구실 정기안전점검 점검사항 집계표"]
[]
[]
["학 과 명","점검결과"]
[null,"일반안전","산업위생","전기안전","소방안전","화공안전","가스안전","기계안전","생물안전","계"]
["간호과",{"$f":"COUNTIFS('지적사항 및 개선방안(종합)'!$C$3:$C$286,$A7,'지적사항 및 개선방안(종합)'!$G$3:$G$286,B$6)","v":0},{"$f":"COUNTIFS('지적사항 및 개선방안(종합)'!$C$3:$C$286,$A7,'지적사항 및 개선방안(종합)'!$G$3:$G$286,C$6)","v":0},{"$f":"COUNTIFS('지적사항 및 개선방안(종합)'!$C$3:$C$286,$A7,'지적사항 및 개선방안(종합)'!$G$3:$G$286,D$6)","v":2},{"$f":"COUNTIFS('지적사항 및 개선방안(종합)'!$C$3:$C$286,$A7,'지적사항 및 개선방안(종합)'!$G$3:$G$286,E$6)","v":0},{"$f":"COUNTIFS('지적사항 및 개선방안(종합)'!$C$3:$C$286,$A7,'지적사항 및 개선방안(종합)'!$G$3:$G$286,F$6)","v":0},{"$f":"COUNTIFS('지적사항 및 개선방안(종합)'!$C$3:$C$286,$A7,'지적사항 및 개선방안(종합)'!$G$3:$G$286,G$6)","v":0},{"$f":"COUNTIFS('지적사항 및 개선방안(종합)'!$C$3:$C$286,$A7,'지적사항 및 개선방안(종합)'!$G$3:$G$286,H$6)","v":0},{"$f":"COUNTIFS('지적사항 및 개선방안(종합)'!$C$3:$C$286,$A7,'지적사항 및 개선방안(종합)'!$G$3:$G$286,I$6)","v":6},{"$f":"SUM(B7:I7)","v":8}]
["건축과",{"$f":"COUNTIFS('지적사항 및 개선방안(종합)'!$C$3:$C$286,$A8,'지적사항 및 개선방안(종합)'!$G$3:$G$286,B$6)","v":0},{"$f":"COUNTIFS('지적사항 및 개선방안(종합)'!$C$3:$C$286,$A8,'지적사항 및 개선방안(종합)'!$G$3:$G$286,C$6)","v":0},{"$f":"COUNTIFS('지적사항 및 개선방안(종합)'!$C$3:$C$286,$A8,'지적사항 및 개선방안(종합)'!$G$3:$G$286,D$6)","v":2},{"$f":"COUNTIFS('지적사항 및 개선방안(종합)'!$C$3:$C$286,$A8,'지적사항 및 개선방안(종합)'!$G$3:$G$286,E$6)","v":0},{"$f":"COUNTIFS('지적사항 및 개선방안(종합)'!$C$3:$C$286,$A8,'지적사항 및 개선방안(종합)'!$G$3:$G$286,F$6)","v":0},{"$f":"COUNTIFS('지적사항 및 개선방안(종합)'!$C$3:$C$286,$A8,'지적사항 및 개선방안(종합)'!$G$3:$G$286,G$6)","v":0},{"$f":"COUNTIFS('지적사항 및 개선방안(종합)'!$C$3:$C$286,$A8,'지적사항 및 개선방안(종합)'!$G$3:$G$286,H$6)","v":1},{"$f":"COUNTIFS('지적사항 및 개선방안(종합)'!$C$3:$C$286,$A8,'지적사항 및 개선방안(종합)'!$G$3:$G$286,I$6)","v":0},{"$f":"SUM(B8:I8)","v":3}]
["산업디자인과",{"$f":"COUNTIFS('지적사항 및 개선방안(종합)'!$C$3:$C$286,$A9,'지적사항 및 개선방안(종합)'!$G$3:$G$286,B$6)","v":1},{"$f":"COUNTIFS('지적사항 및 개선방안(종합)'!$C$3:$C$286,$A9,'지적사항 및 개선방안(종합)'!$G$3:$G$286,C$6)","v":0},{"$f":"COUNTIFS('지적사항 및 개선방안(종합)'!$C$3:$C$286,$A9,'지적사항 및 개선방안(종합)'!$G$3:$G$286,D$6)","v":2},{"$f":"COUNTIFS('지적사항 및 개선방안(종합)'!$C$3:$C$286,$A9,'지적사항 및 개선방안(종합)'!$G$3:$G$286,E$6)","v":6},{"$f":"COUNTIFS('지적사항 및 개선방안(종합)'!$C$3:$C$286,$A9,'지적사항 및 개선방안(종합)'!$G$3:$G$286,F$6)","v":0},{"$f":"COUNTIFS('지적사항 및 개선방안(종합)'!$C$3:$C$286,$A9,'지적사항 및 개선방안(종합)'!$G$3:$G$286,G$6)","v":0},{"$f":"COUNTIFS('지적사항 및 개선방안(종합)'!$C$3:$C$286,$A9,'지적사항 및 개선방안(종합)'!$G$3:$G$286,H$6)","v":2},{"$f":"COUNTIFS('지적사항 및 개선방안(종합)'!$C$3:$C$286,$A9,'지적사항 및 개선방안(종합)'!$G$3:$G$286,I$6)","v":0},11]
["섬유패션비지니스과",{"$f":"COUNTIFS('지적사항 및 개선방안(종합)'!$C$3:$C$286,$A10,'지적사항 및 개선방안(종합)'!$G$3:$G$286,B$6)","v":3},{"$f":"COUNTIFS('지적사항 및 개선방안(종합)'!$C$3:$C$286,$A10,'지적사항 및 개선방안(종합)'!$G$3:$G$286,C$6)","v":0},{"$f":"COUNTIFS('지적사항 및 개선방안(종합)'!$C$3:$C$286,$A10,'지적사항 및 개선방안(종합)'!$G$3:$G$286,D$6)","v":2},{"$f":"COUNTIFS('지적사항 및 개선방안(종합)'!$C$3:$C$286,$A10,'지적사항 및 개선방안(종합)'!$G$3:$G$286,E$6)","v":2},{"$f":"COUNTIFS('지적사항 및 개선방안(종합)'!$C$3:$C$286,$A10,'지적사항 및 개선방안(종합)'!$G$3:$G$286,F$6)","v":5},{"$f":"COUNTIFS('지적사항 및 개선방안(종합)'!$C$3:$C$286,$A10,'지적사항 및 개선방안(종합)'!$G$3:$G$286,G$6)","v":2},{"$f":"COUNTIFS('지적사항 및 개선방안(종합)'!$C$3:$C$286,$A10,'지적사항 및 개선방안(종합)'!$G$3:$G$286,H$6)","v":1},{"$f":"COUNTIFS('지적사항 및 개선방안(종합)'!$C$3:$C$286,$A10,'지적사항 및 개선방안(종합)'!$G$3:$G$286,I$6)","v":0},15]
["식품영양과",{"$f":"COUNTIFS('지적사항 및 개선방안(종합)'!$C$3:$C$286,$A11,'지적사항 및 개선방안(종합)'!$G$3:$G$286,B$6)","v":0},{"$f":"COUNTIFS('지적사항 및 개선방안(종합)'!$C$3:$C$286,$A11,'지적사항 및 개선방안(종합)'!$G$3:$G$286,C$6)","v":2},{"$f":"COUNTIFS('지적사항 및 개선방안(종합)'!$C$3:$C$286,$A11,'지적사항 및 개선방안(종합)'!$G$3:$G$286,D$6)","v":4},{"$f":"COUNTIFS('지적사항 및 개선방안(종합)'!$C$3:$C$286,$A11,'지적사항 및 개선방안(종합)'!$G$3:$G$286,E$6)","v":0},{"$f":"COUNTIFS('지적사항 및 개선방안(종합)'!$C$3:$C$286,$A11,'지적사항 및 개선방안(종합)'!$G$3:$G$286,F$6)","v":4},{"$f":"COUNTIFS('지적사항 및 개선방안(종합)'!$C$3:$C$286,$A11,'지적사항 및 개선방안(종합)'!$G$3:$G$286,G$6)","v":0},{"$f":"COUNTIFS('지적사항 및 개선방안(종합)'!$C$3:$C$286,$A11,'지적사항 및 개선방안(종합)'!$G$3:$G$286,H$6)","v":0},{"$f":"COUNTIFS('지적사항 및 개선방안(종합)'!$C$3:$C$286,$A11,'지적사항 및 개선방안(종합)'!$G$3:$G$286,I$6)","v":0},10]
["영상&게임콘텐츠과",{"$f":"COUNTIFS('지적사항 및 개선방안(종합)'!$C$3:$C$286,$A12,'지적사항 및 개선방안(종합)'!$G$3:$G$286,B$6)","v":0},{"$f":"COUNTIFS('지적사항 및 개선방안(종합)'!$C$3:$C$286,$A12,'지적사항 및 개선방안(종합)'!$G$3:$G$286,C$6)","v":0},{"$f":"COUNTIFS('지적사항 및 개선방안(종합)'!$C$3:$C$286,$A12,'지적사항 및 개선방안(종합)'!$G$3:$G$286,D$6)","v":2},{"$f":"COUNTIFS('지적사항 및 개선방안(종합)'!$C$3:$C$286,$A12,'지적사항 및 개선방안(종합)'!$G$3:$G$286,E$6)","v":0},{"$f":"COUNTIFS('지적사항 및 개선방안(종합)'!$C$3:$C$286,$A12,'지적사항 및 개선방안(종합)'!$G$3:$G$286,F$6)","v":0},{"$f":"COUNTIFS('지적사항 및 개선방안(종합)'!$C$3:$C$286,$A12,'지적사항 및 개선방안(종합)'!$G$3:$G$286,G$6)","v":0},{"$f":"COUNTIFS('지적사항 및 개선방안(종합)'!$C$3:$C$286,$A12,'지적사항 및 개선방안(종합)'!$G$3:$G$286,H$6)","v":0},{"$f":"COUNTIFS('지적사항 및 개선방안(종합)'!$C$3:$C$286,$A12,'지적사항 및 개선방안(종합)'!$G$3:$G$286,I$6)","v":0},2]
["재활스포츠과",{"$f":"COUNTIFS('지적사항 및 개선방안(종합)'!$C$3:$C$286,$A13,'지적사항 및 개선방안(종합)'!$G$3:$G$286,B$6)","v":0},{"$f":"COUNTIFS('지적사항 및 개선방안(종합)'!$C$3:$C$286,$A13,'지적사항 및 개선방안(종합)'!$G$3:$G$286,C$6)","v":0},{"$f":"COUNTIFS('지적사항 및 개선방안(종합)'!$C$3:$C$286,$A13,'지적사항 및 개선방안(종합)'!$G$3:$G$286,D$6)","v":1},{"$f":"COUNTIFS('지적사항 및 개선방안(종합)'!$C$3:$C$286,$A13,'지적사항 및 개선방안(종합)'!$G$3:$G$286,E$6)","v":2},{"$f":"COUNTIFS('지적사항 및 개선방안(종합)'!$C$3:$C$286,$A13,'지적사항 및 개선방안(종합)'!$G$3:$G$286,F$6)","v":0},{"$f":"COUNTIFS('지적사항 및 개선방안(종합)'!$C$3:$C$286,$A13,'지적사항 및 개선방안(종합)'!$G$3:$G$286,G$6)","v":0},{"$f":"COUNTIFS('지적사항 및 개선방안(종합)'!$C$3:$C$286,$A13,'지적사항 및 개선방안(종합)'!$G$3:$G$286,H$6)","v":0},{"$f":"COUNTIFS('지적사항 및 개선방안(종합)'!$C$3:$C$286,$A13,'지적사항 및 개선방안(종합)'!$G$3:$G$286,I$6)","v":0},3]
["전기과",{"$f":"COUNTIFS('지적사항 및 개선방안(종합)'!$C$3:$C$286,$A14,'지적사항 및 개선방안(종합)'!$G$3:$G$286,B$6)","v":0},{"$f":"COUNTIFS('지적사항 및 개선방안(종합)'!$C$3:$C$286,$A14,'지적사항 및 개선방안(종합)'!$G$3:$G$286,C$6)","v":0},{"$f":"COUNTIFS('지적사항 및 개선방안(종합)'!$C$3:$C$286,$A14,'지적사항 및 개선방안(종합)'!$G$3:$G$286,D$6)","v":1},{"$f":"COUNTIFS('지적사항 및 개선방안(종합)'!$C$3:$C$286,$A14,'지적사항 및 개선방안(종합)'!$G$3:$G$286,E$6)","v":2},{"$f":"COUNTIFS('지적사항 및 개선방안(종합)'!$C$3:$C$286,$A14,'지적사항 및 개선방안(종합)'!$G$3:$G$286,F$6)","v":0},{"$f":"COUNTIFS('지적사항 및 개선방안(종합)'!$C$3:$C$286,$A14,'지적사항 및 개선방안(종합)'!$G$3:$G$286,G$6)","v":0},{"$f":"COUNTIFS('지적사항 및 개선방안(종합)'!$C$3:$C$286,$A14,'지적사항 및 개선방안(종합)'!$G$3:$G$286,H$6)","v":0},{"$f":"COUNTIFS('지적사항 및 개선방안(종합)'!$C$3:$C$286,$A14,'지적사항 및 개선방안(종합)'!$G$3:$G$286,I$6)","v":0},3]
["전자과",{"$f":"COUNTIFS('지적사항 및 개선방안(종합)'!$C$3:$C$286,$A15,'지적사항 및 개선방안(종합)'!$G$3:$G$286,B$6)","v":1},{"$f":"COUNTIFS('지적사항 및 개선방안(종합)'!$C$3:$C$286,$A15,'지적사항 및 개선방안(종합)'!$G$3:$G$286,C$6)","v":1},{"$f":"COUNTIFS('지적사항 및 개선방안(종합)'!$C$3:$C$286,$A15,'지적사항 및 개선방안(종합)'!$G$3:$G$286,D$6)","v":3},{"$f":"COUNTIFS('지적사항 및 개선방안(종합)'!$C$3:$C$286,$A15,'지적사항 및 개선방안(종합)'!$G$3:$G$286,E$6)","v":1},{"$f":"COUNTIFS('지적사항 및 개선방안(종합)'!$C$3:$C$286,$A15,'지적사항 및 개선방안(종합)'!$G$3:$G$286,F$6)","v":1},{"$f":"COUNTIFS('지적사항 및 개선방안(종합)'!$C$3:$C$286,$A15,'지적사항 및 개선방안(종합)'!$G$3:$G$286,G$6)","v":0},{"$f":"COUNTIFS('지적사항 및 개선방안(종합)'!$C$3:$C$286,$A15,'지적사항 및 개선방안(종합)'!$G$3:$G$286,H$6)","v":1},{"$f":"COUNTIFS('지적사항 및 개선방안(종합)'!$C$3:$C$286,$A15,'지적사항 및 개선방안(종합)'!$G$3:$G$286,I$6)","v":0},8]
["정보통신과",{"$f":"COUNTIFS('지적사항 및 개선방안(종합)'!$C$3:$C$286,$A16,'지적사항 및 개선방안(종합)'!$G$3:$G$286,B$6)","v":0},{"$f":"COUNTIFS('지적사항 및 개선방안(종합)'!$C$3:$C$286,$A16,'지적사항 및 개선방안(종합)'!$G$3:$G$286,C$6)","v":0},{"$f":"COUNTIFS('지적사항 및 개선방안(종합)'!$C$3:$C$286,$A16,'지적사항 및 개선방안(종합)'!$G$3:$G$286,D$6)","v":5},{"$f":"COUNTIFS('지적사항 및 개선방안(종합)'!$C$3:$C$286,$A16,'지적사항 및 개선방안(종합)'!$G$3:$G$286,E$6)","v":3},{"$f":"COUNTIFS('지적사항 및 개선방안(종합)'!$C$3:$C$286,$A16,'지적사항 및 개선방안(종합)'!$G$3:$G$286,F$6)","v":0},{"$f":"COUNTIFS('지적사항 및 개선방안(종합)'!$C$3:$C$286,$A16,'지적사항 및 개선방안(종합)'!$G$3:$G$286,G$6)","v":0},{"$f":"COUNTIFS('지적사항 및 개선방안(종합)'!$C$3:$C$286,$A16,'지적사항 및 개선방안(종합)'!$G$3:$G$286,H$6)","v":0},{"$f":"COUNTIFS('지적사항 및 개선방안(종합)'!$C$3:$C$286,$A16,'지적사항 및 개선방안(종합)'!$G$3:$G$286,I$6)","v":0},8]
["지능로봇과",{"$f":"COUNTIFS('지적사항 및 개선방안(종합)'!$C$3:$C$286,$A17,'지적사항 및 개선방안(종합)'!$G$3:$G$286,B$6)","v":0},{"$f":"COUNTIFS('지적사항 및 개선방안(종합)'!$C$3:$C$286,$A17,'지적사항 및 개선방안(종합)'!$G$3:$G$286,C$6)","v":0},{"$f":"COUNTIFS('지적사항 및 개선방안(종합)'!$C$3:$C$286,$A17,'지적사항 및 개선방안(종합)'!$G$3:$G$286,D$6)","v":6},{"$f":"COUNTIFS('지적사항 및 개선방안(종합)'!$C$3:$C$286,$A17,'지적사항 및 개선방안(종합)'!$G$3:$G$286,E$6)","v":0},{"$f":"COUNTIFS('지적사항 및 개선방안(종합)'!$C$3:$C$286,$A17,'지적사항 및 개선방안(종합)'!$G$3:$G$286,F$6)","v":0},{"$f":"COUNTIFS('지적사항 및 개선방안(종합)'!$C$3:$C$286,$A17,'지적사항 및 개선방안(종합)'!$G$3:$G$286,G$6)","v":0},{"$f":"COUNTIFS('지적사항 및 개선방안(종합)'!$C$3:$C$286,$A17,'지적사항 및 개선방안(종합)'!$G$3:$G$286,H$6)","v":0},{"$f":"COUNTIFS('지적사항 및 개선방안(종합)'!$C$3:$C$286,$A17,'지적사항 및 개선방안(종합)'!$G$3:$G$286,I$6)","v":0},6]
["컴퓨터소프트웨어과",{"$f":"COUNTIFS('지적사항 및 개선방안(종합)'!$C$3:$C$286,$A18,'지적사항 및 개선방안(종합)'!$G$3:$G$286,B$6)","v":0},{"$f":"COUNTIFS('지적사항 및 개선방안(종합)'!$C$3:$C$286,$A18,'지적사항 및 개선방안(종합)'!$G$3:$G$286,C$6)","v":0},{"$f":"COUNTIFS('지적사항 및 개선방안(종합)'!$C$3:$C$286,$A18,'지적사항 및 개선방안(종합)'!$G$3:$G$286,D$6)","v":2},{"$f":"COUNTIFS('지적사항 및 개선방안(종합)'!$C$3:$C$286,$A18,'지적사항 및 개선방안(종합)'!$G$3:$G$286,E$6)","v":7},{"$f":"COUNTIFS('지적사항 및 개선방안(종합)'!$C$3:$C$286,$A18,'지적사항 및 개선방안(종합)'!$G$3:$G$286,F$6)","v":0},{"$f":"COUNTIFS('지적사항 및 개선방안(종합)'!$C$3:$C$286,$A18,'지적사항 및 개선방안(종합)'!$G$3:$G$286,G$6)","v":0},{"$f":"COUNTIFS('지적사항 및 개선방안(종합)'!$C$3:$C$286,$A18,'지적사항 및 개선방안(종합)'!$G$3:$G$286,H$6)","v":0},{"$f":"COUNTIFS('지적사항 및 개선방안(종합)'!$C$3:$C$286,$A18,'지적사항 및 개선방안(종합)'!$G$3:$G$286,I$6)","v":0},9]
["컴퓨터정보보안과",{"$f":"COUNTIFS('지적사항 및 개선방안(종합)'!$C$3:$C$286,$A19,'지적사항 및 개선방안(종합)'!$G$3:$G$286,B$6)","v":0},{"$f":"COUNTIFS('지적사항 및 개선방안(종합)'!$C$3:$C$286,$A19,'지적사항 및 개선방안(종합)'!$G$3:$G$286,C$6)","v":0},{"$f":"COUNTIFS('지적사항 및 개선방안(종합)'!$C$3:$C$286,$A19,'지적사항 및 개선방안(종합)'!$G$3:$G$286,D$6)","v":1},{"$f":"COUNTIFS('지적사항 및 개선방안(종합)'!$C$3:$C$286,$A19,'지적사항 및 개선방안(종합)'!$G$3:$G$286,E$6)","v":6},{"$f":"COUNTIFS('지적사항 및 개선방안(종합)'!$C$3:$C$286,$A19,'지적사항 및 개선방안(종합)'!$G$3:$G$286,F$6)","v":0},{"$f":"COUNTIFS('지적사항 및 개선방안(종합)'!$C$3:$C$286,$A19,'지적사항 및 개선방안(종합)'!$G$3:$G$286,G$6)","v":0},{"$f":"COUNTIFS('지적사항 및 개선방안(종합)'!$C$3:$C$286,$A19,'지적사항 및 개선방안(종합)'!$G$3:$G$286,H$6)","v":0},{"$f":"COUNTIFS('지적사항 및 개선방안(종합)'!$C$3:$C$286,$A19,'지적사항 및 개선방안(종합)'!$G$3:$G$286,I$6)","v":0},7]
["토목과",{"$f":"COUNTIFS('지적사항 및 개선방안(종합)'!$C$3:$C$286,$A20,'지적사항 및 개선방안(종합)'!$G$3:$G$286,B$6)","v":0},{"$f":"COUNTIFS('지적사항 및 개선방안(종합)'!$C$3:$C$286,$A20,'지적사항 및 개선방안(종합)'!$G$3:$G$286,C$6)","v":1},{"$f":"COUNTIFS('지적사항 및 개선방안(종합)'!$C$3:$C$286,$A20,'지적사항 및 개선방안(종합)'!$G$3:$G$286,D$6)","v":3},{"$f":"COUNTIFS('지적사항 및 개선방안(종합)'!$C$3:$C$286,$A20,'지적사항 및 개선방안(종합)'!$G$3:$G$286,E$6)","v":1},{"$f":"COUNTIFS('지적사항 및 개선방안(종합)'!$C$3:$C$286,$A20,'지적사항 및 개선방안(종합)'!$G$3:$G$286,F$6)","v":2},{"$f":"COUNTIFS('지적사항 및 개선방안(종합)'!$C$3:$C$286,$A20,'지적사항 및 개선방안(종합)'!$G$3:$G$286,G$6)","v":0},{"$f":"COUNTIFS('지적사항 및 개선방안(종합)'!$C$3:$C$286,$A20,'지적사항 및 개선방안(종합)'!$G$3:$G$286,H$6)","v":2},{"$f":"COUNTIFS('지적사항 및 개선방안(종합)'!$C$3:$C$286,$A20,'지적사항 및 개선방안(종합)'!$G$3:$G$286,I$6)","v":0},{"$f":"SUM(B20:I20)","v":9}]
["호텔외식조리과",{"$f":"COUNTIFS('지적사항 및 개선방안(종합)'!$C$3:$C$286,$A21,'지적사항 및 개선방안(종합)'!$G$3:$G$286,B$6)","v":0},{"$f":"COUNTIFS('지적사항 및 개선방안(종합)'!$C$3:$C$286,$A21,'지적사항 및 개선방안(종합)'!$G$3:$G$286,C$6)","v":0},{"$f":"COUNTIFS('지적사항 및 개선방안(종합)'!$C$3:$C$286,$A21,'지적사항 및 개선방안(종합)'!$G$3:$G$286,D$6)","v":2},{"$f":"COUNTIFS('지적사항 및 개선방안(종합)'!$C$3:$C$286,$A21,'지적사항 및 개선방안(종합)'!$G$3:$G$286,E$6)","v":1},{"$f":"COUNTIFS('지적사항 및 개선방안(종합)'!$C$3:$C$286,$A21,'지적사항 및 개선방안(종합)'!$G$3:$G$286,F$6)","v":0},{"$f":"COUNTIFS('지적사항 및 개선방안(종합)'!$C$3:$C$286,$A21,'지적사항 및 개선방안(종합)'!$G$3:$G$286,G$6)","v":0},{"$f":"COUNTIFS('지적사항 및 개선방안(종합)'!$C$3:$C$286,$A21,'지적사항 및 개선방안(종합)'!$G$3:$G$286,H$6)","v":0},{"$f":"COUNTIFS('지적사항 및 개선방안(종합)'!$C$3:$C$286,$A21,'지적사항 및 개선방안(종합)'!$G$3:$G$286,I$6)","v":0},3]
[null,{"$f":"COUNTIFS('지적사항 및 개선방안(종합)'!$C$3:$C$286,$A22,'지적사항 및 개선방안(종합)'!$G$3:$G$286,B$6)","v":0},{"$f":"COUNTIFS('지적사항 및 개선방안(종합)'!$C$3:$C$286,$A22,'지적사항 및 개선방안(종합)'!$G$3:$G$286,C$6)","v":0},{"$f":"COUNTIFS('지적사항 및 개선방안(종합)'!$C$3:$C$286,$A22,'지적사항 및 개선방안(종합)'!$G$3:$G$286,D$6)","v":0},{"$f":"COUNTIFS('지적사항 및 개선방안(종합)'!$C$3:$C$286,$A22,'지적사항 및 개선방안(종합)'!$G$3:$G$286,E$6)","v":0},{"$f":"COUNTIFS('지적사항 및 개선방안(종합)'!$C$3:$C$286,$A22,'지적사항 및 개선방안(종합)'!$G$3:$G$286,F$6)","v":0},{"$f":"COUNTIFS('지적사항 및 개선방안(종합)'!$C$3:$C$286,$A22,'지적사항 및 개선방안(종합)'!$G$3:$G$286,G$6)","v":0},{"$f":"COUNTIFS('지적사항 및 개선방안(종합)'!$C$3:$C$286,$A22,'지적사항 및 개선방안(종합)'!$G$3:$G$286,H$6)","v":0},{"$f":"COUNTIFS('지적사항 및 개선방안(종합)'!$C$3:$C$286,$A22,'지적사항 및 개선방안(종합)'!$G$3:$G$286,I$6)","v":0},0]
["계",{"$f":"SUM(B7:B22)","v":5},{"$f":"SUM(C7:C22)","v":4},{"$f":"SUM(D7:D22)","v":38},{"$f":"SUM(E7:E22)","v":31},{"$f":"SUM(F7:F22)","v":12},{"$f":"SUM(G7:G22)","v":2},{"$f":"SUM(H7:H22)","v":7},{"$f":"SUM(I7:I22)","v":6},{"$f":"SUM(J7:J22)","v":105}]
["백분율(%)",{"$f":"B23/J23*100","v":4.7619047619047619},{"$f":"C23/J23*100","v":3.8095238095238098},{"$f":"D23/J23*100","v":36.19047619047619},{"$f":"E23/J23*100","v":29.523809523809526},{"$f":"F23/J23*100","v":11.428571428571429},{"$f":"G23/J23*100","v":1.9047619047619049},{"$f":"H23/J23*100","v":6.666666666666667},{"$f":"I23/J23*100","v":5.7142857142857144},{"$f":"SUM(B24:I24)","v":99.999999999999986}]

{"sheet":"지적사항 및 개선방안(종합)","index":3,"n_rows":155,"n_cols":10,"rows_kept":155,"cut":false,"hidden":false,"merged":[[0,0,0,9]]}
["2017년 부천대학교 연구실 정기안전점검 점검사항 및 개선방안"]
[null,"NO.","학과명","연구실명","건물명","호실","점검분야","점검사항","개선방안","비고"]
[null,1,"간호과","시뮬레이션센터","밀레니엄관","H406","전기안전","비접지형 멀티탭·콘센트 사용","접지형 콘센트·멀티탭 교체 사용"]
[null,1,"간호과","시뮬레이션센터","밀레니엄관","H406","생물안전","의료폐기물 사용개시일 미기재","의료폐기물은 최초 사용일로부터 15일을 초과하여 보관해서는 안 됨(손상성 폐기물 30일)"]
[null,2,"간호과","심화학습실습실","밀레니엄관","H405","전기안전","연구실 내 개인전열기 보유","연구실 내 개인전열기 사용 금지"]
[null,2,"간호과","심화학습실습실","밀레니엄관","H405","생물안전","의료폐기물 사용개시일 미기재","의료폐기물은 최초 사용일로부터 15일을 초과하여 보관해서는 안 됨(손상성 폐기물 30일)"]
[null,2,"간호과","심화학습실습실","밀레니엄관","H405","생물안전","의료폐기물 보관기간 초과","손상성 폐기물은 사용개시일로부터 30일이 지나기 전에 반출하도록 함"]
[null,3,"간호과","기초간호과학실습실","밀레니엄관","H407","생물안전","의료폐기물 사용개시일 미기재","의료폐기물은 최초 사용일로부터 15일을 초과하여 보관해서는 안 됨(손상성 폐기물 30일)"]
[null,4,"간호과","기본간호학실습실","밀레니엄관","H401","생물안전","의료폐기물 사용개시일 미기재","의료폐기물은 최초 사용일로부터 15일을 초과하여 보관해서는 안 됨(손상성 폐기물 30일)"]
[null,4,"간호과","기본간호학실습실","밀레니엄관","H401","생물안전","의료폐기물 보관기간 초과","병리계 폐기물, 손상성 폐기물은 각각 사용개시일로부터 15일, 30일이 지나기 전에 반출하도록 함"]
[null,5,"건축과","환경연구실","공학관","AB107","전기안전","비접지형 멀티탭·콘센트 사용","접지형 콘센트·멀티탭 교체 사용"]
[null,5,"건축과","환경연구실","공학관","AB107","전기안전","분전반 전면 기구 비치로 개폐 미흡","화재 및 위험상황시 전원을 차단하기 어려움으로 분전반 점검 가능하도록 주변 정리 "]
[null,6,"건축과","컴퓨터그래픽실","공학관","A0403","N/A"]
[null,7,"건축과","프레젠테이션실","공학관","A0404","N/A"]
[null,8,"건축과","첨단강의실1","공학관","A0502","N/A"]
[null,9,"건축과","첨단강의실2","공학관","A0503","N/A"]
[null,10,"건축과","첨단강의실3","공학관","A0507","N/A"]
[null,11,"건축과","설계STUDIO-A","공학관","A0508","N/A"]
[null,12,"건축과","설계STUDIO-B","공학관","A0509","N/A"]
[null,13,"건축과","모형제작실","공학관","A0602","기계안전","이동식 사다리에 전도 방지 아웃트리거가 미설치","이동식 사다리 양단에 전도 방지 아웃트리거를 설치하여 사다리가 넘어지거나 미끄러지지 않게 조치"]
[null,14,"건축과","건축CAD실","예지관","C0106","N/A"]
[null,15,"산업디자인과","제1컴퓨터실습실","한길관","E0422","실습실 반납"]
[null,16,"산업디자인과","디자인실습실6","한길관","E0515","소방안전","비상구 유도등 미설치","출입구는 비상시 신속한 대피가 가능하도록 유도등, 비상구, 출입구 표지 등이 부착되어 있어야 함"]
[null,17,"산업디자인과","제2컴퓨터실습실","한길관","E0432","실습실 반납"]
[null,18,"산업디자인과","컴퓨터교육실3","한길관","E0510","N/A"]
[null,19,"산업디자인과","컴퓨터교육실2","한길관","E0517","N/A"]
[null,20,"산업디자인과","컴퓨터교육실1","한길관","E0520","N/A"]
[null,21,"산업디자인과","팀 세미나실","한길관","E0511","전기안전","분전반 각 회로별 명판 미부착","점검 또는 사고 발생 시 신속한 확인 및 조치가 가능하도록 분전반 각 회로별 명판을 부착"]
[null,22,"산업디자인과","운송기기 크레이 모델링실","한길관","EB1","일반안전","천장텍스 파손으로 인한 2차사고 위험","천장텍스 파손 된 부분 수리 및 보강 권장"]
[null,23,"산업디자인과","운송기기 크레이 모델링 준비실","한길관","EB131","기계안전","둥근톱기계의 날접촉 예방 장치 및 반발예방장치(분할날)가 미설치","미설치 된 날 접촉 예방방지장치 및 반발예방장치(분할날)를 설치해서 목재 절단 시 날 접촉 및 목재반발에 의한 사고 방지"]
[null,23,"산업디자인과","운송기기 크레이 모델링 준비실","한길관","EB131","기계안전","띠톱기계의 날 부위에 날접촉 예방 장치 덮개 미설치","톱날 접촉부위에 예방장치(덮개)를 가변식으로 장착 후 톱날의 높이를 조정하여 작업 시 실험자의 상해 방지"]
[null,24,"산업디자인과","컴퓨터교육실4","한길관","E0523","N/A"]
[null,25,"산업디자인과","3D프린트가공실","한길관","EB1","전기안전","미접지 실험장비, 기계사용 (확인방법 ☞ 접지선 접속상태, 접지선 탈락, 접지선 접촉 불량, 접지선 단선 여부, 접지저항 기준 미달, 접지선 미시공)","접지상태 확인 후 접지시설 보완"]
[null,26,"산업디자인과","디자인실습실4","한길관","E0502","소방안전","소화기 미비치","소화기는 눈에 잘 띄는 위치에 비치 및 표식 부착 필요"]
[null,27,"산업디자인과","디자인실습실5","한길관","E0504","소방안전","소화기 미비치","소화기는 눈에 잘 띄는 위치에 비치 및 표식 부착 필요"]
[null,28,"산업디자인과","디자인실습실3","한길관","E0539","소방안전","소화기 미비치","소화기는 눈에 잘 띄는 위치에 비치 및 표식 부착 필요"]
[null,29,"산업디자인과","디자인실습실2","한길관","E0536","소방안전","소화기 미비치","소화기는 눈에 잘 띄는 위치에 비치 및 표식 부착 필요"]
[null,30,"산업디자인과","디자인실습실1","한길관","E0533","소방안전","소화기 미비치","소화기는 눈에 잘 띄는 위치에 비치 및 표식 부착 필요"]
[null,31,"산업디자인과","4학년 전공연구실","한길관","E0530","N/A"]
[null,32,"섬유패션비지니스과","섬유패션CAD실","한길관","E0401","N/A"]
[null,33,"섬유패션비지니스과","패션소재기획실","한길관","E0403","강의실 변경"]
[null,34,"섬유패션비지니스과","섬유패션 실습실(Ⅱ)","한길관","E0406","N/A"]
[null,35,"섬유패션비지니스과","섬유패션 실습실(Ⅲ)","한길관","E0409","전기안전","비접지형 멀티탭·콘센트 사용","접지형 콘센트·멀티탭 교체 사용"]
[null,36,"섬유패션비지니스과","패션조형실습실(Ⅰ)","한길관","E0502","공실(학교 반납)"]
[null,37,"섬유패션비지니스과","실습실(2)","한길관","E0501","공실(학교 반납)"]
[null,38,"섬유패션비지니스과","실습재료실","한길관","E0101","화공안전","부식물질, 독성물질 관리 미흡으로 누출 및 부식 등이 발생하여 연구환경 저하","화학약품 취급기준에 적합하게 관리하여야 하고 약품 특성별로 구분하여 적합한 성능을 갖춘 전용 시약장(밀폐형환기시약장, 인화물질보관장, 부식물질보관장)에 보관하여야 함"]
[null,38,"섬유패션비지니스과","실습재료실","한길관","E0101","기계안전","이동식 사다리에 전도 방지 아웃트리거가 미설치","이동식 사다리 양단에 전도 방지 아웃트리거를 설치하여 사다리가 넘어지거나 미끄러지지 않게 조치"]
[null,39,"섬유패션비지니스과","섬유패션 실습실(Ⅰ)","한길관","E0102","일반안전","실험대 위 초자기구 불안정한 적재","전도 및 낙하의 위험이 없는 위치로 이동하여 보관하거나 바구니등을 이용하여 보관"]
[null,39,"섬유패션비지니스과","섬유패션 실습실(Ⅰ)","한길관","E0102","일반안전","통로이동 중 전도위험","통로이동 중 전도위험이 없도록 경사로 된 안전덮개 설치 권장"]
[null,39,"섬유패션비지니스과","섬유패션 실습실(Ⅰ)","한길관","E0102","전기안전","비접지형 멀티탭·콘센트 사용","접지형 콘센트·멀티탭 교체 사용"]
[null,39,"섬유패션비지니스과","섬유패션 실습실(Ⅰ)","한길관","E0102","화공안전","라벨링이 안되어 있어 시료, 폐액, 시약인지 확인 불가능함 ","라벨링을 하여 미연에 사고를 방지하기 바람(증류수일 경우에도 라벨링 기입을 권장함)"]
[null,39,"섬유패션비지니스과","섬유패션 실습실(Ⅰ)","한길관","E0102","화공안전","시약특성별 보관위치 미흡","화학약품 취급기준에 적합하게 관리하여야 하고 약품 특성별로 구분하여 적합한 성능을 갖춘 전용 시약장(밀폐형환기시약장, 인화물질보관장, 부식물질보관장)에 보관하여야 함"]
[null,39,"섬유패션비지니스과","섬유패션 실습실(Ⅰ)","한길관","E0102","화공안전","시약장내 유해인자를 장기간 사용하지 않고 보관","오염약품이나 사용기한 초과약품은 다른 시약과의 반응 및 오염의 우려가 있으므로 조속히 폐기처리 해야 함"]
[null,39,"섬유패션비지니스과","섬유패션 실습실(Ⅰ)","한길관","E0102","화공안전","폐액의 성상 구분 없이 보관 및 라벨 미부착","폐액은 폐산, 폐알칼리, 폐유기용제(할로겐,비할로겐), 폐유 등으로 분류 후 전도 되지 않도록 보관하며 절대로 하수구나 싱크대에 버리는 일이 없도록 해야 함"]
[null,39,"섬유패션비지니스과","섬유패션 실습실(Ⅰ)","한길관","E0102","가스안전","가스누출 감지경보차단장치 전원 OFF 상태","누출된 가스를 검지하여 자동으로 가스공급을 차단할 수 있는 가스누출경보차단장치의 전원을 항상 전원 ON상태로 유지해야 함"]
[null,40,"섬유패션비지니스과","NCS편직실습실","한길관","E0428","창고 변경"]
[null,41,"섬유패션비지니스과","섬유패션 제품제작실","한길관","E0429","소방안전","소화기 미비치","소화기는 눈에 잘 띄는 위치에 비치 및 표식 부착 필요"]
[null,42,"섬유패션비지니스과","섬유패션 전자상거래실","한길관","E0230","소방안전","소화기 미비치","소화기는 눈에 잘 띄는 위치에 비치 및 표식 부착 필요"]
[null,43,"섬유패션비지니스과","컴퓨터니트실험실","한길관","EB105","일반안전","천장텍스 파손으로 인한 2차사고 위험","천장텍스 파손 된 부분 수리 및 보강 권장"]
[null,43,"섬유패션비지니스과","컴퓨터니트실험실","한길관","EB105","가스안전","가스누출 감지경보차단장치 전원 OFF 상태","누출된 가스를 검지하여 자동으로 가스공급을 차단할 수 있는 가스누출경보차단장치의 전원을 항상 전원 ON상태로 유지해야 함"]
[null,44,"식품영양과","종합실험실","예지관","C0101","산업위생","실험기기에 대한 안전보건표지(금지, 경고, 안내표지 등) 미부착","연구활동종사자의 경각심 고취 및 안전사고 예방을 위하여 안전보건표지 부착"]
[null,44,"식품영양과","종합실험실","예지관","C0101","산업위생","농축기기에 대한 암후드 미설치","암후드 설치 및 환기설비 개선"]
[null,44,"식품영양과","종합실험실","예지관","C0101","화공안전","물질안전보건자료(MSDS) 미흡","물질안전보건자료의 내용은 전체 List가 확보된 문서를 확보하여 보관중인 주변이나 눈에 잘 띄는 장소에 게시하거나 그 밖에 고용노동부장관이 정하여 고시한 바에 따라 제공하여야 함"]
[null,44,"식품영양과","종합실험실","예지관","C0101","화공안전","시약장내 유해인자를 장기간 사용하지 않고 보관","오염약품이나 사용기한 초과약품은 다른 시약과의 반응 및 오염의 우려가 있으므로 조속히 폐기처리 해야 함"]
[null,44,"식품영양과","종합실험실","예지관","C0101","화공안전","세척설비(비상샤워기, 세안기) 미설치","비상세안기의 설치위치는 강산이나 강염기를 취급하는 곳에는 바로 옆에, 그 외의 경우와 비상샤워기는 10초 이내에 도달할 수 있는 위치에 확실히 알아 볼 수 있는 표지와 함께 설치"]
[null,45,"식품영양과","실험준비실","예지관","C0102","전기안전","미접지 실험장비, 기계사용 (확인방법 ☞ 접지선 접속상태, 접지선 탈락, 접지선 접촉 불량, 접지선 단선 여부, 접지저항 기준 미달, 접지선 미시공)","접지상태 확인 후 접지시설 보완"]
[null,46,"식품영양과","기구실","예지관","C0103","화공안전","시약장내 유해인자를 장기간 사용하지 않고 보관","오염약품이나 사용기한 초과약품은 다른 시약과의 반응 및 오염의 우려가 있으므로 조속히 폐기처리 해야 함"]
[null,47,"식품영양과","종합실습실","예지관","C0306","N/A"]
[null,48,"식품영양과","조리과학실","예지관","C0307","N/A"]
[null,49,"식품영양과","조리실습실","예지관","C0308","N/A"]
[null,50,"식품영양과","서양조리실습실","예지관","C0408","전기안전","연구실 내 개인전열기 보유","연구실 내 개인전열기 사용 금지"]
[null,50,"식품영양과","서양조리실습실","예지관","C0408","전기안전","개수대 주위 방수형콘센트 파손","누전 등의 사고가 발생 하지 않도록 파손된 방수형콘센트 교체 사용 "]
[null,51,"식품영양과","관능평가실","예지관","C0509","전기안전","연구실 내 개인전열기 보유","연구실 내 개인전열기 사용 금지"]
[null,52,"영상&게임콘텐츠과","3D VISUAL실","한길관","E0416","N/A"]
[null,53,"영상&게임콘텐츠과","컴퓨터실","한길관","E0419","전기안전","비접지형 멀티탭·콘센트 사용","접지형 콘센트·멀티탭 교체 사용"]
[null,54,"영상&게임콘텐츠과","3D STATION실","한길관","E0438","전기안전","비접지형 멀티탭·콘센트 사용","접지형 콘센트·멀티탭 교체 사용"]
[null,55,"재활스포츠과","실습실B","기념관,체육관","I0205","N/A"]
[null,56,"재활스포츠과","실습실A","기념관,체육관","I0201","소방안전","소화기 미비치","소화기는 눈에 잘 띄는 위치에 비치 및 표식 부착 필요"]
[null,57,"재활스포츠과","운동재활실습실C","기념관,체육관","I0201","소방안전","소화기의 약제방출 압력 미달","축압식 소화기는 외형상 압력계가 설치되어 있으며 압력계는 녹색(7㎏/㎠ ～9.8㎏/㎠)을 지시하면 정상이고 압력미달이나 과충전되어 있으면 안 됨"]
[null,58,"재활스포츠과","댄스실","기념관,체육관","I0101","N/A"]
[null,59,"재활스포츠과","TRX실","기념관,체육관","IB104","N/A"]
[null,60,"재활스포츠과","체성분,체형분석실","기념관,체육관","IB101","전기안전","비접지형 멀티탭·콘센트 사용","접지형 콘센트·멀티탭 교체 사용"]
[null,61,"전기과","컴퓨터실습실","한길관","E0422","소방안전","비상구유도등 OFF 상태","비상구유도등은 항상 ON 상태를 유지하도록 관리 "]
[null,62,"전기과","전기실습실","한길관","E0432","전기안전","케이블 정리 상태 미흡 및 통행이동 중 전도위험","케이블타이 및 안전덮개를 이용하여 전선 관리 및 전선 피복 손상되지 않도록 함"]
[null,62,"전기과","전기실습실","한길관","E0432","소방안전","비상구유도등 OFF 상태","비상구유도등은 항상 ON 상태를 유지하도록 관리 "]
[null,63,"전자과","Project실습실","한길관","E0201","일반안전","정리정돈 미흡","주기적인 청소 및 정리를 통해 안전한 연구환경 조성"]
[null,63,"전자과","Project실습실","한길관","E0201","산업위생","납땜 작업 시 납연기 제거기 미설치로 연구활동종사자가 유해물질에 직접적으로 노출되고 있음","납땜 작업을 실시 할 때에는 납연기 제거기를 설치하고 개인보호구 착용하여야 함"]
[null,63,"전자과","Project실습실","한길관","E0201","화공안전","물질안전보건자료(MSDS) 미비치","보유중인 모든 유해인자에 대한 물질안전보건자료(MSDS)를 보관중인 주변이나 눈에 잘 띄는 장소에 게시하거나 그 밖에 고용노동부장관이 정하여 고시한 바에 따라 제공하여야 함"]
[null,63,"전자과","Project실습실","한길관","E0201","기계안전","이동식 사다리에 전도 방지 아웃트리거가 미설치","이동식 사다리 양단에 전도 방지 아웃트리거를 설치하여 사다리가 넘어지거나 미끄러지지 않게 조치"]
[null,64,"전자과","컴퓨터실습실","한길관","E0203","전기안전","케이블 정리 상태 미흡 및 통행이동 중 전도위험","케이블타이 및 안전덮개를 이용하여 전선 관리 및 전선 피복 손상되지 않도록 함"]
[null,65,"전자과","디지털공학실험실","한길관","E0207","N/A"]
[null,66,"전자과","반도체공정장비실1","한길관","E0212","N/A"]
[null,67,"전자과","반도체공정장비실2","한길관","E0213","N/A"]
[null,68,"전자과","전자공학실험실","한길관","E0216","전기안전","콘센트·멀티탭 구멍에 먼지가 쌓이게 되면 플러그를 꽂을 때 트렉킹 현상(전기스파크로 인한 전기화재)","콘센트 안전덮개를 사용하거나 주기적으로 청소 및 관리"]
[null,69,"전자과","반도체기초 실험실","한길관","E0236","소방안전","소화기 위치표지 미부착","소화기 위치표지를 부착하여 화재 시 빠르게 찾을 수 있도록 함"]
[null,70,"전자과","전자응용실험실","한길관","E0316","N/A"]
[null,71,"전자과","전자제어실험실","한길관","E0320","전기안전","분전반 전면 기구 비치로 개폐 미흡","화재 및 위험상황시 전원을 차단하기 어려움으로 분전반 점검 가능하도록 주변 정리 "]
[null,72,"전자과","취업아카데미 실험실","한길관","E0323","N/A"]
[null,73,"정보통신과","컴퓨터2실","꿈집","B1001","전기안전","분전반 각 회로별 명판 미부착","점검 또는 사고 발생 시 신속한 확인 및 조치가 가능하도록 분전반 각 회로별 명판을 부착"]
[null,74,"정보통신과","컴퓨터1실","꿈집","B1004","전기안전","비접지형 멀티탭·콘센트 사용","접지형 콘센트·멀티탭 교체 사용"]
[null,75,"정보통신과","응용소프트웨어실","꿈집","B1005","전기안전","분전반 전면 기구 비치로 개폐 미흡","화재 및 위험상황시 전원을 차단하기 어려움으로 분전반 점검 가능하도록 주변 정리 "]
[null,75,"정보통신과","응용소프트웨어실","꿈집","B1005","소방안전","좁은 통로로 실험실습자의 신속한 대피를 위한 통로 확보 협소","연구실에는 적어도 약 60cm의 통로 간격이 필요하며 비상 탈출용의 주 통로는 반드시 적어도 90cm 이상의 폭을 유지"]
[null,76,"정보통신과","응용전자실험실","꿈집","B1008","N/A"]
[null,77,"정보통신과","네트워크실","꿈집","B1102","N/A"]
[null,78,"정보통신과","아날로그실습실","꿈집","B1108","N/A"]
[null,79,"정보통신과","WEBMASTER실","꿈집","B1204","소방안전","출입문을 임의로 폐쇄하여 화재, 폭발 등 재난 발생 시 양방향 피난의 대피가 어려움","출입구 주변 1.8m 이내에는 장애물을 비치하지 않도록 하여 출입문 개폐가 용이하도록 관리바람"]
[null,80,"정보통신과","정보통신실습실","꿈집","B1215","전기안전","비접지형 멀티탭·콘센트 사용","접지형 콘센트·멀티탭 교체 사용"]
[null,81,"정보통신과","디지털통신실험실","꿈집","B1304","소방안전","비상구 유도등 미설치","출입구는 비상시 신속한 대피가 가능하도록 유도등, 비상구, 출입구 표지 등이 부착되어 있어야 함"]
[null,82,"정보통신과","e-교실","꿈집","B1305-1","전기안전","전선관리 미흡","피복되어 있는 절연전선 사용"]
[null,83,"정보통신과","캡스톤디자인Ⅲ","꿈집","B1305","N/A"]
[null,84,"지능로봇과","전동기제어실습실","한길관","E0218","N/A"]
[null,85,"지능로봇과","제1컴퓨터실습실","한길관","E0222","전기안전","케이블 정리 상태 미흡 및 통행이동 중 전도위험","케이블타이 및 안전덮개를 이용하여 전선 관리 및 전선 피복 손상되지 않도록 함"]
[null,86,"지능로봇과","기초전자실험실","한길관","E0228","전기안전","분전반 각 회로별 명판 미부착","점검 또는 사고 발생 시 신속한 확인 및 조치가 가능하도록 분전반 각 회로별 명판을 부착"]
[null,86,"지능로봇과","기초전자실험실","한길관","E0228","전기안전","비접지형 멀티탭·콘센트 사용","접지형 콘센트·멀티탭 교체 사용"]
[null,87,"지능로봇과","로봇공학실","한길관","E0301","전기안전","미접지 분전반 (확인방법 ☞ 접지선 접속상태, 접지선 탈락, 접지선 접촉 불량, 접지선 단선 여부, 접지저항 기준 미달, 접지선 미시공)","접지상태 확인 후 접지시설 보완"]
[null,88,"지능로봇과","제2컴퓨터실습실","한길관","E0338","전기안전","분전반 각 회로별 명판 미부착","점검 또는 사고 발생 시 신속한 확인 및 조치가 가능하도록 분전반 각 회로별 명판을 부착"]
[null,89,"지능로봇과","시퀸스실습실","한길관","E0343","전기안전","분전반 각 회로별 명판 미부착","점검 또는 사고 발생 시 신속한 확인 및 조치가 가능하도록 분전반 각 회로별 명판을 부착"]
[null,90,"컴퓨터소프트웨어과","제2프로젝트실","꿈집","B0512","N/A"]
[null,91,"컴퓨터소프트웨어과","제1공용컴퓨터실","꿈집","B0601","소방안전","소화기 위치표지 미부착","소화기 위치표지를 부착하여 화재 시 빠르게 찾을 수 있도록 함"]
[null,92,"컴퓨터소프트웨어과","제2공용컴퓨터실","꿈집","B0604","소방안전","소화기 위치표지 미부착","소화기 위치표지를 부착하여 화재 시 빠르게 찾을 수 있도록 함"]
[null,93,"컴퓨터소프트웨어과","멀티미디어실","꿈집","B0603","전기안전","연구실 내 개인전열기 보유","연구실 내 개인전열기 사용 금지"]
[null,93,"컴퓨터소프트웨어과","멀티미디어실","꿈집","B0603","소방안전","소화기 위치표지 미부착","소화기 위치표지를 부착하여 화재 시 빠르게 찾을 수 있도록 함"]
[null,93,"컴퓨터소프트웨어과","멀티미디어실","꿈집","B0603","소방안전","비상구 유도등 미설치","출입구는 비상시 신속한 대피가 가능하도록 유도등, 비상구, 출입구 표지 등이 부착되어 있어야 함"]
[null,94,"컴퓨터소프트웨어과","제3공용컴퓨터실","꿈집","B0608","소방안전","소화기 위치표지 미부착","소화기 위치표지를 부착하여 화재 시 빠르게 찾을 수 있도록 함"]
["ㅑ",95,"컴퓨터소프트웨어과","제4공용컴퓨터실","꿈집","B0611","소방안전","소화기 위치표지 미부착","소화기 위치표지를 부착하여 화재 시 빠르게 찾을 수 있도록 함"]
[null,96,"컴퓨터소프트웨어과","제1프로젝트실","꿈집","B0607","전기안전","비접지형 멀티탭·콘센트 사용","접지형 콘센트·멀티탭 교체 사용"]
[null,97,"컴퓨터소프트웨어과","제5공용컴퓨터실","꿈집","B0614","소방안전","소화기 위치표지 미부착","소화기 위치표지를 부착하여 화재 시 빠르게 찾을 수 있도록 함"]
[null,98,"컴퓨터정보보안과","제3컴퓨터실","꿈집","B1101","소방안전","소화기 위치표지 미부착","소화기 위치표지를 부착하여 화재 시 빠르게 찾을 수 있도록 함"]
[null,98,"컴퓨터정보보안과","제3컴퓨터실","꿈집","B1101","소방안전","비상구 유도등 미설치","출입구는 비상시 신속한 대피가 가능하도록 유도등, 비상구, 출입구 표지 등이 부착되어 있어야 함"]
[null,99,"컴퓨터정보보안과","제2컴퓨터실","꿈집","B1103","소방안전","소화기 위치표지 미부착","소화기 위치표지를 부착하여 화재 시 빠르게 찾을 수 있도록 함"]
[null,99,"컴퓨터정보보안과","제2컴퓨터실","꿈집","B1103","소방안전","출입문을 임의로 폐쇄하여 화재, 폭발 등 재난 발생 시 양방향 피난의 대피가 어려움","출입구 주변 1.8m 이내에는 장애물을 비치하지 않도록 하여 출입문 개폐가 용이하도록 관리바람"]
[null,100,"컴퓨터정보보안과","제1컴퓨터실","꿈집","B1110","전기안전","비접지형 멀티탭·콘센트 사용","접지형 콘센트·멀티탭 교체 사용"]
[null,100,"컴퓨터정보보안과","제1컴퓨터실","꿈집","B1110","소방안전","소화기 위치표지 미부착","소화기 위치표지를 부착하여 화재 시 빠르게 찾을 수 있도록 함"]
[null,101,"컴퓨터정보보안과","제5컴퓨터실","꿈집","B1306","소방안전","소화기 위치표지 미부착","소화기 위치표지를 부착하여 화재 시 빠르게 찾을 수 있도록 함"]
[null,102,"토목과","토질실험실","공학관","A0101","N/A"]
[null,103,"토목과","토질실험준비실","공학관","A0102","N/A"]
[null,104,"토목과","환경실험실","공학관","A0201","소방안전","소화기 위치표지 미부착","소화기 위치표지를 부착하여 화재 시 빠르게 찾을 수 있도록 함"]
[null,105,"토목과","측량실","공학관","A0205","N/A"]
[null,106,"토목과","CAD실","공학관","A0309","전기안전","분전반 각 회로별 명판 미부착","점검 또는 사고 발생 시 신속한 확인 및 조치가 가능하도록 분전반 각 회로별 명판을 부착"]
[null,107,"토목과","전산구조설계실","공학관","A0310","전기안전","분전반 각 회로별 명판 미부착","점검 또는 사고 발생 시 신속한 확인 및 조치가 가능하도록 분전반 각 회로별 명판을 부착"]
[null,108,"토목과","구조재료실험실","공학관","AB101","산업위생","보유시약에 대한 GHS안전보건표지 미부착 및 부착미흡","보유시약에 대한 GHS안전보건표지 부착"]
[null,108,"토목과","구조재료실험실","공학관","AB101","전기안전","누전차단기 미부착 된 작업선(릴선) 사용","미연의 사고를 방지하기 위해 차단기가 부착된 작업선 사용을 권고"]
[null,108,"토목과","구조재료실험실","공학관","AB101","화공안전","시약장내 유해인자를 장기간 사용하지 않고 보관","오염약품이나 사용기한 초과약품은 다른 시약과의 반응 및 오염의 우려가 있으므로 조속히 폐기처리 해야 함"]
[null,108,"토목과","구조재료실험실","공학관","AB101","화공안전","세척설비(비상샤워기, 세안기) 미설치","비상세안기의 설치위치는 강산이나 강염기를 취급하는 곳에는 바로 옆에, 그 외의 경우와 비상샤워기는 10초 이내에 도달할 수 있는 위치에 확실히 알아 볼 수 있는 표지와 함께 설치"]
[null,108,"토목과","구조재료실험실","공학관","AB101","기계안전","공작기계 드릴머신은 드릴작업 및 칩 제거 작업 시 회전하는 드릴 날에 작업자의 장갑, 소매 등 말림 위험과 안면부(눈 등) 및 팔 등에 칩비산에 의한 상해 우려가 있음","실습자의 안전을 위해서 드릴머신 칩비산 부위에 탁상용 드릴 날에 180° 열림이 가능한 투명 원통형 방호덮개 설치"]
[null,108,"토목과","구조재료실험실","공학관","AB101","기계안전","위험기계 안전수칙 미게시","안전수칙을 판넬로 제작하여 실습장 내에 게시하고 작업 시작 전 숙지하게 한 후 작업에 임할 수 있게 조치"]
[null,109,"토목과","수리실험실","공학관","AB102","N/A"]
[null,110,"호텔외식조리과","한국조리실","예지관","C0201","전기안전","개수대 주위 방수형콘센트 파손","누전 등의 사고가 발생 하지 않도록 파손된 방수형콘센트 교체 사용 "]
[null,111,"호텔외식조리과","제과제빵실","예지관","C0203","N/A"]
[null,112,"호텔외식조리과","식음료 및 식공간 연출","예지관","C0205","전기안전","케이블 정리 상태 미흡 및 통행이동 중 전도위험","케이블타이 및 안전덮개를 이용하여 전선 관리 및 전선 피복 손상되지 않도록 함"]
[null,113,"호텔외식조리과","양식조리실","예지관","C0301","N/A"]
[null,114,"호텔외식조리과","푸드스튜디오","예지관","C0401","소방안전","소화전 사용법 미부착","옥내소화전설비의 함에는 그 표면에 \"소화전\"이라는 표시와 사용요령을 기재한 표지판(외국어 병기)을 붙여야 함"]
[null,115,"호텔외식조리과","메뉴 개발실1","예지관","C0501","N/A"]
[null,116,"호텔외식조리과","메뉴 개발실2","예지관","C0502","N/A"]
["ㅑ"]